| Back to Mac ARM64 build report for BioC 3.17 |
|
This page was generated on 2023-10-20 09:38:03 -0400 (Fri, 20 Oct 2023).
| Hostname | OS | Arch (*) | R version | Installed pkgs |
|---|---|---|---|---|
| kjohnson2 | macOS 12.6.1 Monterey | arm64 | 4.3.1 (2023-06-16) -- "Beagle Scouts" | 4347 |
| Click on any hostname to see more info about the system (e.g. compilers) (*) as reported by 'uname -p', except on Windows and Mac OS X | ||||
| Package 845/2230 | Hostname | OS / Arch | INSTALL | BUILD | CHECK | BUILD BIN | ||||||||
| GladiaTOX 1.16.0 (landing page) PMP S.A. R Support
| kjohnson2 | macOS 12.6.1 Monterey / arm64 | OK | OK | OK | OK | ||||||||
|
To the developers/maintainers of the GladiaTOX package: - Use the following Renviron settings to reproduce errors and warnings. - If 'R CMD check' started to fail recently on the Linux builder(s) over a missing dependency, add the missing dependency to 'Suggests:' in your DESCRIPTION file. See Renviron.bioc for more information. |
| Package: GladiaTOX |
| Version: 1.16.0 |
| Command: /Library/Frameworks/R.framework/Resources/bin/R CMD check --install=check:GladiaTOX.install-out.txt --library=/Library/Frameworks/R.framework/Resources/library --no-vignettes --timings GladiaTOX_1.16.0.tar.gz |
| StartedAt: 2023-10-17 22:38:14 -0400 (Tue, 17 Oct 2023) |
| EndedAt: 2023-10-17 22:41:53 -0400 (Tue, 17 Oct 2023) |
| EllapsedTime: 218.9 seconds |
| RetCode: 0 |
| Status: OK |
| CheckDir: GladiaTOX.Rcheck |
| Warnings: 0 |
##############################################################################
##############################################################################
###
### Running command:
###
### /Library/Frameworks/R.framework/Resources/bin/R CMD check --install=check:GladiaTOX.install-out.txt --library=/Library/Frameworks/R.framework/Resources/library --no-vignettes --timings GladiaTOX_1.16.0.tar.gz
###
##############################################################################
##############################################################################
* using log directory ‘/Users/biocbuild/bbs-3.17-bioc-mac-arm64/meat/GladiaTOX.Rcheck’
* using R version 4.3.1 (2023-06-16)
* using platform: aarch64-apple-darwin20 (64-bit)
* R was compiled by
Apple clang version 14.0.0 (clang-1400.0.29.202)
GNU Fortran (GCC) 12.2.0
* running under: macOS Monterey 12.6.7
* using session charset: UTF-8
* using option ‘--no-vignettes’
* checking for file ‘GladiaTOX/DESCRIPTION’ ... OK
* checking extension type ... Package
* this is package ‘GladiaTOX’ version ‘1.16.0’
* checking package namespace information ... OK
* checking package dependencies ... OK
* checking if this is a source package ... OK
* checking if there is a namespace ... OK
* checking for hidden files and directories ... OK
* checking for portable file names ... OK
* checking for sufficient/correct file permissions ... OK
* checking whether package ‘GladiaTOX’ can be installed ... OK
* checking installed package size ... NOTE
installed size is 5.3Mb
sub-directories of 1Mb or more:
sql 3.8Mb
* checking package directory ... OK
* checking ‘build’ directory ... OK
* checking DESCRIPTION meta-information ... OK
* checking top-level files ... OK
* checking for left-over files ... OK
* checking index information ... OK
* checking package subdirectories ... OK
* checking R files for non-ASCII characters ... OK
* checking R files for syntax errors ... OK
* checking whether the package can be loaded ... OK
* checking whether the package can be loaded with stated dependencies ... OK
* checking whether the package can be unloaded cleanly ... OK
* checking whether the namespace can be loaded with stated dependencies ... OK
* checking whether the namespace can be unloaded cleanly ... OK
* checking startup messages can be suppressed ... OK
* checking dependencies in R code ... OK
* checking S3 generic/method consistency ... OK
* checking replacement functions ... OK
* checking foreign function calls ... OK
* checking R code for possible problems ... NOTE
glCheckInput: no visible global function definition for ‘read.csv’
glLoadInput: no visible global function definition for ‘read.csv’
glPlotPosCtrlMEC: no visible binding for global variable ‘aenm_wrap’
glPlotPosCtrlMEC: no visible binding for global variable ‘modl_acc’
Undefined global functions or variables:
aenm_wrap modl_acc read.csv
Consider adding
importFrom("utils", "read.csv")
to your NAMESPACE file.
* checking Rd files ... OK
* checking Rd metadata ... OK
* checking Rd cross-references ... OK
* checking for missing documentation entries ... OK
* checking for code/documentation mismatches ... OK
* checking Rd \usage sections ... OK
* checking Rd contents ... OK
* checking for unstated dependencies in examples ... OK
* checking files in ‘vignettes’ ... OK
* checking examples ... OK
Examples with CPU (user + system) or elapsed time > 5s
user system elapsed
gtoxRun 22.968 9.666 29.828
assignDefaultMthds 21.470 7.140 27.761
* checking for unstated dependencies in ‘tests’ ... OK
* checking tests ...
Running ‘testthat.R’
OK
* checking for unstated dependencies in vignettes ... OK
* checking package vignettes in ‘inst/doc’ ... OK
* checking running R code from vignettes ... SKIPPED
* checking re-building of vignette outputs ... SKIPPED
* checking PDF version of manual ... OK
* DONE
Status: 2 NOTEs
See
‘/Users/biocbuild/bbs-3.17-bioc-mac-arm64/meat/GladiaTOX.Rcheck/00check.log’
for details.
GladiaTOX.Rcheck/00install.out
############################################################################## ############################################################################## ### ### Running command: ### ### /Library/Frameworks/R.framework/Resources/bin/R CMD INSTALL GladiaTOX ### ############################################################################## ############################################################################## * installing to library ‘/Library/Frameworks/R.framework/Versions/4.3-arm64/Resources/library’ * installing *source* package ‘GladiaTOX’ ... ** using staged installation ** R ** inst ** byte-compile and prepare package for lazy loading ** help *** installing help indices ** building package indices ** installing vignettes ** testing if installed package can be loaded from temporary location ** testing if installed package can be loaded from final location ** testing if installed package keeps a record of temporary installation path * DONE (GladiaTOX)
GladiaTOX.Rcheck/tests/testthat.Rout
R version 4.3.1 (2023-06-16) -- "Beagle Scouts"
Copyright (C) 2023 The R Foundation for Statistical Computing
Platform: aarch64-apple-darwin20 (64-bit)
R is free software and comes with ABSOLUTELY NO WARRANTY.
You are welcome to redistribute it under certain conditions.
Type 'license()' or 'licence()' for distribution details.
R is a collaborative project with many contributors.
Type 'contributors()' for more information and
'citation()' on how to cite R or R packages in publications.
Type 'demo()' for some demos, 'help()' for on-line help, or
'help.start()' for an HTML browser interface to help.
Type 'q()' to quit R.
> library(testthat)
> library(GladiaTOX)
Loading required package: data.table
GladiaTOX (v1.16.0) loaded with the following settings:
TCPL_DB: /Library/Frameworks/R.framework/Versions/4.3-arm64/Resources/library/GladiaTOX/sql/gladiatoxdb.sqlite
TCPL_USER: NA
TCPL_HOST: NA
TCPL_DRVR: SQLite
Default settings stored in gtox config file. See ?gtoxConf for more information.
>
> options(testthat.junit.output_file="tests-out.xml")
> test_dir("testthat")
✔ | F W S OK | Context
⠏ | 0 | assignDefaultMthds
⠋ | 1 | assignDefaultMthds
✔ | 1 | assignDefaultMthds [1.1s]
⠏ | 0 | exportResultTable
⠙ | 2 | exportResultTable
✔ | 2 | exportResultTable
⠏ | 0 | getsplit
⠏ | 0 | getsplit
✔ | 1 | getsplit
⠏ | 0 | glComputeToxInd
⠋ | 1 | glComputeToxInd
✔ | 1 | glComputeToxInd
⠏ | 0 | gtoxAICProb
✔ | 1 | gtoxAICProb
⠏ | 0 | gtoxCalcVmad
⠏ | 0 | Calculate Vmad
✔ | 1 | Calculate Vmad
⠏ | 0 | gtoxLoadAcid
⠏ | 0 | Check assay component table
⠋ | 1 | Check assay component table
⠙ | 2 | Check assay component table
✔ | 2 | Check assay component table
⠏ | 0 | gtoxLoadAeid
⠏ | 0 | Check assay endpoint table
⠋ | 1 | Check assay endpoint table
⠙ | 2 | Check assay endpoint table
✔ | 2 | Check assay endpoint table
⠏ | 0 | gtoxLoadAid
⠋ | 1 | gtoxLoadAid
✔ | 1 | gtoxLoadAid
⠏ | 0 | gtoxLoadApid
⠏ | 0 | Check assay plate table
✔ | 2 | Check assay plate table
⠏ | 0 | gtoxLoadAsid
⠋ | 1 | gtoxLoadAsid
✔ | 3 | gtoxLoadAsid
⠏ | 0 | gtoxLoadChem
⠏ | 0 | Check assay chemical table
⠹ | 3 | Check assay chemical table
✔ | 3 | Check assay chemical table
⠏ | 0 | gtoxLoadWaid
⠏ | 0 | Check assay well table
✔ | 2 | Check assay well table
⠏ | 0 | is.odd
✔ | 2 | is.odd
⠏ | 0 | lu
✔ | 1 | lu
⠏ | 0 | lw
✔ | 1 | lw
⠏ | 0 | mc2
✔ | 1 | mc2
⠏ | 0 | mc3
✔ | 1 | mc3
⠏ | 0 | mc5
✔ | 1 | mc5
⠏ | 0 | mc6
✔ | 1 | mc6
⠏ | 0 | sc1
✔ | 1 | sc1
⠏ | 0 | sc2
✔ | 1 | sc2
══ Results ═════════════════════════════════════════════════════════════════════
Duration: 3.6 s
[ FAIL 0 | WARN 0 | SKIP 0 | PASS 32 ]
> test_check("GladiaTOX")
[ FAIL 0 | WARN 0 | SKIP 0 | PASS 32 ]
>
> proc.time()
user system elapsed
7.208 0.643 11.018
GladiaTOX.Rcheck/GladiaTOX-Ex.timings
| name | user | system | elapsed | |
| Models | 0.160 | 0.029 | 0.294 | |
| assay_funcs | 0.607 | 0.078 | 1.045 | |
| assignDefaultMthds | 21.470 | 7.140 | 27.761 | |
| buildAssayTab | 0.035 | 0.006 | 0.067 | |
| config_funcs | 0.008 | 0.005 | 0.020 | |
| deleteStudy | 0.000 | 0.001 | 0.001 | |
| exportResultForToxpiGUI | 0.395 | 0.055 | 0.684 | |
| exportResultTable | 0.197 | 0.017 | 0.325 | |
| glComputeToxInd | 0.353 | 0.032 | 0.590 | |
| glPlotPie | 2.336 | 0.081 | 3.638 | |
| glPlotPieLogo | 1.174 | 0.018 | 1.799 | |
| glPlotPosCtrl | 1.060 | 0.036 | 1.676 | |
| glPlotPosCtrlMEC | 0.590 | 0.058 | 0.983 | |
| glPlotStat | 0.982 | 0.031 | 1.546 | |
| glPlotToxInd | 0.680 | 0.035 | 1.100 | |
| gtoxAICProb | 0.001 | 0.001 | 0.001 | |
| gtoxAddModel | 0.496 | 0.014 | 0.783 | |
| gtoxCalcVmad | 0.036 | 0.005 | 0.062 | |
| gtoxCode2CASN | 0.001 | 0.000 | 0.004 | |
| gtoxFit | 0.368 | 0.005 | 0.571 | |
| gtoxImportThermoDB | 0.001 | 0.000 | 0.002 | |
| gtoxListFlds | 0.006 | 0.001 | 0.012 | |
| gtoxLoadApid | 0.009 | 0.002 | 0.015 | |
| gtoxLoadChem | 0.068 | 0.010 | 0.120 | |
| gtoxLoadClib | 0.006 | 0.001 | 0.012 | |
| gtoxLoadData | 0.090 | 0.012 | 0.154 | |
| gtoxLoadVehicle | 0.007 | 0.002 | 0.012 | |
| gtoxLoadVmad | 0.008 | 0.002 | 0.016 | |
| gtoxLoadWaid | 0.024 | 0.003 | 0.042 | |
| gtoxMakeAeidPlts | 0.551 | 0.050 | 0.917 | |
| gtoxPlotErrBar | 0.387 | 0.026 | 0.639 | |
| gtoxPlotFitc | 0.312 | 0.012 | 0.499 | |
| gtoxPlotFits | 0.191 | 0.020 | 0.323 | |
| gtoxPlotM4ID | 0.854 | 0.079 | 1.425 | |
| gtoxPlotPie | 0.218 | 0.016 | 0.360 | |
| gtoxPlotPieLgnd | 0.007 | 0.001 | 0.013 | |
| gtoxPlotPlate | 0.272 | 0.030 | 0.466 | |
| gtoxPlotWin | 0 | 0 | 0 | |
| gtoxPrepOtpt | 0.194 | 0.014 | 0.318 | |
| gtoxReport | 0 | 0 | 0 | |
| gtoxRun | 22.968 | 9.666 | 29.828 | |
| gtoxSetWllq | 0.149 | 0.045 | 0.246 | |
| gtoxSubsetChid | 0.135 | 0.021 | 0.202 | |
| gtoxWriteData | 0.000 | 0.001 | 0.001 | |
| hill_utils | 0.001 | 0.001 | 0.001 | |
| loadAnnot | 0.000 | 0.001 | 0.002 | |
| lu | 0.000 | 0.001 | 0.000 | |
| lw | 0 | 0 | 0 | |
| mthd_funcs | 0.017 | 0.004 | 0.025 | |
| prepareDatForDB | 0.001 | 0.001 | 0.001 | |
| query_funcs | 0.020 | 0.004 | 0.029 | |
| rgstr_funcs | 0.382 | 0.046 | 0.545 | |