| Back to Mac ARM64 build report for BioC 3.17 |
|
This page was generated on 2023-10-20 09:38:03 -0400 (Fri, 20 Oct 2023).
| Hostname | OS | Arch (*) | R version | Installed pkgs |
|---|---|---|---|---|
| kjohnson2 | macOS 12.6.1 Monterey | arm64 | 4.3.1 (2023-06-16) -- "Beagle Scouts" | 4347 |
| Click on any hostname to see more info about the system (e.g. compilers) (*) as reported by 'uname -p', except on Windows and Mac OS X | ||||
| Package 791/2230 | Hostname | OS / Arch | INSTALL | BUILD | CHECK | BUILD BIN | ||||||||
| GeneStructureTools 1.20.0 (landing page) Beth Signal
| kjohnson2 | macOS 12.6.1 Monterey / arm64 | OK | OK | OK | OK | ||||||||
|
To the developers/maintainers of the GeneStructureTools package: - Use the following Renviron settings to reproduce errors and warnings. - If 'R CMD check' started to fail recently on the Linux builder(s) over a missing dependency, add the missing dependency to 'Suggests:' in your DESCRIPTION file. See Renviron.bioc for more information. |
| Package: GeneStructureTools |
| Version: 1.20.0 |
| Command: /Library/Frameworks/R.framework/Resources/bin/R CMD check --install=check:GeneStructureTools.install-out.txt --library=/Library/Frameworks/R.framework/Resources/library --no-vignettes --timings GeneStructureTools_1.20.0.tar.gz |
| StartedAt: 2023-10-17 21:10:07 -0400 (Tue, 17 Oct 2023) |
| EndedAt: 2023-10-17 21:21:10 -0400 (Tue, 17 Oct 2023) |
| EllapsedTime: 662.6 seconds |
| RetCode: 0 |
| Status: OK |
| CheckDir: GeneStructureTools.Rcheck |
| Warnings: 0 |
##############################################################################
##############################################################################
###
### Running command:
###
### /Library/Frameworks/R.framework/Resources/bin/R CMD check --install=check:GeneStructureTools.install-out.txt --library=/Library/Frameworks/R.framework/Resources/library --no-vignettes --timings GeneStructureTools_1.20.0.tar.gz
###
##############################################################################
##############################################################################
* using log directory ‘/Users/biocbuild/bbs-3.17-bioc-mac-arm64/meat/GeneStructureTools.Rcheck’
* using R version 4.3.1 (2023-06-16)
* using platform: aarch64-apple-darwin20 (64-bit)
* R was compiled by
Apple clang version 14.0.0 (clang-1400.0.29.202)
GNU Fortran (GCC) 12.2.0
* running under: macOS Monterey 12.6.7
* using session charset: UTF-8
* using option ‘--no-vignettes’
* checking for file ‘GeneStructureTools/DESCRIPTION’ ... OK
* checking extension type ... Package
* this is package ‘GeneStructureTools’ version ‘1.20.0’
* package encoding: UTF-8
* checking package namespace information ... OK
* checking package dependencies ... OK
* checking if this is a source package ... OK
* checking if there is a namespace ... OK
* checking for hidden files and directories ... OK
* checking for portable file names ... OK
* checking for sufficient/correct file permissions ... OK
* checking whether package ‘GeneStructureTools’ can be installed ... OK
* checking installed package size ... OK
* checking package directory ... OK
* checking ‘build’ directory ... OK
* checking DESCRIPTION meta-information ... OK
* checking top-level files ... OK
* checking for left-over files ... OK
* checking index information ... OK
* checking package subdirectories ... OK
* checking R files for non-ASCII characters ... OK
* checking R files for syntax errors ... OK
* checking whether the package can be loaded ... OK
* checking whether the package can be loaded with stated dependencies ... OK
* checking whether the package can be unloaded cleanly ... OK
* checking whether the namespace can be loaded with stated dependencies ... OK
* checking whether the namespace can be unloaded cleanly ... OK
* checking dependencies in R code ... OK
* checking S3 generic/method consistency ... OK
* checking replacement functions ... OK
* checking foreign function calls ... OK
* checking R code for possible problems ... OK
* checking Rd files ... OK
* checking Rd metadata ... OK
* checking Rd cross-references ... OK
* checking for missing documentation entries ... OK
* checking for code/documentation mismatches ... OK
* checking Rd \usage sections ... OK
* checking Rd contents ... OK
* checking for unstated dependencies in examples ... OK
* checking files in ‘vignettes’ ... OK
* checking examples ... OK
Examples with CPU (user + system) or elapsed time > 5s
user system elapsed
leafcutterTranscriptChangeSummary 30.563 1.032 46.446
whippetTranscriptChangeSummary 15.553 0.314 22.675
alternativeIntronUsage 5.444 0.059 8.187
replaceJunction 4.928 0.123 7.616
UTR2UTR53 3.972 0.150 6.402
* checking for unstated dependencies in vignettes ... OK
* checking package vignettes in ‘inst/doc’ ... OK
* checking running R code from vignettes ... SKIPPED
* checking re-building of vignette outputs ... SKIPPED
* checking PDF version of manual ... OK
* DONE
Status: OK
GeneStructureTools.Rcheck/00install.out
############################################################################## ############################################################################## ### ### Running command: ### ### /Library/Frameworks/R.framework/Resources/bin/R CMD INSTALL GeneStructureTools ### ############################################################################## ############################################################################## * installing to library ‘/Library/Frameworks/R.framework/Versions/4.3-arm64/Resources/library’ * installing *source* package ‘GeneStructureTools’ ... ** using staged installation ** R ** inst ** byte-compile and prepare package for lazy loading ** help *** installing help indices ** building package indices ** installing vignettes ** testing if installed package can be loaded from temporary location ** testing if installed package can be loaded from final location ** testing if installed package keeps a record of temporary installation path * DONE (GeneStructureTools)
GeneStructureTools.Rcheck/GeneStructureTools-Ex.timings
| name | user | system | elapsed | |
| DEXSeqIdsToGeneIds | 0.003 | 0.001 | 0.006 | |
| UTR2UTR53 | 3.972 | 0.150 | 6.402 | |
| addBroadTypes | 0.227 | 0.006 | 0.371 | |
| addIntronInTranscript | 2.362 | 0.105 | 3.970 | |
| alternativeIntronUsage | 5.444 | 0.059 | 8.187 | |
| annotateGeneModel | 1.095 | 0.019 | 1.418 | |
| attrChangeAltSpliced | 1.447 | 0.091 | 2.062 | |
| coordinates-methods | 0.070 | 0.064 | 0.270 | |
| diffSplicingResults-methods | 0.074 | 0.070 | 0.306 | |
| exonsToTranscripts | 0.375 | 0.010 | 0.495 | |
| filterGtfOverlap | 0.342 | 0.010 | 0.442 | |
| filterWhippetEvents | 0.082 | 0.063 | 0.241 | |
| findDEXexonType | 3.273 | 0.050 | 4.149 | |
| findExonContainingTranscripts | 0.530 | 0.075 | 0.893 | |
| findIntronContainingTranscripts | 0.785 | 0.077 | 1.502 | |
| findJunctionPairs | 1.708 | 0.087 | 2.891 | |
| formatWhippetEvents | 0.019 | 0.009 | 0.059 | |
| getOrfs | 0.933 | 0.020 | 1.443 | |
| getUOrfs | 0.679 | 0.016 | 1.064 | |
| junctions-methods | 0.075 | 0.066 | 0.413 | |
| leafcutterTranscriptChangeSummary | 30.563 | 1.032 | 46.446 | |
| makeGeneModel | 0.207 | 0.007 | 0.326 | |
| maxLocation | 0.003 | 0.001 | 0.005 | |
| orfDiff | 1.951 | 0.105 | 3.259 | |
| orfSimilarity | 0.000 | 0.000 | 0.001 | |
| overlapTypes | 2.953 | 0.035 | 4.039 | |
| readCounts-methods | 0.076 | 0.069 | 0.290 | |
| readWhippetDIFFfiles | 0.007 | 0.009 | 0.030 | |
| readWhippetDataSet | 0.077 | 0.073 | 0.314 | |
| readWhippetJNCfiles | 0.035 | 0.030 | 0.135 | |
| readWhippetPSIfiles | 0.018 | 0.030 | 0.115 | |
| removeDuplicateTranscripts | 0.336 | 0.009 | 0.443 | |
| removeSameExon | 0.276 | 0.008 | 0.362 | |
| removeVersion | 0.000 | 0.000 | 0.001 | |
| reorderExonNumbers | 0.222 | 0.008 | 0.300 | |
| replaceJunction | 4.928 | 0.123 | 7.616 | |
| skipExonInTranscript | 1.729 | 0.089 | 2.917 | |
| summariseExonTypes | 3.225 | 0.036 | 4.695 | |
| transcriptChangeSummary | 1.843 | 0.094 | 3.081 | |
| whippetTranscriptChangeSummary | 15.553 | 0.314 | 22.675 | |