| Back to Mac ARM64 build report for BioC 3.17 |
|
This page was generated on 2023-10-20 09:38:03 -0400 (Fri, 20 Oct 2023).
| Hostname | OS | Arch (*) | R version | Installed pkgs |
|---|---|---|---|---|
| kjohnson2 | macOS 12.6.1 Monterey | arm64 | 4.3.1 (2023-06-16) -- "Beagle Scouts" | 4347 |
| Click on any hostname to see more info about the system (e.g. compilers) (*) as reported by 'uname -p', except on Windows and Mac OS X | ||||
| Package 891/2230 | Hostname | OS / Arch | INSTALL | BUILD | CHECK | BUILD BIN | ||||||||
| GSEABenchmarkeR 1.20.1 (landing page) Ludwig Geistlinger
| kjohnson2 | macOS 12.6.1 Monterey / arm64 | OK | OK | OK | OK | ||||||||
|
To the developers/maintainers of the GSEABenchmarkeR package: - Use the following Renviron settings to reproduce errors and warnings. - If 'R CMD check' started to fail recently on the Linux builder(s) over a missing dependency, add the missing dependency to 'Suggests:' in your DESCRIPTION file. See Renviron.bioc for more information. |
| Package: GSEABenchmarkeR |
| Version: 1.20.1 |
| Command: /Library/Frameworks/R.framework/Resources/bin/R CMD check --install=check:GSEABenchmarkeR.install-out.txt --library=/Library/Frameworks/R.framework/Resources/library --no-vignettes --timings GSEABenchmarkeR_1.20.1.tar.gz |
| StartedAt: 2023-10-17 23:42:35 -0400 (Tue, 17 Oct 2023) |
| EndedAt: 2023-10-17 23:49:03 -0400 (Tue, 17 Oct 2023) |
| EllapsedTime: 387.8 seconds |
| RetCode: 0 |
| Status: OK |
| CheckDir: GSEABenchmarkeR.Rcheck |
| Warnings: 0 |
##############################################################################
##############################################################################
###
### Running command:
###
### /Library/Frameworks/R.framework/Resources/bin/R CMD check --install=check:GSEABenchmarkeR.install-out.txt --library=/Library/Frameworks/R.framework/Resources/library --no-vignettes --timings GSEABenchmarkeR_1.20.1.tar.gz
###
##############################################################################
##############################################################################
* using log directory ‘/Users/biocbuild/bbs-3.17-bioc-mac-arm64/meat/GSEABenchmarkeR.Rcheck’
* using R version 4.3.1 (2023-06-16)
* using platform: aarch64-apple-darwin20 (64-bit)
* R was compiled by
Apple clang version 14.0.0 (clang-1400.0.29.202)
GNU Fortran (GCC) 12.2.0
* running under: macOS Monterey 12.6.7
* using session charset: UTF-8
* using option ‘--no-vignettes’
* checking for file ‘GSEABenchmarkeR/DESCRIPTION’ ... OK
* checking extension type ... Package
* this is package ‘GSEABenchmarkeR’ version ‘1.20.1’
* package encoding: UTF-8
* checking package namespace information ... OK
* checking package dependencies ... OK
* checking if this is a source package ... OK
* checking if there is a namespace ... OK
* checking for hidden files and directories ... OK
* checking for portable file names ... OK
* checking for sufficient/correct file permissions ... OK
* checking whether package ‘GSEABenchmarkeR’ can be installed ... OK
* checking installed package size ... OK
* checking package directory ... OK
* checking ‘build’ directory ... OK
* checking DESCRIPTION meta-information ... OK
* checking top-level files ... OK
* checking for left-over files ... OK
* checking index information ... OK
* checking package subdirectories ... OK
* checking R files for non-ASCII characters ... OK
* checking R files for syntax errors ... OK
* checking whether the package can be loaded ... OK
* checking whether the package can be loaded with stated dependencies ... OK
* checking whether the package can be unloaded cleanly ... OK
* checking whether the namespace can be loaded with stated dependencies ... OK
* checking whether the namespace can be unloaded cleanly ... OK
* checking dependencies in R code ... OK
* checking S3 generic/method consistency ... OK
* checking replacement functions ... OK
* checking foreign function calls ... OK
* checking R code for possible problems ... NOTE
evalRelevance: no visible binding for global variable ‘REL.SCORE’
Undefined global functions or variables:
REL.SCORE
* checking Rd files ... OK
* checking Rd metadata ... OK
* checking Rd cross-references ... OK
* checking for missing documentation entries ... OK
* checking for code/documentation mismatches ... OK
* checking Rd \usage sections ... OK
* checking Rd contents ... OK
* checking for unstated dependencies in examples ... OK
* checking files in ‘vignettes’ ... OK
* checking examples ... OK
Examples with CPU (user + system) or elapsed time > 5s
user system elapsed
evalTypeIError 25.297 13.488 63.240
loadEData 24.276 3.191 48.426
runEA 11.161 5.552 15.505
evalRandomGS 9.683 2.084 14.491
* checking for unstated dependencies in vignettes ... OK
* checking package vignettes in ‘inst/doc’ ... OK
* checking running R code from vignettes ... SKIPPED
* checking re-building of vignette outputs ... SKIPPED
* checking PDF version of manual ... OK
* DONE
Status: 1 NOTE
See
‘/Users/biocbuild/bbs-3.17-bioc-mac-arm64/meat/GSEABenchmarkeR.Rcheck/00check.log’
for details.
GSEABenchmarkeR.Rcheck/00install.out
############################################################################## ############################################################################## ### ### Running command: ### ### /Library/Frameworks/R.framework/Resources/bin/R CMD INSTALL GSEABenchmarkeR ### ############################################################################## ############################################################################## * installing to library ‘/Library/Frameworks/R.framework/Versions/4.3-arm64/Resources/library’ * installing *source* package ‘GSEABenchmarkeR’ ... ** using staged installation ** R ** inst ** byte-compile and prepare package for lazy loading ** help *** installing help indices ** building package indices ** installing vignettes ** testing if installed package can be loaded from temporary location ** testing if installed package can be loaded from final location ** testing if installed package keeps a record of temporary installation path * DONE (GSEABenchmarkeR)
GSEABenchmarkeR.Rcheck/GSEABenchmarkeR-Ex.timings
| name | user | system | elapsed | |
| bpPlot | 0.014 | 0.001 | 0.024 | |
| cacheResource | 2.033 | 0.164 | 3.072 | |
| evalNrSigSets | 2.639 | 0.048 | 3.622 | |
| evalRandomGS | 9.683 | 2.084 | 14.491 | |
| evalRelevance | 0.480 | 0.066 | 0.809 | |
| evalTypeIError | 25.297 | 13.488 | 63.240 | |
| loadEData | 24.276 | 3.191 | 48.426 | |
| maPreproc | 1.810 | 0.243 | 3.078 | |
| readDataId2diseaseCodeMap | 0.004 | 0.007 | 0.018 | |
| readResults | 0.205 | 0.043 | 0.367 | |
| runDE | 1.020 | 0.372 | 1.822 | |
| runEA | 11.161 | 5.552 | 15.505 | |