| Back to Mac ARM64 build report for BioC 3.17 |
|
This page was generated on 2023-10-20 09:38:03 -0400 (Fri, 20 Oct 2023).
| Hostname | OS | Arch (*) | R version | Installed pkgs |
|---|---|---|---|---|
| kjohnson2 | macOS 12.6.1 Monterey | arm64 | 4.3.1 (2023-06-16) -- "Beagle Scouts" | 4347 |
| Click on any hostname to see more info about the system (e.g. compilers) (*) as reported by 'uname -p', except on Windows and Mac OS X | ||||
| Package 824/2230 | Hostname | OS / Arch | INSTALL | BUILD | CHECK | BUILD BIN | ||||||||
| GEOquery 2.68.0 (landing page) Sean Davis
| kjohnson2 | macOS 12.6.1 Monterey / arm64 | OK | OK | OK | OK | ||||||||
|
To the developers/maintainers of the GEOquery package: - Use the following Renviron settings to reproduce errors and warnings. - If 'R CMD check' started to fail recently on the Linux builder(s) over a missing dependency, add the missing dependency to 'Suggests:' in your DESCRIPTION file. See Renviron.bioc for more information. |
| Package: GEOquery |
| Version: 2.68.0 |
| Command: /Library/Frameworks/R.framework/Resources/bin/R CMD check --install=check:GEOquery.install-out.txt --library=/Library/Frameworks/R.framework/Resources/library --no-vignettes --timings GEOquery_2.68.0.tar.gz |
| StartedAt: 2023-10-17 22:09:43 -0400 (Tue, 17 Oct 2023) |
| EndedAt: 2023-10-17 22:14:08 -0400 (Tue, 17 Oct 2023) |
| EllapsedTime: 265.1 seconds |
| RetCode: 0 |
| Status: OK |
| CheckDir: GEOquery.Rcheck |
| Warnings: 0 |
##############################################################################
##############################################################################
###
### Running command:
###
### /Library/Frameworks/R.framework/Resources/bin/R CMD check --install=check:GEOquery.install-out.txt --library=/Library/Frameworks/R.framework/Resources/library --no-vignettes --timings GEOquery_2.68.0.tar.gz
###
##############################################################################
##############################################################################
* using log directory ‘/Users/biocbuild/bbs-3.17-bioc-mac-arm64/meat/GEOquery.Rcheck’
* using R version 4.3.1 (2023-06-16)
* using platform: aarch64-apple-darwin20 (64-bit)
* R was compiled by
Apple clang version 14.0.0 (clang-1400.0.29.202)
GNU Fortran (GCC) 12.2.0
* running under: macOS Monterey 12.6.7
* using session charset: UTF-8
* using option ‘--no-vignettes’
* checking for file ‘GEOquery/DESCRIPTION’ ... OK
* checking extension type ... Package
* this is package ‘GEOquery’ version ‘2.68.0’
* package encoding: UTF-8
* checking package namespace information ... OK
* checking package dependencies ... OK
* checking if this is a source package ... OK
* checking if there is a namespace ... OK
* checking for hidden files and directories ... OK
* checking for portable file names ... OK
* checking for sufficient/correct file permissions ... OK
* checking whether package ‘GEOquery’ can be installed ... OK
* checking installed package size ... NOTE
installed size is 13.1Mb
sub-directories of 1Mb or more:
extdata 12.8Mb
* checking package directory ... OK
* checking ‘build’ directory ... OK
* checking DESCRIPTION meta-information ... NOTE
License components which are templates and need '+ file LICENSE':
MIT
* checking top-level files ... NOTE
File
LICENSE
is not mentioned in the DESCRIPTION file.
* checking for left-over files ... OK
* checking index information ... OK
* checking package subdirectories ... OK
* checking R files for non-ASCII characters ... OK
* checking R files for syntax errors ... OK
* checking whether the package can be loaded ... OK
* checking whether the package can be loaded with stated dependencies ... OK
* checking whether the package can be unloaded cleanly ... OK
* checking whether the namespace can be loaded with stated dependencies ... NOTE
Warning: no function found corresponding to methods exports from ‘GEOquery’ for: ‘show’
A namespace must be able to be loaded with just the base namespace
loaded: otherwise if the namespace gets loaded by a saved object, the
session will be unable to start.
Probably some imports need to be declared in the NAMESPACE file.
* checking whether the namespace can be unloaded cleanly ... OK
* checking startup messages can be suppressed ... OK
* checking dependencies in R code ... NOTE
Namespace in Imports field not imported from: ‘R.utils’
All declared Imports should be used.
Package in Depends field not imported from: ‘methods’
These packages need to be imported from (in the NAMESPACE file)
for when this namespace is loaded but not attached.
* checking S3 generic/method consistency ... OK
* checking replacement functions ... OK
* checking foreign function calls ... OK
* checking R code for possible problems ... NOTE
File ‘GEOquery/R/zzz.R’:
.onLoad calls:
packageStartupMessage("Setting options('download.file.method.GEOquery'='auto')")
packageStartupMessage("Setting options('GEOquery.inmemory.gpl'=FALSE)")
See section ‘Good practice’ in '?.onAttach'.
.parseGPLTxt: no visible global function definition for ‘new’
.parseGPLWithLimits: no visible global function definition for ‘new’
.parseGSMTxt: no visible global function definition for ‘new’
.parseGSMWithLimits: no visible global function definition for ‘new’
GDS2MA: no visible global function definition for ‘new’
GDS2MA: no visible binding for global variable ‘MA’
GDS2eSet: no visible global function definition for ‘new’
fastTabRead: no visible global function definition for ‘read.table’
fastTabRead: no visible global function definition for ‘read.delim’
parseGDS: no visible global function definition for ‘new’
parseGSE: no visible global function definition for ‘new’
parseGSEMatrix: no visible global function definition for ‘new’
parseGSEMatrix: no visible binding for global variable ‘.’
parseGSEMatrix: no visible binding for global variable
‘characteristics’
parseGSEMatrix: no visible binding for global variable ‘kvpair’
parseGSEMatrix: no visible binding for global variable ‘accession’
parseGSEMatrix: no visible binding for global variable ‘k’
parseGSEMatrix: no visible binding for global variable ‘v’
parseGSEMatrix: no visible global function definition for ‘read.table’
parseGSEMatrix: no visible global function definition for ‘as’
Undefined global functions or variables:
. MA accession as characteristics k kvpair new read.delim read.table
v
Consider adding
importFrom("methods", "as", "new")
importFrom("utils", "read.delim", "read.table")
to your NAMESPACE file (and ensure that your DESCRIPTION Imports field
contains 'methods').
* checking Rd files ... OK
* checking Rd metadata ... OK
* checking Rd cross-references ... OK
* checking for missing documentation entries ... OK
* checking for code/documentation mismatches ... OK
* checking Rd \usage sections ... OK
* checking Rd contents ... OK
* checking for unstated dependencies in examples ... OK
* checking files in ‘vignettes’ ... OK
* checking examples ... OK
Examples with CPU (user + system) or elapsed time > 5s
user system elapsed
getGEO 3.389 3.403 17.396
* checking for unstated dependencies in ‘tests’ ... OK
* checking tests ...
Running ‘testthat.R’
OK
* checking for unstated dependencies in vignettes ... OK
* checking package vignettes in ‘inst/doc’ ... OK
* checking running R code from vignettes ... SKIPPED
* checking re-building of vignette outputs ... SKIPPED
* checking PDF version of manual ... OK
* DONE
Status: 6 NOTEs
See
‘/Users/biocbuild/bbs-3.17-bioc-mac-arm64/meat/GEOquery.Rcheck/00check.log’
for details.
GEOquery.Rcheck/00install.out
############################################################################## ############################################################################## ### ### Running command: ### ### /Library/Frameworks/R.framework/Resources/bin/R CMD INSTALL GEOquery ### ############################################################################## ############################################################################## * installing to library ‘/Library/Frameworks/R.framework/Versions/4.3-arm64/Resources/library’ * installing *source* package ‘GEOquery’ ... ** using staged installation ** R ** inst ** byte-compile and prepare package for lazy loading ** help *** installing help indices ** building package indices ** installing vignettes ** testing if installed package can be loaded from temporary location ** testing if installed package can be loaded from final location ** testing if installed package keeps a record of temporary installation path * DONE (GEOquery)
GEOquery.Rcheck/tests/testthat.Rout
R version 4.3.1 (2023-06-16) -- "Beagle Scouts"
Copyright (C) 2023 The R Foundation for Statistical Computing
Platform: aarch64-apple-darwin20 (64-bit)
R is free software and comes with ABSOLUTELY NO WARRANTY.
You are welcome to redistribute it under certain conditions.
Type 'license()' or 'licence()' for distribution details.
R is a collaborative project with many contributors.
Type 'contributors()' for more information and
'citation()' on how to cite R or R packages in publications.
Type 'demo()' for some demos, 'help()' for on-line help, or
'help.start()' for an HTML browser interface to help.
Type 'q()' to quit R.
> library(testthat)
> library(GEOquery)
Loading required package: Biobase
Loading required package: BiocGenerics
Attaching package: 'BiocGenerics'
The following objects are masked from 'package:stats':
IQR, mad, sd, var, xtabs
The following objects are masked from 'package:base':
Filter, Find, Map, Position, Reduce, anyDuplicated, aperm, append,
as.data.frame, basename, cbind, colnames, dirname, do.call,
duplicated, eval, evalq, get, grep, grepl, intersect, is.unsorted,
lapply, mapply, match, mget, order, paste, pmax, pmax.int, pmin,
pmin.int, rank, rbind, rownames, sapply, setdiff, sort, table,
tapply, union, unique, unsplit, which.max, which.min
Welcome to Bioconductor
Vignettes contain introductory material; view with
'browseVignettes()'. To cite Bioconductor, see
'citation("Biobase")', and for packages 'citation("pkgname")'.
Setting options('download.file.method.GEOquery'='auto')
Setting options('GEOquery.inmemory.gpl'=FALSE)
>
> test_check("GEOquery")
trying URL 'https://ftp.ncbi.nlm.nih.gov/geo/series/GSE1nnn/GSE1000/suppl//GSE1000_RAW.tar?tool=geoquery'
Content type 'application/x-tar' length 35307520 bytes (33.7 MB)
==================================================
downloaded 33.7 MB
trying URL 'https://ftp.ncbi.nlm.nih.gov/geo/samples/GSM15nnn/GSM15789/suppl//GSM15789.cel.gz?tool=geoquery'
Content type 'application/x-gzip' length 3507725 bytes (3.3 MB)
==================================================
downloaded 3.3 MB
trying URL 'https://ftp.ncbi.nlm.nih.gov/geo/samples/GSM15nnn/GSM15789/suppl//GSM15789.cel.gz?tool=geoquery'
Content type 'application/x-gzip' length 3507725 bytes (3.3 MB)
==================================================
downloaded 3.3 MB
[ FAIL 0 | WARN 0 | SKIP 0 | PASS 208 ]
>
> proc.time()
user system elapsed
53.793 22.836 158.490
GEOquery.Rcheck/GEOquery-Ex.timings
| name | user | system | elapsed | |
| coercion | 0 | 0 | 0 | |
| getGEO | 3.389 | 3.403 | 17.396 | |
| getGEOSuppFiles | 0.024 | 0.009 | 0.122 | |
| getGEOfile | 0.001 | 0.000 | 0.001 | |
| getGSEDataTables | 0.630 | 0.057 | 1.339 | |
| gunzip | 0.000 | 0.001 | 0.000 | |