| Back to Mac ARM64 build report for BioC 3.17 |
|
This page was generated on 2023-10-20 09:38:02 -0400 (Fri, 20 Oct 2023).
| Hostname | OS | Arch (*) | R version | Installed pkgs |
|---|---|---|---|---|
| kjohnson2 | macOS 12.6.1 Monterey | arm64 | 4.3.1 (2023-06-16) -- "Beagle Scouts" | 4347 |
| Click on any hostname to see more info about the system (e.g. compilers) (*) as reported by 'uname -p', except on Windows and Mac OS X | ||||
| Package 692/2230 | Hostname | OS / Arch | INSTALL | BUILD | CHECK | BUILD BIN | ||||||||
| FeatSeekR 1.0.0 (landing page) Tuemay Capraz
| kjohnson2 | macOS 12.6.1 Monterey / arm64 | OK | OK | OK | OK | ||||||||
|
To the developers/maintainers of the FeatSeekR package: - Use the following Renviron settings to reproduce errors and warnings. - If 'R CMD check' started to fail recently on the Linux builder(s) over a missing dependency, add the missing dependency to 'Suggests:' in your DESCRIPTION file. See Renviron.bioc for more information. |
| Package: FeatSeekR |
| Version: 1.0.0 |
| Command: /Library/Frameworks/R.framework/Resources/bin/R CMD check --install=check:FeatSeekR.install-out.txt --library=/Library/Frameworks/R.framework/Resources/library --no-vignettes --timings FeatSeekR_1.0.0.tar.gz |
| StartedAt: 2023-10-17 19:24:16 -0400 (Tue, 17 Oct 2023) |
| EndedAt: 2023-10-17 19:28:13 -0400 (Tue, 17 Oct 2023) |
| EllapsedTime: 237.0 seconds |
| RetCode: 0 |
| Status: OK |
| CheckDir: FeatSeekR.Rcheck |
| Warnings: 0 |
##############################################################################
##############################################################################
###
### Running command:
###
### /Library/Frameworks/R.framework/Resources/bin/R CMD check --install=check:FeatSeekR.install-out.txt --library=/Library/Frameworks/R.framework/Resources/library --no-vignettes --timings FeatSeekR_1.0.0.tar.gz
###
##############################################################################
##############################################################################
* using log directory ‘/Users/biocbuild/bbs-3.17-bioc-mac-arm64/meat/FeatSeekR.Rcheck’
* using R version 4.3.1 (2023-06-16)
* using platform: aarch64-apple-darwin20 (64-bit)
* R was compiled by
Apple clang version 14.0.0 (clang-1400.0.29.202)
GNU Fortran (GCC) 12.2.0
* running under: macOS Monterey 12.6.7
* using session charset: UTF-8
* using option ‘--no-vignettes’
* checking for file ‘FeatSeekR/DESCRIPTION’ ... OK
* checking extension type ... Package
* this is package ‘FeatSeekR’ version ‘1.0.0’
* package encoding: UTF-8
* checking package namespace information ... OK
* checking package dependencies ... OK
* checking if this is a source package ... OK
* checking if there is a namespace ... OK
* checking for hidden files and directories ... OK
* checking for portable file names ... OK
* checking for sufficient/correct file permissions ... OK
* checking whether package ‘FeatSeekR’ can be installed ... OK
* checking installed package size ... OK
* checking package directory ... OK
* checking ‘build’ directory ... OK
* checking DESCRIPTION meta-information ... OK
* checking top-level files ... OK
* checking for left-over files ... OK
* checking index information ... OK
* checking package subdirectories ... OK
* checking R files for non-ASCII characters ... OK
* checking R files for syntax errors ... OK
* checking whether the package can be loaded ... OK
* checking whether the package can be loaded with stated dependencies ... OK
* checking whether the package can be unloaded cleanly ... OK
* checking whether the namespace can be loaded with stated dependencies ... OK
* checking whether the namespace can be unloaded cleanly ... OK
* checking dependencies in R code ... OK
* checking S3 generic/method consistency ... OK
* checking replacement functions ... OK
* checking foreign function calls ... OK
* checking R code for possible problems ... OK
* checking Rd files ... OK
* checking Rd metadata ... OK
* checking Rd cross-references ... OK
* checking for missing documentation entries ... OK
* checking for code/documentation mismatches ... OK
* checking Rd \usage sections ... OK
* checking Rd contents ... OK
* checking for unstated dependencies in examples ... OK
* checking files in ‘vignettes’ ... OK
* checking examples ... OK
* checking for unstated dependencies in ‘tests’ ... OK
* checking tests ...
Running ‘testthat.R’
OK
* checking for unstated dependencies in vignettes ... OK
* checking package vignettes in ‘inst/doc’ ... OK
* checking running R code from vignettes ... SKIPPED
* checking re-building of vignette outputs ... SKIPPED
* checking PDF version of manual ... OK
* DONE
Status: OK
FeatSeekR.Rcheck/00install.out
############################################################################## ############################################################################## ### ### Running command: ### ### /Library/Frameworks/R.framework/Resources/bin/R CMD INSTALL FeatSeekR ### ############################################################################## ############################################################################## * installing to library ‘/Library/Frameworks/R.framework/Versions/4.3-arm64/Resources/library’ * installing *source* package ‘FeatSeekR’ ... ** using staged installation ** R ** byte-compile and prepare package for lazy loading ** help *** installing help indices ** building package indices ** installing vignettes ** testing if installed package can be loaded from temporary location ** testing if installed package can be loaded from final location ** testing if installed package keeps a record of temporary installation path * DONE (FeatSeekR)
FeatSeekR.Rcheck/tests/testthat.Rout
R version 4.3.1 (2023-06-16) -- "Beagle Scouts"
Copyright (C) 2023 The R Foundation for Statistical Computing
Platform: aarch64-apple-darwin20 (64-bit)
R is free software and comes with ABSOLUTELY NO WARRANTY.
You are welcome to redistribute it under certain conditions.
Type 'license()' or 'licence()' for distribution details.
R is a collaborative project with many contributors.
Type 'contributors()' for more information and
'citation()' on how to cite R or R packages in publications.
Type 'demo()' for some demos, 'help()' for on-line help, or
'help.start()' for an HTML browser interface to help.
Type 'q()' to quit R.
> library(testthat)
> library(FeatSeekR)
>
> test_check("FeatSeekR")
Input data has:
6 samples
3 conditions
3 features
2 replicates
Starting feature ranking!
Iteration: 1 selected = second, replicate F-statistic = 2.43776947767562
Iteration: 2 selected = third, replicate F-statistic = 3.22636267564341
Finished feature ranking procedure!
Calculating explained variance of selected feature sets!
Input data has:
6 samples
3 conditions
3 features
2 replicates
Starting feature ranking!
Iteration: 1 selected = first, replicate F-statistic = 0.167076246332087
Iteration: 2 selected = second, replicate F-statistic = 2.01260705412562
Finished feature ranking procedure!
Calculating explained variance of selected feature sets!
Input data has:
50 samples
2 conditions
30 features
25 replicates
Starting feature ranking!
Iteration: 1 selected = feature 15, replicate F-statistic = 8.45948407093291
Iteration: 2 selected = feature 3, replicate F-statistic = 4.66686404936437
Iteration: 3 selected = feature 4, replicate F-statistic = 2.56652748616897
Iteration: 4 selected = feature 11, replicate F-statistic = 2.34333550532051
Iteration: 5 selected = feature 26, replicate F-statistic = 1.6207034590057
Finished feature ranking procedure!
Calculating explained variance of selected feature sets!
[ FAIL 0 | WARN 0 | SKIP 0 | PASS 56 ]
>
> proc.time()
user system elapsed
8.235 0.463 13.292
FeatSeekR.Rcheck/FeatSeekR-Ex.timings
| name | user | system | elapsed | |
| FeatSeek | 0.448 | 0.018 | 0.732 | |
| plotSelectedFeatures | 0.393 | 0.012 | 0.620 | |
| plotVarianceExplained | 0.346 | 0.009 | 0.546 | |
| simData | 0.020 | 0.001 | 0.033 | |