| Back to Mac ARM64 build report for BioC 3.17 |
|
This page was generated on 2023-10-20 09:38:02 -0400 (Fri, 20 Oct 2023).
| Hostname | OS | Arch (*) | R version | Installed pkgs |
|---|---|---|---|---|
| kjohnson2 | macOS 12.6.1 Monterey | arm64 | 4.3.1 (2023-06-16) -- "Beagle Scouts" | 4347 |
| Click on any hostname to see more info about the system (e.g. compilers) (*) as reported by 'uname -p', except on Windows and Mac OS X | ||||
| Package 685/2230 | Hostname | OS / Arch | INSTALL | BUILD | CHECK | BUILD BIN | ||||||||
| FCBF 2.8.0 (landing page) Tiago Lubiana
| kjohnson2 | macOS 12.6.1 Monterey / arm64 | OK | OK | OK | OK | ||||||||
|
To the developers/maintainers of the FCBF package: - Use the following Renviron settings to reproduce errors and warnings. - If 'R CMD check' started to fail recently on the Linux builder(s) over a missing dependency, add the missing dependency to 'Suggests:' in your DESCRIPTION file. See Renviron.bioc for more information. |
| Package: FCBF |
| Version: 2.8.0 |
| Command: /Library/Frameworks/R.framework/Resources/bin/R CMD check --install=check:FCBF.install-out.txt --library=/Library/Frameworks/R.framework/Resources/library --no-vignettes --timings FCBF_2.8.0.tar.gz |
| StartedAt: 2023-10-17 19:17:13 -0400 (Tue, 17 Oct 2023) |
| EndedAt: 2023-10-17 19:24:16 -0400 (Tue, 17 Oct 2023) |
| EllapsedTime: 423.1 seconds |
| RetCode: 0 |
| Status: OK |
| CheckDir: FCBF.Rcheck |
| Warnings: 0 |
##############################################################################
##############################################################################
###
### Running command:
###
### /Library/Frameworks/R.framework/Resources/bin/R CMD check --install=check:FCBF.install-out.txt --library=/Library/Frameworks/R.framework/Resources/library --no-vignettes --timings FCBF_2.8.0.tar.gz
###
##############################################################################
##############################################################################
* using log directory ‘/Users/biocbuild/bbs-3.17-bioc-mac-arm64/meat/FCBF.Rcheck’
* using R version 4.3.1 (2023-06-16)
* using platform: aarch64-apple-darwin20 (64-bit)
* R was compiled by
Apple clang version 14.0.0 (clang-1400.0.29.202)
GNU Fortran (GCC) 12.2.0
* running under: macOS Monterey 12.6.7
* using session charset: UTF-8
* using option ‘--no-vignettes’
* checking for file ‘FCBF/DESCRIPTION’ ... OK
* checking extension type ... Package
* this is package ‘FCBF’ version ‘2.8.0’
* package encoding: UTF-8
* checking package namespace information ... OK
* checking package dependencies ... OK
* checking if this is a source package ... OK
* checking if there is a namespace ... OK
* checking for hidden files and directories ... OK
* checking for portable file names ... OK
* checking for sufficient/correct file permissions ... OK
* checking whether package ‘FCBF’ can be installed ... OK
* checking installed package size ... OK
* checking package directory ... OK
* checking ‘build’ directory ... OK
* checking DESCRIPTION meta-information ... OK
* checking top-level files ... OK
* checking for left-over files ... OK
* checking index information ... OK
* checking package subdirectories ... OK
* checking R files for non-ASCII characters ... OK
* checking R files for syntax errors ... OK
* checking whether the package can be loaded ... OK
* checking whether the package can be loaded with stated dependencies ... OK
* checking whether the package can be unloaded cleanly ... OK
* checking whether the namespace can be loaded with stated dependencies ... OK
* checking whether the namespace can be unloaded cleanly ... OK
* checking startup messages can be suppressed ... OK
* checking dependencies in R code ... OK
* checking S3 generic/method consistency ... OK
* checking replacement functions ... OK
* checking foreign function calls ... OK
* checking R code for possible problems ... OK
* checking Rd files ... OK
* checking Rd metadata ... OK
* checking Rd cross-references ... OK
* checking for missing documentation entries ... OK
* checking for code/documentation mismatches ... OK
* checking Rd \usage sections ... OK
* checking Rd contents ... OK
* checking for unstated dependencies in examples ... OK
* checking contents of ‘data’ directory ... OK
* checking data for non-ASCII characters ... OK
* checking data for ASCII and uncompressed saves ... OK
* checking files in ‘vignettes’ ... OK
* checking examples ... OK
Examples with CPU (user + system) or elapsed time > 5s
user system elapsed
fcbf 27.763 0.552 43.286
scDengue 19.023 0.323 29.632
get_ig_for_feature_table_and_vector 10.665 0.269 16.753
su_plot 10.703 0.200 16.672
get_su_for_feature_table_and_vector 10.396 0.172 16.241
discretize_exprs 5.306 0.187 8.482
* checking for unstated dependencies in ‘tests’ ... OK
* checking tests ...
Running ‘testthat.R’
OK
* checking for unstated dependencies in vignettes ... OK
* checking package vignettes in ‘inst/doc’ ... OK
* checking running R code from vignettes ... SKIPPED
* checking re-building of vignette outputs ... SKIPPED
* checking PDF version of manual ... OK
* DONE
Status: OK
FCBF.Rcheck/00install.out
############################################################################## ############################################################################## ### ### Running command: ### ### /Library/Frameworks/R.framework/Resources/bin/R CMD INSTALL FCBF ### ############################################################################## ############################################################################## * installing to library ‘/Library/Frameworks/R.framework/Versions/4.3-arm64/Resources/library’ * installing *source* package ‘FCBF’ ... ** using staged installation ** R ** data ** byte-compile and prepare package for lazy loading ** help *** installing help indices ** building package indices ** installing vignettes ** testing if installed package can be loaded from temporary location ** testing if installed package can be loaded from final location ** testing if installed package keeps a record of temporary installation path * DONE (FCBF)
FCBF.Rcheck/tests/testthat.Rout
R version 4.3.1 (2023-06-16) -- "Beagle Scouts"
Copyright (C) 2023 The R Foundation for Statistical Computing
Platform: aarch64-apple-darwin20 (64-bit)
R is free software and comes with ABSOLUTELY NO WARRANTY.
You are welcome to redistribute it under certain conditions.
Type 'license()' or 'licence()' for distribution details.
R is a collaborative project with many contributors.
Type 'contributors()' for more information and
'citation()' on how to cite R or R packages in publications.
Type 'demo()' for some demos, 'help()' for on-line help, or
'help.start()' for an HTML browser interface to help.
Type 'q()' to quit R.
> library(testthat)
> library(FCBF)
>
> test_check("FCBF")
[1] "Number of features features = 8"
[1] "Number of prospective features = 7"
[1] "Number of final features = 2"
[1] "Number of features features = 8"
[1] "Number of prospective features = 1"
[ FAIL 0 | WARN 0 | SKIP 0 | PASS 33 ]
>
> proc.time()
user system elapsed
8.344 0.427 13.410
FCBF.Rcheck/FCBF-Ex.timings
| name | user | system | elapsed | |
| discretize_exprs | 5.306 | 0.187 | 8.482 | |
| discretize_exprs_supervised | 2.419 | 0.111 | 3.872 | |
| discretize_gene_supervised | 0.463 | 0.027 | 0.755 | |
| fcbf | 27.763 | 0.552 | 43.286 | |
| get_IG_for_vector_pair | 2.560 | 0.161 | 4.145 | |
| get_SU_for_vector_pair | 3.102 | 0.138 | 4.952 | |
| get_ig_for_feature_table_and_vector | 10.665 | 0.269 | 16.753 | |
| get_su_for_feature_table_and_vector | 10.396 | 0.172 | 16.241 | |
| scDengue | 19.023 | 0.323 | 29.632 | |
| su_plot | 10.703 | 0.200 | 16.672 | |