| Back to Mac ARM64 build report for BioC 3.17 |
|
This page was generated on 2023-10-20 09:38:01 -0400 (Fri, 20 Oct 2023).
| Hostname | OS | Arch (*) | R version | Installed pkgs |
|---|---|---|---|---|
| kjohnson2 | macOS 12.6.1 Monterey | arm64 | 4.3.1 (2023-06-16) -- "Beagle Scouts" | 4347 |
| Click on any hostname to see more info about the system (e.g. compilers) (*) as reported by 'uname -p', except on Windows and Mac OS X | ||||
| Package 508/2230 | Hostname | OS / Arch | INSTALL | BUILD | CHECK | BUILD BIN | ||||||||
| DeconRNASeq 1.42.0 (landing page) Ting Gong
| kjohnson2 | macOS 12.6.1 Monterey / arm64 | OK | OK | OK | OK | ||||||||
|
To the developers/maintainers of the DeconRNASeq package: - Use the following Renviron settings to reproduce errors and warnings. - If 'R CMD check' started to fail recently on the Linux builder(s) over a missing dependency, add the missing dependency to 'Suggests:' in your DESCRIPTION file. See Renviron.bioc for more information. |
| Package: DeconRNASeq |
| Version: 1.42.0 |
| Command: /Library/Frameworks/R.framework/Resources/bin/R CMD check --install=check:DeconRNASeq.install-out.txt --library=/Library/Frameworks/R.framework/Resources/library --no-vignettes --timings DeconRNASeq_1.42.0.tar.gz |
| StartedAt: 2023-10-17 14:17:11 -0400 (Tue, 17 Oct 2023) |
| EndedAt: 2023-10-17 14:18:15 -0400 (Tue, 17 Oct 2023) |
| EllapsedTime: 64.5 seconds |
| RetCode: 0 |
| Status: OK |
| CheckDir: DeconRNASeq.Rcheck |
| Warnings: 0 |
##############################################################################
##############################################################################
###
### Running command:
###
### /Library/Frameworks/R.framework/Resources/bin/R CMD check --install=check:DeconRNASeq.install-out.txt --library=/Library/Frameworks/R.framework/Resources/library --no-vignettes --timings DeconRNASeq_1.42.0.tar.gz
###
##############################################################################
##############################################################################
* using log directory ‘/Users/biocbuild/bbs-3.17-bioc-mac-arm64/meat/DeconRNASeq.Rcheck’
* using R version 4.3.1 (2023-06-16)
* using platform: aarch64-apple-darwin20 (64-bit)
* R was compiled by
Apple clang version 14.0.0 (clang-1400.0.29.202)
GNU Fortran (GCC) 12.2.0
* running under: macOS Monterey 12.6.7
* using session charset: UTF-8
* using option ‘--no-vignettes’
* checking for file ‘DeconRNASeq/DESCRIPTION’ ... OK
* checking extension type ... Package
* this is package ‘DeconRNASeq’ version ‘1.42.0’
* checking package namespace information ... OK
* checking package dependencies ... OK
* checking if this is a source package ... OK
* checking if there is a namespace ... OK
* checking for hidden files and directories ... OK
* checking for portable file names ... OK
* checking for sufficient/correct file permissions ... OK
* checking whether package ‘DeconRNASeq’ can be installed ... OK
* checking installed package size ... NOTE
installed size is 6.6Mb
sub-directories of 1Mb or more:
data 6.5Mb
* checking package directory ... OK
* checking ‘build’ directory ... OK
* checking DESCRIPTION meta-information ... OK
* checking top-level files ... OK
* checking for left-over files ... OK
* checking index information ... OK
* checking package subdirectories ... OK
* checking R files for non-ASCII characters ... OK
* checking R files for syntax errors ... OK
* checking whether the package can be loaded ... OK
* checking whether the package can be loaded with stated dependencies ... OK
* checking whether the package can be unloaded cleanly ... OK
* checking whether the namespace can be loaded with stated dependencies ... OK
* checking whether the namespace can be unloaded cleanly ... OK
* checking dependencies in R code ... NOTE
'library' or 'require' call to ‘grid’ which was already attached by Depends.
Please remove these calls from your code.
Packages in Depends field not imported from:
‘ggplot2’ ‘grid’ ‘pcaMethods’
These packages need to be imported from (in the NAMESPACE file)
for when this namespace is loaded but not attached.
* checking S3 generic/method consistency ... OK
* checking replacement functions ... OK
* checking foreign function calls ... OK
* checking R code for possible problems ... NOTE
DeconRNASeq: no visible global function definition for ‘prep’
DeconRNASeq: no visible global function definition for ‘pca’
DeconRNASeq: no visible global function definition for ‘R2cum’
DeconRNASeq: no visible global function definition for ‘ggplot’
DeconRNASeq: no visible global function definition for ‘aes’
DeconRNASeq: no visible global function definition for ‘geom_point’
DeconRNASeq: no visible global function definition for ‘labs’
DeconRNASeq: no visible global function definition for ‘geom_abline’
DeconRNASeq: no visible global function definition for ‘xlab’
DeconRNASeq: no visible global function definition for ‘ylab’
condplot: no visible global function definition for ‘rainbow’
condplot: no visible global function definition for ‘lines’
condplot: no visible global function definition for ‘axis’
condplot: no visible global function definition for ‘title’
decon.bootstrap: no visible global function definition for ‘t.test’
multiplot: no visible global function definition for ‘grid.newpage’
multiplot: no visible global function definition for ‘pushViewport’
multiplot: no visible global function definition for ‘viewport’
multiplot: no visible global function definition for ‘grid.layout’
multiplot : vplayout: no visible global function definition for
‘viewport’
Undefined global functions or variables:
R2cum aes axis geom_abline geom_point ggplot grid.layout grid.newpage
labs lines pca prep pushViewport rainbow t.test title viewport xlab
ylab
Consider adding
importFrom("grDevices", "rainbow")
importFrom("graphics", "axis", "lines", "title")
importFrom("stats", "t.test")
to your NAMESPACE file.
* checking Rd files ... OK
* checking Rd metadata ... OK
* checking Rd cross-references ... OK
* checking for missing documentation entries ... OK
* checking for code/documentation mismatches ... OK
* checking Rd \usage sections ... OK
* checking Rd contents ... OK
* checking for unstated dependencies in examples ... OK
* checking contents of ‘data’ directory ... OK
* checking data for non-ASCII characters ... OK
* checking data for ASCII and uncompressed saves ... OK
* checking sizes of PDF files under ‘inst/doc’ ... OK
* checking files in ‘vignettes’ ... OK
* checking examples ... OK
* checking for unstated dependencies in vignettes ... OK
* checking package vignettes in ‘inst/doc’ ... OK
* checking running R code from vignettes ... SKIPPED
* checking re-building of vignette outputs ... SKIPPED
* checking PDF version of manual ... OK
* DONE
Status: 3 NOTEs
See
‘/Users/biocbuild/bbs-3.17-bioc-mac-arm64/meat/DeconRNASeq.Rcheck/00check.log’
for details.
DeconRNASeq.Rcheck/00install.out
############################################################################## ############################################################################## ### ### Running command: ### ### /Library/Frameworks/R.framework/Resources/bin/R CMD INSTALL DeconRNASeq ### ############################################################################## ############################################################################## * installing to library ‘/Library/Frameworks/R.framework/Versions/4.3-arm64/Resources/library’ * installing *source* package ‘DeconRNASeq’ ... ** using staged installation ** R ** data ** demo ** byte-compile and prepare package for lazy loading ** help *** installing help indices ** building package indices ** installing vignettes ** testing if installed package can be loaded from temporary location ** testing if installed package can be loaded from final location ** testing if installed package keeps a record of temporary installation path * DONE (DeconRNASeq)
DeconRNASeq.Rcheck/DeconRNASeq-Ex.timings
| name | user | system | elapsed | |
| DeconRNASeq | 0.000 | 0.000 | 0.001 | |
| all.datasets | 0.063 | 0.007 | 0.086 | |
| array.proportions | 0.045 | 0.004 | 0.064 | |
| array.signatures | 0.046 | 0.005 | 0.069 | |
| condplot | 0.046 | 0.005 | 0.069 | |
| datasets | 0.100 | 0.007 | 0.140 | |
| fraction | 0.282 | 0.013 | 0.383 | |
| liver_kidney | 0.096 | 0.006 | 0.129 | |
| multi_tissue | 0.278 | 0.012 | 0.376 | |
| multiplot | 0.001 | 0.001 | 0.001 | |
| proportions | 0.095 | 0.007 | 0.126 | |
| signatures | 0.097 | 0.007 | 0.130 | |
| x.data | 0.274 | 0.012 | 0.362 | |
| x.signature | 0.277 | 0.013 | 0.371 | |
| x.signature.filtered | 0.278 | 0.013 | 0.371 | |
| x.signature.filtered.optimal | 0.277 | 0.013 | 0.366 | |