| Back to Mac ARM64 build report for BioC 3.17 |
|
This page was generated on 2023-10-20 09:38:01 -0400 (Fri, 20 Oct 2023).
| Hostname | OS | Arch (*) | R version | Installed pkgs |
|---|---|---|---|---|
| kjohnson2 | macOS 12.6.1 Monterey | arm64 | 4.3.1 (2023-06-16) -- "Beagle Scouts" | 4347 |
| Click on any hostname to see more info about the system (e.g. compilers) (*) as reported by 'uname -p', except on Windows and Mac OS X | ||||
| Package 547/2230 | Hostname | OS / Arch | INSTALL | BUILD | CHECK | BUILD BIN | ||||||||
| DEXSeq 1.46.1 (landing page) Alejandro Reyes
| kjohnson2 | macOS 12.6.1 Monterey / arm64 | OK | OK | OK | OK | ||||||||
|
To the developers/maintainers of the DEXSeq package: - Use the following Renviron settings to reproduce errors and warnings. - If 'R CMD check' started to fail recently on the Linux builder(s) over a missing dependency, add the missing dependency to 'Suggests:' in your DESCRIPTION file. See Renviron.bioc for more information. |
| Package: DEXSeq |
| Version: 1.46.1 |
| Command: rm -rf DEXSeq.buildbin-libdir && mkdir DEXSeq.buildbin-libdir && /Users/biocbuild/BBS/utils/build-universal.sh DEXSeq_1.46.1.tar.gz /Library/Frameworks/R.framework/Resources/bin/R DEXSeq.buildbin-libdir |
| StartedAt: 2023-10-19 12:47:17 -0400 (Thu, 19 Oct 2023) |
| EndedAt: 2023-10-19 12:48:56 -0400 (Thu, 19 Oct 2023) |
| EllapsedTime: 99.1 seconds |
| RetCode: 0 |
| Status: OK |
| PackageFile: DEXSeq_1.46.1.tgz |
| PackageFileSize: 2.071 MiB |
############################################################################## ############################################################################## ### ### Running command: ### ### rm -rf DEXSeq.buildbin-libdir && mkdir DEXSeq.buildbin-libdir && /Users/biocbuild/BBS/utils/build-universal.sh DEXSeq_1.46.1.tar.gz /Library/Frameworks/R.framework/Resources/bin/R DEXSeq.buildbin-libdir ### ############################################################################## ############################################################################## >>>>>>> >>>>>>> INSTALLATION WITH 'R CMD INSTALL --preclean --no-multiarch --library=DEXSeq.buildbin-libdir DEXSeq_1.46.1.tar.gz' >>>>>>> * installing *source* package ‘DEXSeq’ ... ** using staged installation ** R ** inst ** byte-compile and prepare package for lazy loading ** help *** installing help indices ** building package indices ** installing vignettes ** testing if installed package can be loaded from temporary location ** testing if installed package can be loaded from final location ** testing if installed package keeps a record of temporary installation path * DONE (DEXSeq)