| Back to Mac ARM64 build report for BioC 3.17 |
|
This page was generated on 2023-10-20 09:38:00 -0400 (Fri, 20 Oct 2023).
| Hostname | OS | Arch (*) | R version | Installed pkgs |
|---|---|---|---|---|
| kjohnson2 | macOS 12.6.1 Monterey | arm64 | 4.3.1 (2023-06-16) -- "Beagle Scouts" | 4347 |
| Click on any hostname to see more info about the system (e.g. compilers) (*) as reported by 'uname -p', except on Windows and Mac OS X | ||||
| Package 412/2230 | Hostname | OS / Arch | INSTALL | BUILD | CHECK | BUILD BIN | ||||||||
| ComPrAn 1.8.0 (landing page) Petra Palenikova
| kjohnson2 | macOS 12.6.1 Monterey / arm64 | OK | OK | OK | OK | ||||||||
|
To the developers/maintainers of the ComPrAn package: - Use the following Renviron settings to reproduce errors and warnings. - If 'R CMD check' started to fail recently on the Linux builder(s) over a missing dependency, add the missing dependency to 'Suggests:' in your DESCRIPTION file. See Renviron.bioc for more information. |
| Package: ComPrAn |
| Version: 1.8.0 |
| Command: /Library/Frameworks/R.framework/Resources/bin/R CMD check --install=check:ComPrAn.install-out.txt --library=/Library/Frameworks/R.framework/Resources/library --no-vignettes --timings ComPrAn_1.8.0.tar.gz |
| StartedAt: 2023-10-17 11:29:45 -0400 (Tue, 17 Oct 2023) |
| EndedAt: 2023-10-17 11:31:43 -0400 (Tue, 17 Oct 2023) |
| EllapsedTime: 117.8 seconds |
| RetCode: 0 |
| Status: OK |
| CheckDir: ComPrAn.Rcheck |
| Warnings: 0 |
##############################################################################
##############################################################################
###
### Running command:
###
### /Library/Frameworks/R.framework/Resources/bin/R CMD check --install=check:ComPrAn.install-out.txt --library=/Library/Frameworks/R.framework/Resources/library --no-vignettes --timings ComPrAn_1.8.0.tar.gz
###
##############################################################################
##############################################################################
* using log directory ‘/Users/biocbuild/bbs-3.17-bioc-mac-arm64/meat/ComPrAn.Rcheck’
* using R version 4.3.1 (2023-06-16)
* using platform: aarch64-apple-darwin20 (64-bit)
* R was compiled by
Apple clang version 14.0.0 (clang-1400.0.29.202)
GNU Fortran (GCC) 12.2.0
* running under: macOS Monterey 12.6.7
* using session charset: UTF-8
* using option ‘--no-vignettes’
* checking for file ‘ComPrAn/DESCRIPTION’ ... OK
* checking extension type ... Package
* this is package ‘ComPrAn’ version ‘1.8.0’
* package encoding: UTF-8
* checking package namespace information ... OK
* checking package dependencies ... OK
* checking if this is a source package ... OK
* checking if there is a namespace ... OK
* checking for hidden files and directories ... OK
* checking for portable file names ... OK
* checking for sufficient/correct file permissions ... OK
* checking whether package ‘ComPrAn’ can be installed ... OK
* checking installed package size ... NOTE
installed size is 5.1Mb
sub-directories of 1Mb or more:
extData 4.8Mb
* checking package directory ... OK
* checking ‘build’ directory ... OK
* checking DESCRIPTION meta-information ... OK
* checking top-level files ... OK
* checking for left-over files ... OK
* checking index information ... OK
* checking package subdirectories ... OK
* checking R files for non-ASCII characters ... OK
* checking R files for syntax errors ... OK
* checking whether the package can be loaded ... OK
* checking whether the package can be loaded with stated dependencies ... OK
* checking whether the package can be unloaded cleanly ... OK
* checking whether the namespace can be loaded with stated dependencies ... OK
* checking whether the namespace can be unloaded cleanly ... OK
* checking dependencies in R code ... OK
* checking S3 generic/method consistency ... OK
* checking replacement functions ... OK
* checking foreign function calls ... OK
* checking R code for possible problems ... OK
* checking Rd files ... OK
* checking Rd metadata ... OK
* checking Rd cross-references ... OK
* checking for missing documentation entries ... OK
* checking for code/documentation mismatches ... OK
* checking Rd \usage sections ... OK
* checking Rd contents ... OK
* checking for unstated dependencies in examples ... OK
* checking files in ‘vignettes’ ... OK
* checking examples ... OK
Examples with CPU (user + system) or elapsed time > 5s
user system elapsed
getNormTable 7.712 0.265 11.866
allPeptidesPlot 3.575 0.112 5.639
* checking for unstated dependencies in ‘tests’ ... OK
* checking tests ...
Running ‘testthat.R’
OK
* checking for unstated dependencies in vignettes ... OK
* checking package vignettes in ‘inst/doc’ ... OK
* checking running R code from vignettes ... SKIPPED
* checking re-building of vignette outputs ... SKIPPED
* checking PDF version of manual ... OK
* DONE
Status: 1 NOTE
See
‘/Users/biocbuild/bbs-3.17-bioc-mac-arm64/meat/ComPrAn.Rcheck/00check.log’
for details.
ComPrAn.Rcheck/00install.out
############################################################################## ############################################################################## ### ### Running command: ### ### /Library/Frameworks/R.framework/Resources/bin/R CMD INSTALL ComPrAn ### ############################################################################## ############################################################################## * installing to library ‘/Library/Frameworks/R.framework/Versions/4.3-arm64/Resources/library’ * installing *source* package ‘ComPrAn’ ... ** using staged installation ** R ** inst ** byte-compile and prepare package for lazy loading ** help *** installing help indices ** building package indices ** installing vignettes ** testing if installed package can be loaded from temporary location ** testing if installed package can be loaded from final location ** testing if installed package keeps a record of temporary installation path * DONE (ComPrAn)
ComPrAn.Rcheck/tests/testthat.Rout
R version 4.3.1 (2023-06-16) -- "Beagle Scouts"
Copyright (C) 2023 The R Foundation for Statistical Computing
Platform: aarch64-apple-darwin20 (64-bit)
R is free software and comes with ABSOLUTELY NO WARRANTY.
You are welcome to redistribute it under certain conditions.
Type 'license()' or 'licence()' for distribution details.
R is a collaborative project with many contributors.
Type 'contributors()' for more information and
'citation()' on how to cite R or R packages in publications.
Type 'demo()' for some demos, 'help()' for on-line help, or
'help.start()' for an HTML browser interface to help.
Type 'q()' to quit R.
> library(testthat)
> library(ComPrAn)
>
> test_check("ComPrAn")
[ FAIL 0 | WARN 0 | SKIP 0 | PASS 1 ]
>
> proc.time()
user system elapsed
1.837 0.187 3.036
ComPrAn.Rcheck/ComPrAn-Ex.timings
| name | user | system | elapsed | |
| allPeptidesPlot | 3.575 | 0.112 | 5.639 | |
| assignClusters | 0.061 | 0.004 | 0.094 | |
| cleanData | 0.107 | 0.005 | 0.160 | |
| clusterComp | 0.052 | 0.002 | 0.085 | |
| compranApp | 0 | 0 | 0 | |
| exportClusterAssignments | 0.071 | 0.003 | 0.115 | |
| getNormTable | 7.712 | 0.265 | 11.866 | |
| groupHeatMap | 0.511 | 0.015 | 0.767 | |
| makeBarPlotClusterSummary | 0.514 | 0.011 | 0.668 | |
| oneGroupTwoLabelsCoMigration | 0.303 | 0.006 | 0.424 | |
| onlyInOneLabelState | 1.897 | 0.026 | 2.610 | |
| peptideImport | 0.054 | 0.002 | 0.086 | |
| pickPeptide | 2.023 | 0.028 | 2.685 | |
| protImportForAnalysis | 0.037 | 0.003 | 0.050 | |
| proteinPlot | 0.353 | 0.008 | 0.467 | |
| simplifyProteins | 1.639 | 0.022 | 2.127 | |
| splitModLab | 1.310 | 0.016 | 1.717 | |
| toFilter | 0.105 | 0.006 | 0.148 | |
| twoGroupsWithinLabelCoMigration | 0.454 | 0.010 | 0.658 | |