| Back to Mac ARM64 build report for BioC 3.17 |
|
This page was generated on 2023-10-20 09:38:00 -0400 (Fri, 20 Oct 2023).
| Hostname | OS | Arch (*) | R version | Installed pkgs |
|---|---|---|---|---|
| kjohnson2 | macOS 12.6.1 Monterey | arm64 | 4.3.1 (2023-06-16) -- "Beagle Scouts" | 4347 |
| Click on any hostname to see more info about the system (e.g. compilers) (*) as reported by 'uname -p', except on Windows and Mac OS X | ||||
| Package 437/2230 | Hostname | OS / Arch | INSTALL | BUILD | CHECK | BUILD BIN | ||||||||
| CoSIA 1.0.0 (landing page) Amanda D. Clark
| kjohnson2 | macOS 12.6.1 Monterey / arm64 | OK | OK | OK | OK | ||||||||
|
To the developers/maintainers of the CoSIA package: - Use the following Renviron settings to reproduce errors and warnings. - If 'R CMD check' started to fail recently on the Linux builder(s) over a missing dependency, add the missing dependency to 'Suggests:' in your DESCRIPTION file. See Renviron.bioc for more information. |
| Package: CoSIA |
| Version: 1.0.0 |
| Command: /Library/Frameworks/R.framework/Resources/bin/R CMD check --install=check:CoSIA.install-out.txt --library=/Library/Frameworks/R.framework/Resources/library --no-vignettes --timings CoSIA_1.0.0.tar.gz |
| StartedAt: 2023-10-17 12:01:59 -0400 (Tue, 17 Oct 2023) |
| EndedAt: 2023-10-17 12:32:40 -0400 (Tue, 17 Oct 2023) |
| EllapsedTime: 1840.9 seconds |
| RetCode: 0 |
| Status: OK |
| CheckDir: CoSIA.Rcheck |
| Warnings: 0 |
##############################################################################
##############################################################################
###
### Running command:
###
### /Library/Frameworks/R.framework/Resources/bin/R CMD check --install=check:CoSIA.install-out.txt --library=/Library/Frameworks/R.framework/Resources/library --no-vignettes --timings CoSIA_1.0.0.tar.gz
###
##############################################################################
##############################################################################
* using log directory ‘/Users/biocbuild/bbs-3.17-bioc-mac-arm64/meat/CoSIA.Rcheck’
* using R version 4.3.1 (2023-06-16)
* using platform: aarch64-apple-darwin20 (64-bit)
* R was compiled by
Apple clang version 14.0.0 (clang-1400.0.29.202)
GNU Fortran (GCC) 12.2.0
* running under: macOS Monterey 12.6.7
* using session charset: UTF-8
* using option ‘--no-vignettes’
* checking for file ‘CoSIA/DESCRIPTION’ ... OK
* checking extension type ... Package
* this is package ‘CoSIA’ version ‘1.0.0’
* package encoding: UTF-8
* checking package namespace information ... OK
* checking package dependencies ... OK
* checking if this is a source package ... OK
* checking if there is a namespace ... OK
* checking for hidden files and directories ... OK
* checking for portable file names ... OK
* checking for sufficient/correct file permissions ... OK
* checking whether package ‘CoSIA’ can be installed ... OK
* checking installed package size ... OK
* checking package directory ... OK
* checking ‘build’ directory ... OK
* checking DESCRIPTION meta-information ... OK
* checking top-level files ... OK
* checking for left-over files ... OK
* checking index information ... OK
* checking package subdirectories ... OK
* checking R files for non-ASCII characters ... OK
* checking R files for syntax errors ... OK
* checking whether the package can be loaded ... OK
* checking whether the package can be loaded with stated dependencies ... OK
* checking whether the package can be unloaded cleanly ... OK
* checking whether the namespace can be loaded with stated dependencies ... OK
* checking whether the namespace can be unloaded cleanly ... OK
* checking dependencies in R code ... OK
* checking S3 generic/method consistency ... OK
* checking replacement functions ... OK
* checking foreign function calls ... OK
* checking R code for possible problems ... OK
* checking Rd files ... OK
* checking Rd metadata ... OK
* checking Rd cross-references ... OK
* checking for missing documentation entries ... OK
* checking for code/documentation mismatches ... OK
* checking Rd \usage sections ... OK
* checking Rd contents ... OK
* checking for unstated dependencies in examples ... OK
* checking files in ‘vignettes’ ... OK
* checking examples ... OK
Examples with CPU (user + system) or elapsed time > 5s
user system elapsed
plotCVGEx-CoSIAn-method 145.102 140.267 517.525
plotCVGEx 92.396 72.476 304.928
plotDSGEx 31.147 50.906 184.574
plotDSGEx-CoSIAn-method 31.397 42.544 135.632
plotSpeciesGEx 28.677 39.856 137.102
getGEx-CoSIAn-method 52.065 4.480 103.499
plotSpeciesGEx-CoSIAn-method 23.175 18.874 89.713
getTissues 29.887 0.919 47.418
plotTissueGEx 19.179 0.744 35.028
plotTissueGEx-CoSIAn-method 18.688 0.650 35.331
getGExMetrics-CoSIAn-method 7.755 0.250 12.686
getGExMetrics 7.039 0.277 11.654
getGEx 5.991 0.236 9.434
getConversion-CoSIAn-method 4.809 0.176 7.606
* checking for unstated dependencies in vignettes ... OK
* checking package vignettes in ‘inst/doc’ ... OK
* checking running R code from vignettes ... SKIPPED
* checking re-building of vignette outputs ... SKIPPED
* checking PDF version of manual ... OK
* DONE
Status: OK
CoSIA.Rcheck/00install.out
############################################################################## ############################################################################## ### ### Running command: ### ### /Library/Frameworks/R.framework/Resources/bin/R CMD INSTALL CoSIA ### ############################################################################## ############################################################################## * installing to library ‘/Library/Frameworks/R.framework/Versions/4.3-arm64/Resources/library’ * installing *source* package ‘CoSIA’ ... ** using staged installation ** R ** inst ** byte-compile and prepare package for lazy loading ** help *** installing help indices ** building package indices ** installing vignettes ** testing if installed package can be loaded from temporary location ** testing if installed package can be loaded from final location ** testing if installed package keeps a record of temporary installation path * DONE (CoSIA)
CoSIA.Rcheck/CoSIA-Ex.timings
| name | user | system | elapsed | |
| CoSIA-constructor | 0.004 | 0.000 | 0.007 | |
| getConversion-CoSIAn-method | 4.809 | 0.176 | 7.606 | |
| getConversion | 2.779 | 0.067 | 4.368 | |
| getGEx-CoSIAn-method | 52.065 | 4.480 | 103.499 | |
| getGEx | 5.991 | 0.236 | 9.434 | |
| getGExMetrics-CoSIAn-method | 7.755 | 0.250 | 12.686 | |
| getGExMetrics | 7.039 | 0.277 | 11.654 | |
| getTissues | 29.887 | 0.919 | 47.418 | |
| plotCVGEx-CoSIAn-method | 145.102 | 140.267 | 517.525 | |
| plotCVGEx | 92.396 | 72.476 | 304.928 | |
| plotDSGEx-CoSIAn-method | 31.397 | 42.544 | 135.632 | |
| plotDSGEx | 31.147 | 50.906 | 184.574 | |
| plotSpeciesGEx-CoSIAn-method | 23.175 | 18.874 | 89.713 | |
| plotSpeciesGEx | 28.677 | 39.856 | 137.102 | |
| plotTissueGEx-CoSIAn-method | 18.688 | 0.650 | 35.331 | |
| plotTissueGEx | 19.179 | 0.744 | 35.028 | |
| viewCoSIAn-CoSIAn-method | 0.002 | 0.001 | 0.004 | |
| viewCoSIAn | 0.002 | 0.001 | 0.002 | |