| Back to Mac ARM64 build report for BioC 3.17 |
|
This page was generated on 2023-10-20 09:38:00 -0400 (Fri, 20 Oct 2023).
| Hostname | OS | Arch (*) | R version | Installed pkgs |
|---|---|---|---|---|
| kjohnson2 | macOS 12.6.1 Monterey | arm64 | 4.3.1 (2023-06-16) -- "Beagle Scouts" | 4347 |
| Click on any hostname to see more info about the system (e.g. compilers) (*) as reported by 'uname -p', except on Windows and Mac OS X | ||||
| Package 363/2230 | Hostname | OS / Arch | INSTALL | BUILD | CHECK | BUILD BIN | ||||||||
| CluMSID 1.16.0 (landing page) Tobias Depke
| kjohnson2 | macOS 12.6.1 Monterey / arm64 | OK | OK | WARNINGS | OK | ||||||||
|
To the developers/maintainers of the CluMSID package: - Use the following Renviron settings to reproduce errors and warnings. - If 'R CMD check' started to fail recently on the Linux builder(s) over a missing dependency, add the missing dependency to 'Suggests:' in your DESCRIPTION file. See Renviron.bioc for more information. |
| Package: CluMSID |
| Version: 1.16.0 |
| Command: /Library/Frameworks/R.framework/Resources/bin/R CMD check --install=check:CluMSID.install-out.txt --library=/Library/Frameworks/R.framework/Resources/library --no-vignettes --timings CluMSID_1.16.0.tar.gz |
| StartedAt: 2023-10-17 10:11:18 -0400 (Tue, 17 Oct 2023) |
| EndedAt: 2023-10-17 10:17:02 -0400 (Tue, 17 Oct 2023) |
| EllapsedTime: 343.8 seconds |
| RetCode: 0 |
| Status: WARNINGS |
| CheckDir: CluMSID.Rcheck |
| Warnings: 1 |
##############################################################################
##############################################################################
###
### Running command:
###
### /Library/Frameworks/R.framework/Resources/bin/R CMD check --install=check:CluMSID.install-out.txt --library=/Library/Frameworks/R.framework/Resources/library --no-vignettes --timings CluMSID_1.16.0.tar.gz
###
##############################################################################
##############################################################################
* using log directory ‘/Users/biocbuild/bbs-3.17-bioc-mac-arm64/meat/CluMSID.Rcheck’
* using R version 4.3.1 (2023-06-16)
* using platform: aarch64-apple-darwin20 (64-bit)
* R was compiled by
Apple clang version 14.0.0 (clang-1400.0.29.202)
GNU Fortran (GCC) 12.2.0
* running under: macOS Monterey 12.6.7
* using session charset: UTF-8
* using option ‘--no-vignettes’
* checking for file ‘CluMSID/DESCRIPTION’ ... OK
* checking extension type ... Package
* this is package ‘CluMSID’ version ‘1.16.0’
* package encoding: UTF-8
* checking package namespace information ... OK
* checking package dependencies ... OK
* checking if this is a source package ... OK
* checking if there is a namespace ... OK
* checking for hidden files and directories ... OK
* checking for portable file names ... OK
* checking for sufficient/correct file permissions ... OK
* checking whether package ‘CluMSID’ can be installed ... WARNING
Found the following significant warnings:
Warning: replacing previous import ‘dbscan::as.dendrogram’ by ‘stats::as.dendrogram’ when loading ‘CluMSID’
See ‘/Users/biocbuild/bbs-3.17-bioc-mac-arm64/meat/CluMSID.Rcheck/00install.out’ for details.
* checking installed package size ... OK
* checking package directory ... OK
* checking ‘build’ directory ... OK
* checking DESCRIPTION meta-information ... OK
* checking top-level files ... OK
* checking for left-over files ... OK
* checking index information ... OK
* checking package subdirectories ... OK
* checking R files for non-ASCII characters ... OK
* checking R files for syntax errors ... OK
* checking whether the package can be loaded ... OK
* checking whether the package can be loaded with stated dependencies ... OK
* checking whether the package can be unloaded cleanly ... OK
* checking whether the namespace can be loaded with stated dependencies ... OK
* checking whether the namespace can be unloaded cleanly ... OK
* checking dependencies in R code ... OK
* checking S3 generic/method consistency ... OK
* checking replacement functions ... OK
* checking foreign function calls ... OK
* checking R code for possible problems ... OK
* checking Rd files ... OK
* checking Rd metadata ... OK
* checking Rd cross-references ... OK
* checking for missing documentation entries ... OK
* checking for code/documentation mismatches ... OK
* checking Rd \usage sections ... OK
* checking Rd contents ... OK
* checking for unstated dependencies in examples ... OK
* checking files in ‘vignettes’ ... OK
* checking examples ... OK
Examples with CPU (user + system) or elapsed time > 5s
user system elapsed
mergeMS2spectra 25.809 0.275 40.116
extractMS2spectra 21.703 0.253 33.903
splitPolarities 21.626 0.214 33.614
* checking for unstated dependencies in ‘tests’ ... OK
* checking tests ...
Running ‘testthat.R’
OK
* checking for unstated dependencies in vignettes ... OK
* checking package vignettes in ‘inst/doc’ ... OK
* checking running R code from vignettes ... SKIPPED
* checking re-building of vignette outputs ... SKIPPED
* checking PDF version of manual ... OK
* DONE
Status: 1 WARNING
See
‘/Users/biocbuild/bbs-3.17-bioc-mac-arm64/meat/CluMSID.Rcheck/00check.log’
for details.
CluMSID.Rcheck/00install.out
############################################################################## ############################################################################## ### ### Running command: ### ### /Library/Frameworks/R.framework/Resources/bin/R CMD INSTALL CluMSID ### ############################################################################## ############################################################################## * installing to library ‘/Library/Frameworks/R.framework/Versions/4.3-arm64/Resources/library’ * installing *source* package ‘CluMSID’ ... ** using staged installation ** R ** byte-compile and prepare package for lazy loading Warning: replacing previous import ‘dbscan::as.dendrogram’ by ‘stats::as.dendrogram’ when loading ‘CluMSID’ ** help *** installing help indices ** building package indices ** installing vignettes ** testing if installed package can be loaded from temporary location Warning: replacing previous import ‘dbscan::as.dendrogram’ by ‘stats::as.dendrogram’ when loading ‘CluMSID’ ** testing if installed package can be loaded from final location Warning: replacing previous import ‘dbscan::as.dendrogram’ by ‘stats::as.dendrogram’ when loading ‘CluMSID’ ** testing if installed package keeps a record of temporary installation path * DONE (CluMSID)
CluMSID.Rcheck/tests/testthat.Rout
R version 4.3.1 (2023-06-16) -- "Beagle Scouts"
Copyright (C) 2023 The R Foundation for Statistical Computing
Platform: aarch64-apple-darwin20 (64-bit)
R is free software and comes with ABSOLUTELY NO WARRANTY.
You are welcome to redistribute it under certain conditions.
Type 'license()' or 'licence()' for distribution details.
R is a collaborative project with many contributors.
Type 'contributors()' for more information and
'citation()' on how to cite R or R packages in publications.
Type 'demo()' for some demos, 'help()' for on-line help, or
'help.start()' for an HTML browser interface to help.
Type 'q()' to quit R.
> library(testthat)
> library(CluMSID)
Warning message:
replacing previous import 'dbscan::as.dendrogram' by 'stats::as.dendrogram' when loading 'CluMSID'
>
> test_check("CluMSID")
[ FAIL 0 | WARN 0 | SKIP 0 | PASS 16 ]
>
> proc.time()
user system elapsed
12.030 0.491 19.242
CluMSID.Rcheck/CluMSID-Ex.timings
| name | user | system | elapsed | |
| Featurelist | 0.012 | 0.002 | 0.022 | |
| HCplot | 0.291 | 0.009 | 0.471 | |
| HCtbl | 0.009 | 0.001 | 0.015 | |
| MDSplot | 0.870 | 0.022 | 1.386 | |
| OPTICSplot | 0.027 | 0.003 | 0.050 | |
| OPTICStbl | 0.012 | 0.002 | 0.021 | |
| accessors | 0.057 | 0.006 | 0.093 | |
| addAnnotations | 0.080 | 0.103 | 0.286 | |
| as.MS2spectrum | 0.221 | 0.016 | 0.367 | |
| cossim | 0.020 | 0.001 | 0.033 | |
| distanceMatrix | 0.590 | 0.053 | 0.984 | |
| extractMS2spectra | 21.703 | 0.253 | 33.903 | |
| extractPseudospectra | 0.953 | 0.087 | 1.483 | |
| findFragment | 0.026 | 0.001 | 0.043 | |
| findNL | 0.027 | 0.002 | 0.045 | |
| getSimilarities | 2.870 | 0.033 | 4.459 | |
| getSpectrum | 0.020 | 0.003 | 0.037 | |
| mergeMS2spectra | 25.809 | 0.275 | 40.116 | |
| networkplot | 0.237 | 0.005 | 0.371 | |
| specplot | 0.011 | 0.002 | 0.020 | |
| splitPolarities | 21.626 | 0.214 | 33.614 | |
| writeFeaturelist | 0.038 | 0.002 | 0.066 | |