| Back to Mac ARM64 build report for BioC 3.17 |
|
This page was generated on 2023-10-20 09:37:59 -0400 (Fri, 20 Oct 2023).
| Hostname | OS | Arch (*) | R version | Installed pkgs |
|---|---|---|---|---|
| kjohnson2 | macOS 12.6.1 Monterey | arm64 | 4.3.1 (2023-06-16) -- "Beagle Scouts" | 4347 |
| Click on any hostname to see more info about the system (e.g. compilers) (*) as reported by 'uname -p', except on Windows and Mac OS X | ||||
| Package 324/2230 | Hostname | OS / Arch | INSTALL | BUILD | CHECK | BUILD BIN | ||||||||
| ChIPanalyser 1.22.0 (landing page) Patrick C.N. Martin
| kjohnson2 | macOS 12.6.1 Monterey / arm64 | OK | OK | OK | OK | ||||||||
|
To the developers/maintainers of the ChIPanalyser package: - Use the following Renviron settings to reproduce errors and warnings. - If 'R CMD check' started to fail recently on the Linux builder(s) over a missing dependency, add the missing dependency to 'Suggests:' in your DESCRIPTION file. See Renviron.bioc for more information. |
| Package: ChIPanalyser |
| Version: 1.22.0 |
| Command: /Library/Frameworks/R.framework/Resources/bin/R CMD check --install=check:ChIPanalyser.install-out.txt --library=/Library/Frameworks/R.framework/Resources/library --no-vignettes --timings ChIPanalyser_1.22.0.tar.gz |
| StartedAt: 2023-10-17 08:42:28 -0400 (Tue, 17 Oct 2023) |
| EndedAt: 2023-10-17 08:51:53 -0400 (Tue, 17 Oct 2023) |
| EllapsedTime: 565.2 seconds |
| RetCode: 0 |
| Status: OK |
| CheckDir: ChIPanalyser.Rcheck |
| Warnings: 0 |
##############################################################################
##############################################################################
###
### Running command:
###
### /Library/Frameworks/R.framework/Resources/bin/R CMD check --install=check:ChIPanalyser.install-out.txt --library=/Library/Frameworks/R.framework/Resources/library --no-vignettes --timings ChIPanalyser_1.22.0.tar.gz
###
##############################################################################
##############################################################################
* using log directory ‘/Users/biocbuild/bbs-3.17-bioc-mac-arm64/meat/ChIPanalyser.Rcheck’
* using R version 4.3.1 (2023-06-16)
* using platform: aarch64-apple-darwin20 (64-bit)
* R was compiled by
Apple clang version 14.0.0 (clang-1400.0.29.202)
GNU Fortran (GCC) 12.2.0
* running under: macOS Monterey 12.6.7
* using session charset: UTF-8
* using option ‘--no-vignettes’
* checking for file ‘ChIPanalyser/DESCRIPTION’ ... OK
* checking extension type ... Package
* this is package ‘ChIPanalyser’ version ‘1.22.0’
* package encoding: UTF-8
* checking package namespace information ... OK
* checking package dependencies ... OK
* checking if this is a source package ... OK
* checking if there is a namespace ... OK
* checking for hidden files and directories ... OK
* checking for portable file names ... OK
* checking for sufficient/correct file permissions ... OK
* checking whether package ‘ChIPanalyser’ can be installed ... OK
* checking installed package size ... OK
* checking package directory ... OK
* checking ‘build’ directory ... OK
* checking DESCRIPTION meta-information ... OK
* checking top-level files ... OK
* checking for left-over files ... OK
* checking index information ... OK
* checking package subdirectories ... OK
* checking R files for non-ASCII characters ... OK
* checking R files for syntax errors ... OK
* checking whether the package can be loaded ... OK
* checking whether the package can be loaded with stated dependencies ... OK
* checking whether the package can be unloaded cleanly ... OK
* checking whether the namespace can be loaded with stated dependencies ... OK
* checking whether the namespace can be unloaded cleanly ... OK
* checking dependencies in R code ... OK
* checking S3 generic/method consistency ... OK
* checking replacement functions ... OK
* checking foreign function calls ... OK
* checking R code for possible problems ... OK
* checking Rd files ... OK
* checking Rd metadata ... OK
* checking Rd cross-references ... OK
* checking for missing documentation entries ... OK
* checking for code/documentation mismatches ... OK
* checking Rd \usage sections ... OK
* checking Rd contents ... OK
* checking for unstated dependencies in examples ... OK
* checking contents of ‘data’ directory ... OK
* checking data for non-ASCII characters ... OK
* checking LazyData ... OK
* checking data for ASCII and uncompressed saves ... OK
* checking sizes of PDF files under ‘inst/doc’ ... OK
* checking files in ‘vignettes’ ... OK
* checking examples ... OK
Examples with CPU (user + system) or elapsed time > 5s
user system elapsed
getTestingData 3.873 0.092 6.092
* checking for unstated dependencies in ‘tests’ ... OK
* checking tests ...
Running ‘runTests.R’
OK
* checking for unstated dependencies in vignettes ... OK
* checking package vignettes in ‘inst/doc’ ... OK
* checking running R code from vignettes ... SKIPPED
* checking re-building of vignette outputs ... SKIPPED
* checking PDF version of manual ... OK
* DONE
Status: OK
ChIPanalyser.Rcheck/00install.out
############################################################################## ############################################################################## ### ### Running command: ### ### /Library/Frameworks/R.framework/Resources/bin/R CMD INSTALL ChIPanalyser ### ############################################################################## ############################################################################## * installing to library ‘/Library/Frameworks/R.framework/Versions/4.3-arm64/Resources/library’ * installing *source* package ‘ChIPanalyser’ ... ** using staged installation ** R ** data *** moving datasets to lazyload DB ** inst ** byte-compile and prepare package for lazy loading Creating a new generic function for ‘drop’ in package ‘ChIPanalyser’ ** help *** installing help indices ** building package indices ** installing vignettes ** testing if installed package can be loaded from temporary location ** testing if installed package can be loaded from final location ** testing if installed package keeps a record of temporary installation path * DONE (ChIPanalyser)
ChIPanalyser.Rcheck/tests/runTests.Rout
R version 4.3.1 (2023-06-16) -- "Beagle Scouts"
Copyright (C) 2023 The R Foundation for Statistical Computing
Platform: aarch64-apple-darwin20 (64-bit)
R is free software and comes with ABSOLUTELY NO WARRANTY.
You are welcome to redistribute it under certain conditions.
Type 'license()' or 'licence()' for distribution details.
R is a collaborative project with many contributors.
Type 'contributors()' for more information and
'citation()' on how to cite R or R packages in publications.
Type 'demo()' for some demos, 'help()' for on-line help, or
'help.start()' for an HTML browser interface to help.
Type 'q()' to quit R.
> BiocGenerics:::testPackage("ChIPanalyser")
Attaching package: 'BiocGenerics'
The following objects are masked from 'package:stats':
IQR, mad, sd, var, xtabs
The following objects are masked from 'package:base':
Filter, Find, Map, Position, Reduce, anyDuplicated, aperm, append,
as.data.frame, basename, cbind, colnames, dirname, do.call,
duplicated, eval, evalq, get, grep, grepl, intersect, is.unsorted,
lapply, mapply, match, mget, order, paste, pmax, pmax.int, pmin,
pmin.int, rank, rbind, rownames, sapply, setdiff, sort, table,
tapply, union, unique, unsplit, which.max, which.min
Attaching package: 'S4Vectors'
The following object is masked from 'package:utils':
findMatches
The following objects are masked from 'package:base':
I, expand.grid, unname
Attaching package: 'Biostrings'
The following object is masked from 'package:base':
strsplit
Attaching package: 'ChIPanalyser'
The following object is masked from 'package:IRanges':
drop
The following object is masked from 'package:base':
drop
Loading required package: BSgenome.Dmelanogaster.UCSC.dm6
RUNIT TEST PROTOCOL -- Tue Oct 17 08:51:25 2023
***********************************************
Number of test functions: 0
Number of errors: 0
Number of failures: 0
1 Test Suite :
ChIPanalyser RUnit Tests - 0 test functions, 0 errors, 0 failures
Number of test functions: 0
Number of errors: 0
Number of failures: 0
>
> proc.time()
user system elapsed
79.767 21.681 148.897
ChIPanalyser.Rcheck/ChIPanalyser-Ex.timings
| name | user | system | elapsed | |
| BPFrequency | 0.154 | 0.011 | 0.259 | |
| BPFrequency_- | 0.002 | 0.003 | 0.008 | |
| ChIPScore-class | 0.001 | 0.000 | 0.002 | |
| ChIPanalyser-package | 0 | 0 | 0 | |
| DNASequenceLength | 0.002 | 0.002 | 0.004 | |
| GRList-class | 0.000 | 0.000 | 0.001 | |
| PFMFormat | 0.187 | 0.022 | 0.326 | |
| PFMFormat_ | 0.051 | 0.008 | 0.092 | |
| PWMThreshold | 0.011 | 0.003 | 0.027 | |
| PWMThreshold_- | 0.012 | 0.003 | 0.023 | |
| PWMpseudocount | 0.011 | 0.003 | 0.022 | |
| PWMpseudocount_- | 0.010 | 0.003 | 0.018 | |
| PositionFrequencyMatrix | 0.054 | 0.009 | 0.096 | |
| PositionFrequencyMatrix_- | 0.028 | 0.006 | 0.054 | |
| PositionWeightMatrix | 0.140 | 0.008 | 0.225 | |
| PositionWeightMatrix_- | 0.016 | 0.001 | 0.023 | |
| averageExpPWMScore | 0.051 | 0.003 | 0.080 | |
| backgroundSignal | 0.009 | 0.001 | 0.013 | |
| backgroundSignal_- | 0.012 | 0.006 | 0.023 | |
| boundMolecules | 0.009 | 0.000 | 0.013 | |
| boundMolecules_- | 0.012 | 0.005 | 0.026 | |
| chipMean | 0.009 | 0.000 | 0.014 | |
| chipMean_- | 0.009 | 0.001 | 0.017 | |
| chipSd | 0.009 | 0.000 | 0.015 | |
| chipSd_- | 0.008 | 0.001 | 0.010 | |
| chipSmooth | 0.009 | 0.001 | 0.018 | |
| chipSmooth_- | 0.010 | 0.001 | 0.019 | |
| computeChIPProfile | 0.002 | 0.002 | 0.005 | |
| computeGenomeWideScores | 0 | 0 | 0 | |
| computeOccupancy | 0.002 | 0.002 | 0.004 | |
| computeOptimal | 0.002 | 0.002 | 0.006 | |
| computePWMScore | 0.002 | 0.002 | 0.006 | |
| data | 0.001 | 0.002 | 0.004 | |
| drop | 0.050 | 0.003 | 0.079 | |
| evolve | 0.001 | 0.002 | 0.003 | |
| generateStartingPopulation | 0.026 | 0.001 | 0.039 | |
| genomicProfiles-class | 0.001 | 0.001 | 0.002 | |
| genomicProfiles | 0.062 | 0.007 | 0.104 | |
| genomicProfilesInternal-class | 0.001 | 0.001 | 0.003 | |
| getHighestFitnessSolutions | 0.001 | 0.001 | 0.005 | |
| getTestingData | 3.873 | 0.092 | 6.092 | |
| getTrainingData | 1.112 | 0.063 | 1.778 | |
| lambdaPWM | 0.010 | 0.002 | 0.019 | |
| lambdaPWM_ | 0.011 | 0.002 | 0.019 | |
| loci-class | 0.000 | 0.000 | 0.001 | |
| loci | 1.090 | 0.068 | 1.773 | |
| lociWidth | 0.010 | 0.002 | 0.019 | |
| lociWidth_ | 0.010 | 0.002 | 0.016 | |
| maxPWMScore | 0.002 | 0.002 | 0.004 | |
| maxSignal | 0.009 | 0.000 | 0.014 | |
| maxSignal_- | 0.009 | 0.000 | 0.014 | |
| minPWMScore | 0.002 | 0.002 | 0.004 | |
| naturalLog | 0.010 | 0.002 | 0.019 | |
| naturalLog_- | 0.009 | 0.002 | 0.019 | |
| noOfSites | 0.009 | 0.002 | 0.017 | |
| noOfSites_- | 0.010 | 0.002 | 0.023 | |
| noiseFilter | 0.009 | 0.002 | 0.019 | |
| noiseFilter_ | 0.010 | 0.002 | 0.016 | |
| nos-class | 0.001 | 0.000 | 0.001 | |
| parameterOptions-class | 0.001 | 0.001 | 0.003 | |
| parameterOptions | 0.011 | 0.005 | 0.026 | |
| ploidy | 0.009 | 0.000 | 0.013 | |
| ploidy_- | 0.008 | 0.000 | 0.014 | |
| plotOccupancyProfile | 0.002 | 0.002 | 0.008 | |
| plotOptimalHeatMaps | 0.002 | 0.002 | 0.005 | |
| processingChIP | 1.094 | 0.061 | 1.778 | |
| profileAccuracyEstimate | 0.002 | 0.002 | 0.006 | |
| removeBackground | 0.009 | 0.001 | 0.017 | |
| removeBackground_- | 0.009 | 0.000 | 0.014 | |
| scores | 1.111 | 0.081 | 1.822 | |
| searchSites | 0.002 | 0.002 | 0.007 | |
| setChromatinStates | 2.120 | 0.066 | 3.366 | |
| singleRun | 0.002 | 0.002 | 0.005 | |
| splitData | 1.131 | 0.072 | 1.834 | |
| stepSize | 0.009 | 0.000 | 0.013 | |
| stepSize_- | 0.008 | 0.000 | 0.015 | |
| strandRule | 0.009 | 0.001 | 0.018 | |
| strandRule_- | 0.010 | 0.002 | 0.018 | |
| whichstrand | 0.010 | 0.002 | 0.018 | |
| whichstrand_- | 0.010 | 0.001 | 0.018 | |