| Back to Mac ARM64 build report for BioC 3.17 |
|
This page was generated on 2023-10-20 09:38:00 -0400 (Fri, 20 Oct 2023).
| Hostname | OS | Arch (*) | R version | Installed pkgs |
|---|---|---|---|---|
| kjohnson2 | macOS 12.6.1 Monterey | arm64 | 4.3.1 (2023-06-16) -- "Beagle Scouts" | 4347 |
| Click on any hostname to see more info about the system (e.g. compilers) (*) as reported by 'uname -p', except on Windows and Mac OS X | ||||
| Package 388/2230 | Hostname | OS / Arch | INSTALL | BUILD | CHECK | BUILD BIN | ||||||||
| CNVPanelizer 1.32.0 (landing page) Thomas Wolf
| kjohnson2 | macOS 12.6.1 Monterey / arm64 | OK | OK | OK | OK | ||||||||
|
To the developers/maintainers of the CNVPanelizer package: - Use the following Renviron settings to reproduce errors and warnings. - If 'R CMD check' started to fail recently on the Linux builder(s) over a missing dependency, add the missing dependency to 'Suggests:' in your DESCRIPTION file. See Renviron.bioc for more information. |
| Package: CNVPanelizer |
| Version: 1.32.0 |
| Command: /Library/Frameworks/R.framework/Resources/bin/R CMD check --install=check:CNVPanelizer.install-out.txt --library=/Library/Frameworks/R.framework/Resources/library --no-vignettes --timings CNVPanelizer_1.32.0.tar.gz |
| StartedAt: 2023-10-17 10:47:23 -0400 (Tue, 17 Oct 2023) |
| EndedAt: 2023-10-17 10:52:43 -0400 (Tue, 17 Oct 2023) |
| EllapsedTime: 320.0 seconds |
| RetCode: 0 |
| Status: OK |
| CheckDir: CNVPanelizer.Rcheck |
| Warnings: 0 |
##############################################################################
##############################################################################
###
### Running command:
###
### /Library/Frameworks/R.framework/Resources/bin/R CMD check --install=check:CNVPanelizer.install-out.txt --library=/Library/Frameworks/R.framework/Resources/library --no-vignettes --timings CNVPanelizer_1.32.0.tar.gz
###
##############################################################################
##############################################################################
* using log directory ‘/Users/biocbuild/bbs-3.17-bioc-mac-arm64/meat/CNVPanelizer.Rcheck’
* using R version 4.3.1 (2023-06-16)
* using platform: aarch64-apple-darwin20 (64-bit)
* R was compiled by
Apple clang version 14.0.0 (clang-1400.0.29.202)
GNU Fortran (GCC) 12.2.0
* running under: macOS Monterey 12.6.7
* using session charset: UTF-8
* using option ‘--no-vignettes’
* checking for file ‘CNVPanelizer/DESCRIPTION’ ... OK
* checking extension type ... Package
* this is package ‘CNVPanelizer’ version ‘1.32.0’
* checking package namespace information ... OK
* checking package dependencies ... OK
* checking if this is a source package ... OK
* checking if there is a namespace ... OK
* checking for hidden files and directories ... OK
* checking for portable file names ... OK
* checking for sufficient/correct file permissions ... OK
* checking whether package ‘CNVPanelizer’ can be installed ... OK
* checking installed package size ... OK
* checking package directory ... OK
* checking ‘build’ directory ... OK
* checking DESCRIPTION meta-information ... OK
* checking top-level files ... OK
* checking for left-over files ... OK
* checking index information ... OK
* checking package subdirectories ... OK
* checking R files for non-ASCII characters ... OK
* checking R files for syntax errors ... OK
* checking whether the package can be loaded ... OK
* checking whether the package can be loaded with stated dependencies ... OK
* checking whether the package can be unloaded cleanly ... OK
* checking whether the namespace can be loaded with stated dependencies ... OK
* checking whether the namespace can be unloaded cleanly ... OK
* checking dependencies in R code ... NOTE
Namespace in Imports field not imported from: ‘S4Vectors’
All declared Imports should be used.
Unexported object imported by a ':::' call: ‘utils:::format.object_size’
See the note in ?`:::` about the use of this operator.
* checking S3 generic/method consistency ... OK
* checking replacement functions ... OK
* checking foreign function calls ... OK
* checking R code for possible problems ... OK
* checking Rd files ... OK
* checking Rd metadata ... OK
* checking Rd cross-references ... OK
* checking for missing documentation entries ... OK
* checking for code/documentation mismatches ... OK
* checking Rd \usage sections ... OK
* checking Rd contents ... OK
* checking for unstated dependencies in examples ... OK
* checking contents of ‘data’ directory ... OK
* checking data for non-ASCII characters ... OK
* checking data for ASCII and uncompressed saves ... OK
* checking sizes of PDF files under ‘inst/doc’ ... OK
* checking files in ‘vignettes’ ... OK
* checking examples ... OK
Examples with CPU (user + system) or elapsed time > 5s
user system elapsed
PlotBootstrapDistributions 3.672 0.096 5.813
* checking for unstated dependencies in ‘tests’ ... OK
* checking tests ...
Running ‘runTests.R’
OK
* checking for unstated dependencies in vignettes ... OK
* checking package vignettes in ‘inst/doc’ ... OK
* checking running R code from vignettes ... SKIPPED
* checking re-building of vignette outputs ... SKIPPED
* checking PDF version of manual ... OK
* DONE
Status: 1 NOTE
See
‘/Users/biocbuild/bbs-3.17-bioc-mac-arm64/meat/CNVPanelizer.Rcheck/00check.log’
for details.
CNVPanelizer.Rcheck/00install.out
############################################################################## ############################################################################## ### ### Running command: ### ### /Library/Frameworks/R.framework/Resources/bin/R CMD INSTALL CNVPanelizer ### ############################################################################## ############################################################################## * installing to library ‘/Library/Frameworks/R.framework/Versions/4.3-arm64/Resources/library’ * installing *source* package ‘CNVPanelizer’ ... ** using staged installation ** R ** data ** inst ** byte-compile and prepare package for lazy loading ** help *** installing help indices ** building package indices ** installing vignettes ** testing if installed package can be loaded from temporary location ** testing if installed package can be loaded from final location ** testing if installed package keeps a record of temporary installation path * DONE (CNVPanelizer)
CNVPanelizer.Rcheck/tests/runTests.Rout
R version 4.3.1 (2023-06-16) -- "Beagle Scouts"
Copyright (C) 2023 The R Foundation for Statistical Computing
Platform: aarch64-apple-darwin20 (64-bit)
R is free software and comes with ABSOLUTELY NO WARRANTY.
You are welcome to redistribute it under certain conditions.
Type 'license()' or 'licence()' for distribution details.
R is a collaborative project with many contributors.
Type 'contributors()' for more information and
'citation()' on how to cite R or R packages in publications.
Type 'demo()' for some demos, 'help()' for on-line help, or
'help.start()' for an HTML browser interface to help.
Type 'q()' to quit R.
> BiocGenerics:::testPackage("CNVPanelizer")
Attaching package: 'BiocGenerics'
The following objects are masked from 'package:stats':
IQR, mad, sd, var, xtabs
The following objects are masked from 'package:base':
Filter, Find, Map, Position, Reduce, anyDuplicated, aperm, append,
as.data.frame, basename, cbind, colnames, dirname, do.call,
duplicated, eval, evalq, get, grep, grepl, intersect, is.unsorted,
lapply, mapply, match, mget, order, paste, pmax, pmax.int, pmin,
pmin.int, rank, rbind, rownames, sapply, setdiff, sort, table,
tapply, union, unique, unsplit, which.max, which.min
Attaching package: 'S4Vectors'
The following object is masked from 'package:utils':
findMatches
The following objects are masked from 'package:base':
I, expand.grid, unname
Calculating Background for s1
Calculating Background for s2
Calculating Background for s3
Calculating Background for s4
Saving plot to '/tmp/RtmpOpEBuC/s1_plot.pdf'
Saving plot to '/tmp/RtmpOpEBuC/s2_plot.pdf'
Saving plot to '/tmp/RtmpOpEBuC/s3_plot.pdf'
Saving plot to '/tmp/RtmpOpEBuC/s4_plot.pdf'
Saving plot to '/tmp/RtmpOpEBuC/sample1.pdf'
Saving plot to '/tmp/RtmpOpEBuC/sample2.pdf'
Saving plot to '/tmp/RtmpOpEBuC/sample3.pdf'
Saving plot to '/tmp/RtmpOpEBuC/sample4.pdf'
Calculating Background for c:/somefile1.bam
Saving file to '/tmp/RtmpOpEBuC/samples.xlsx'
[1] "GENE 1: 0.166666666666667"
[1] "GENE 2: 0.356348322549899"
RUNIT TEST PROTOCOL -- Tue Oct 17 10:52:27 2023
***********************************************
Number of test functions: 9
Number of errors: 0
Number of failures: 0
1 Test Suite :
CNVPanelizer RUnit Tests - 9 test functions, 0 errors, 0 failures
Number of test functions: 9
Number of errors: 0
Number of failures: 0
>
> proc.time()
user system elapsed
42.528 0.884 66.827
CNVPanelizer.Rcheck/CNVPanelizer-Ex.timings
| name | user | system | elapsed | |
| Background | 0.265 | 0.011 | 0.418 | |
| BedToGenomicRanges | 0.000 | 0.000 | 0.001 | |
| BootList | 0.084 | 0.008 | 0.144 | |
| CNVPanelizerFromReadCounts | 0.000 | 0.000 | 0.001 | |
| CNVPanelizerFromReadCountsHelper | 0.001 | 0.000 | 0.000 | |
| CollectColumnFromAllReportTables | 0 | 0 | 0 | |
| CombinedNormalizedCounts | 0.020 | 0.006 | 0.038 | |
| IndexMultipleBams | 0 | 0 | 0 | |
| NormalizedCounts | 0.003 | 0.002 | 0.007 | |
| PlotBootstrapDistributions | 3.672 | 0.096 | 5.813 | |
| ReadCountsFromBam | 0 | 0 | 0 | |
| ReadXLSXToList | 0 | 0 | 0 | |
| ReportTables | 0.400 | 0.015 | 0.634 | |
| RunCNVPanelizerShiny | 0 | 0 | 0 | |
| SelectReferenceSetByInterquartileRange | 0.000 | 0.000 | 0.001 | |
| SelectReferenceSetByKmeans | 0.000 | 0.000 | 0.001 | |
| SelectReferenceSetByPercentil | 0 | 0 | 0 | |
| SelectReferenceSetFromReadCounts | 0.001 | 0.001 | 0.000 | |
| StatusHeatmap | 0 | 0 | 0 | |
| WriteListToXLSX | 0 | 0 | 0 | |