| Back to Mac ARM64 build report for BioC 3.17 |
|
This page was generated on 2023-10-20 09:38:00 -0400 (Fri, 20 Oct 2023).
| Hostname | OS | Arch (*) | R version | Installed pkgs |
|---|---|---|---|---|
| kjohnson2 | macOS 12.6.1 Monterey | arm64 | 4.3.1 (2023-06-16) -- "Beagle Scouts" | 4347 |
| Click on any hostname to see more info about the system (e.g. compilers) (*) as reported by 'uname -p', except on Windows and Mac OS X | ||||
| Package 382/2230 | Hostname | OS / Arch | INSTALL | BUILD | CHECK | BUILD BIN | ||||||||
| CNTools 1.56.0 (landing page) J. Zhang
| kjohnson2 | macOS 12.6.1 Monterey / arm64 | OK | OK | OK | OK | ||||||||
|
To the developers/maintainers of the CNTools package: - Use the following Renviron settings to reproduce errors and warnings. - If 'R CMD check' started to fail recently on the Linux builder(s) over a missing dependency, add the missing dependency to 'Suggests:' in your DESCRIPTION file. See Renviron.bioc for more information. |
| Package: CNTools |
| Version: 1.56.0 |
| Command: /Library/Frameworks/R.framework/Resources/bin/R CMD check --install=check:CNTools.install-out.txt --library=/Library/Frameworks/R.framework/Resources/library --no-vignettes --timings CNTools_1.56.0.tar.gz |
| StartedAt: 2023-10-17 10:40:46 -0400 (Tue, 17 Oct 2023) |
| EndedAt: 2023-10-17 10:44:31 -0400 (Tue, 17 Oct 2023) |
| EllapsedTime: 225.0 seconds |
| RetCode: 0 |
| Status: OK |
| CheckDir: CNTools.Rcheck |
| Warnings: 0 |
##############################################################################
##############################################################################
###
### Running command:
###
### /Library/Frameworks/R.framework/Resources/bin/R CMD check --install=check:CNTools.install-out.txt --library=/Library/Frameworks/R.framework/Resources/library --no-vignettes --timings CNTools_1.56.0.tar.gz
###
##############################################################################
##############################################################################
* using log directory ‘/Users/biocbuild/bbs-3.17-bioc-mac-arm64/meat/CNTools.Rcheck’
* using R version 4.3.1 (2023-06-16)
* using platform: aarch64-apple-darwin20 (64-bit)
* R was compiled by
Apple clang version 14.0.0 (clang-1400.0.29.202)
GNU Fortran (GCC) 12.2.0
* running under: macOS Monterey 12.6.7
* using session charset: UTF-8
* using option ‘--no-vignettes’
* checking for file ‘CNTools/DESCRIPTION’ ... OK
* this is package ‘CNTools’ version ‘1.56.0’
* checking package namespace information ... OK
* checking package dependencies ... OK
* checking if this is a source package ... OK
* checking if there is a namespace ... OK
* checking for hidden files and directories ... OK
* checking for portable file names ... OK
* checking for sufficient/correct file permissions ... OK
* checking whether package ‘CNTools’ can be installed ... OK
* used C compiler: ‘Apple clang version 14.0.0 (clang-1400.0.29.202)’
* used SDK: ‘MacOSX11.3.sdk’
* checking installed package size ... OK
* checking package directory ... OK
* checking ‘build’ directory ... OK
* checking DESCRIPTION meta-information ... NOTE
Malformed Title field: should not end in a period.
Malformed Description field: should contain one or more complete sentences.
* checking top-level files ... OK
* checking for left-over files ... OK
* checking index information ... OK
* checking package subdirectories ... OK
* checking R files for non-ASCII characters ... OK
* checking R files for syntax errors ... OK
* checking whether the package can be loaded ... OK
* checking whether the package can be loaded with stated dependencies ... OK
* checking whether the package can be unloaded cleanly ... OK
* checking whether the namespace can be loaded with stated dependencies ... OK
* checking whether the namespace can be unloaded cleanly ... OK
* checking startup messages can be suppressed ... OK
* checking dependencies in R code ... NOTE
'library' or 'require' calls to packages already attached by Depends:
‘methods’ ‘tools’
Please remove these calls from your code.
Packages in Depends field not imported from:
‘methods’ ‘tools’
These packages need to be imported from (in the NAMESPACE file)
for when this namespace is loaded but not attached.
':::' call which should be '::': ‘genefilter:::genefilter’
See the note in ?`:::` about the use of this operator.
There are ::: calls to the package's namespace in its code. A package
almost never needs to use ::: for its own objects:
‘getCommonSegValues’
* checking S3 generic/method consistency ... OK
* checking replacement functions ... OK
* checking foreign function calls ... OK
* checking R code for possible problems ... NOTE
File ‘CNTools/R/zzz.R’:
.onLoad calls:
require("methods", quietly = TRUE)
require("tools", quietly = TRUE)
Package startup functions should not change the search path.
See section ‘Good practice’ in '?.onAttach'.
filterByMad: no visible binding for global variable ‘mad’
filterByMad: no visible global function definition for ‘quantile’
getPairCor : pair2Cor: no visible global function definition for ‘cor’
getPairDist : pair2Dist: no visible global function definition for
‘dist’
getPairDist: no visible global function definition for ‘as.dist’
getCor,RS: no visible global function definition for ‘cor’
getDist,RS: no visible global function definition for ‘dist’
Undefined global functions or variables:
as.dist cor dist mad quantile
Consider adding
importFrom("stats", "as.dist", "cor", "dist", "mad", "quantile")
to your NAMESPACE file.
* checking Rd files ... OK
* checking Rd metadata ... OK
* checking Rd cross-references ... OK
* checking for missing documentation entries ... OK
* checking for code/documentation mismatches ... OK
* checking Rd \usage sections ... OK
* checking Rd contents ... OK
* checking for unstated dependencies in examples ... OK
* checking contents of ‘data’ directory ... OK
* checking data for non-ASCII characters ... OK
* checking data for ASCII and uncompressed saves ... OK
* checking line endings in C/C++/Fortran sources/headers ... OK
* checking compiled code ... NOTE
Note: information on .o files is not available
* checking sizes of PDF files under ‘inst/doc’ ... OK
* checking files in ‘vignettes’ ... OK
* checking examples ... OK
* checking for unstated dependencies in vignettes ... OK
* checking package vignettes in ‘inst/doc’ ... OK
* checking running R code from vignettes ... SKIPPED
* checking re-building of vignette outputs ... SKIPPED
* checking PDF version of manual ... OK
* DONE
Status: 4 NOTEs
See
‘/Users/biocbuild/bbs-3.17-bioc-mac-arm64/meat/CNTools.Rcheck/00check.log’
for details.
CNTools.Rcheck/00install.out
############################################################################## ############################################################################## ### ### Running command: ### ### /Library/Frameworks/R.framework/Resources/bin/R CMD INSTALL CNTools ### ############################################################################## ############################################################################## * installing to library ‘/Library/Frameworks/R.framework/Versions/4.3-arm64/Resources/library’ * installing *source* package ‘CNTools’ ... ** using staged installation ** libs using C compiler: ‘Apple clang version 14.0.0 (clang-1400.0.29.202)’ using SDK: ‘MacOSX11.3.sdk’ clang -arch arm64 -I"/Library/Frameworks/R.framework/Resources/include" -DNDEBUG -I/opt/R/arm64/include -fPIC -falign-functions=64 -Wall -g -O2 -c getratios.c -o getratios.o clang -arch arm64 -dynamiclib -Wl,-headerpad_max_install_names -undefined dynamic_lookup -single_module -multiply_defined suppress -L/Library/Frameworks/R.framework/Resources/lib -L/opt/R/arm64/lib -o CNTools.so getratios.o -F/Library/Frameworks/R.framework/.. -framework R -Wl,-framework -Wl,CoreFoundation installing to /Library/Frameworks/R.framework/Versions/4.3-arm64/Resources/library/00LOCK-CNTools/00new/CNTools/libs ** R ** data ** byte-compile and prepare package for lazy loading Creating a new generic function for ‘start’ in package ‘CNTools’ Creating a new generic function for ‘end’ in package ‘CNTools’ Creating a generic function for ‘genefilter’ from package ‘genefilter’ in package ‘CNTools’ ** help *** installing help indices ** building package indices ** installing vignettes ** testing if installed package can be loaded from temporary location ** checking absolute paths in shared objects and dynamic libraries ** testing if installed package can be loaded from final location ** testing if installed package keeps a record of temporary installation path * DONE (CNTools)
CNTools.Rcheck/CNTools-Ex.timings
| name | user | system | elapsed | |
| CNSeg-class | 1.227 | 0.046 | 1.988 | |
| RS-class | 0.425 | 0.012 | 0.669 | |