| Back to Mac ARM64 build report for BioC 3.17 |
|
This page was generated on 2023-10-20 09:37:59 -0400 (Fri, 20 Oct 2023).
| Hostname | OS | Arch (*) | R version | Installed pkgs |
|---|---|---|---|---|
| kjohnson2 | macOS 12.6.1 Monterey | arm64 | 4.3.1 (2023-06-16) -- "Beagle Scouts" | 4347 |
| Click on any hostname to see more info about the system (e.g. compilers) (*) as reported by 'uname -p', except on Windows and Mac OS X | ||||
| Package 345/2230 | Hostname | OS / Arch | INSTALL | BUILD | CHECK | BUILD BIN | ||||||||
| CIMICE 1.8.0 (landing page) Nicolò Rossi
| kjohnson2 | macOS 12.6.1 Monterey / arm64 | OK | OK | OK | OK | ||||||||
|
To the developers/maintainers of the CIMICE package: - Use the following Renviron settings to reproduce errors and warnings. - If 'R CMD check' started to fail recently on the Linux builder(s) over a missing dependency, add the missing dependency to 'Suggests:' in your DESCRIPTION file. See Renviron.bioc for more information. |
| Package: CIMICE |
| Version: 1.8.0 |
| Command: /Library/Frameworks/R.framework/Resources/bin/R CMD check --install=check:CIMICE.install-out.txt --library=/Library/Frameworks/R.framework/Resources/library --no-vignettes --timings CIMICE_1.8.0.tar.gz |
| StartedAt: 2023-10-17 09:33:42 -0400 (Tue, 17 Oct 2023) |
| EndedAt: 2023-10-17 09:36:03 -0400 (Tue, 17 Oct 2023) |
| EllapsedTime: 140.6 seconds |
| RetCode: 0 |
| Status: OK |
| CheckDir: CIMICE.Rcheck |
| Warnings: 0 |
##############################################################################
##############################################################################
###
### Running command:
###
### /Library/Frameworks/R.framework/Resources/bin/R CMD check --install=check:CIMICE.install-out.txt --library=/Library/Frameworks/R.framework/Resources/library --no-vignettes --timings CIMICE_1.8.0.tar.gz
###
##############################################################################
##############################################################################
* using log directory ‘/Users/biocbuild/bbs-3.17-bioc-mac-arm64/meat/CIMICE.Rcheck’
* using R version 4.3.1 (2023-06-16)
* using platform: aarch64-apple-darwin20 (64-bit)
* R was compiled by
Apple clang version 14.0.0 (clang-1400.0.29.202)
GNU Fortran (GCC) 12.2.0
* running under: macOS Monterey 12.6.7
* using session charset: UTF-8
* using option ‘--no-vignettes’
* checking for file ‘CIMICE/DESCRIPTION’ ... OK
* checking extension type ... Package
* this is package ‘CIMICE’ version ‘1.8.0’
* package encoding: UTF-8
* checking package namespace information ... OK
* checking package dependencies ... OK
* checking if this is a source package ... OK
* checking if there is a namespace ... OK
* checking for hidden files and directories ... NOTE
Found the following hidden files and directories:
.git.bfg-report
These were most likely included in error. See section ‘Package
structure’ in the ‘Writing R Extensions’ manual.
* checking for portable file names ... OK
* checking for sufficient/correct file permissions ... OK
* checking whether package ‘CIMICE’ can be installed ... OK
* checking installed package size ... OK
* checking package directory ... OK
* checking ‘build’ directory ... OK
* checking DESCRIPTION meta-information ... OK
* checking top-level files ... OK
* checking for left-over files ... OK
* checking index information ... OK
* checking package subdirectories ... OK
* checking R files for non-ASCII characters ... OK
* checking R files for syntax errors ... OK
* checking whether the package can be loaded ... OK
* checking whether the package can be loaded with stated dependencies ... OK
* checking whether the package can be unloaded cleanly ... OK
* checking whether the namespace can be loaded with stated dependencies ... OK
* checking whether the namespace can be unloaded cleanly ... OK
* checking dependencies in R code ... OK
* checking S3 generic/method consistency ... OK
* checking replacement functions ... OK
* checking foreign function calls ... OK
* checking R code for possible problems ... OK
* checking Rd files ... OK
* checking Rd metadata ... OK
* checking Rd cross-references ... OK
* checking for missing documentation entries ... OK
* checking for code/documentation mismatches ... OK
* checking Rd \usage sections ... OK
* checking Rd contents ... OK
* checking for unstated dependencies in examples ... OK
* checking files in ‘vignettes’ ... OK
* checking examples ... OK
* checking for unstated dependencies in ‘tests’ ... OK
* checking tests ...
Running ‘testthat.R’
OK
* checking for unstated dependencies in vignettes ... OK
* checking package vignettes in ‘inst/doc’ ... OK
* checking running R code from vignettes ... SKIPPED
* checking re-building of vignette outputs ... SKIPPED
* checking PDF version of manual ... OK
* DONE
Status: 1 NOTE
See
‘/Users/biocbuild/bbs-3.17-bioc-mac-arm64/meat/CIMICE.Rcheck/00check.log’
for details.
CIMICE.Rcheck/00install.out
############################################################################## ############################################################################## ### ### Running command: ### ### /Library/Frameworks/R.framework/Resources/bin/R CMD INSTALL CIMICE ### ############################################################################## ############################################################################## * installing to library ‘/Library/Frameworks/R.framework/Versions/4.3-arm64/Resources/library’ * installing *source* package ‘CIMICE’ ... ** using staged installation ** R ** inst ** byte-compile and prepare package for lazy loading ** help *** installing help indices ** building package indices ** installing vignettes ** testing if installed package can be loaded from temporary location ** testing if installed package can be loaded from final location ** testing if installed package keeps a record of temporary installation path * DONE (CIMICE)
CIMICE.Rcheck/tests/testthat.Rout
R version 4.3.1 (2023-06-16) -- "Beagle Scouts"
Copyright (C) 2023 The R Foundation for Statistical Computing
Platform: aarch64-apple-darwin20 (64-bit)
R is free software and comes with ABSOLUTELY NO WARRANTY.
You are welcome to redistribute it under certain conditions.
Type 'license()' or 'licence()' for distribution details.
R is a collaborative project with many contributors.
Type 'contributors()' for more information and
'citation()' on how to cite R or R packages in publications.
Type 'demo()' for some demos, 'help()' for on-line help, or
'help.start()' for an HTML browser interface to help.
Type 'q()' to quit R.
> library(testthat)
> library(CIMICE)
>
> test_check("CIMICE")
[ FAIL 0 | WARN 0 | SKIP 0 | PASS 1 ]
>
> proc.time()
user system elapsed
3.087 0.286 5.158
CIMICE.Rcheck/CIMICE-Ex.timings
| name | user | system | elapsed | |
| annotate_mutational_matrix | 0.034 | 0.002 | 0.054 | |
| binary_radix_sort | 0.049 | 0.002 | 0.079 | |
| build_subset_graph | 0.096 | 0.004 | 0.153 | |
| build_topology_subset | 0.059 | 0.003 | 0.096 | |
| chunk_reader | 0.007 | 0.002 | 0.015 | |
| compact_dataset | 0.019 | 0.000 | 0.029 | |
| computeDWNW | 0.081 | 0.004 | 0.144 | |
| computeUPW | 0.075 | 0.003 | 0.121 | |
| compute_weights_default | 0.081 | 0.003 | 0.131 | |
| corrplot_from_mutational_matrix | 0.425 | 0.016 | 0.680 | |
| corrplot_genes | 0.409 | 0.006 | 0.636 | |
| corrplot_samples | 0.187 | 0.018 | 0.319 | |
| dataset_preprocessing | 0.038 | 0.004 | 0.063 | |
| dataset_preprocessing_population | 0.029 | 0.003 | 0.049 | |
| draw_ggraph | 0.301 | 0.021 | 0.523 | |
| draw_networkD3 | 0.151 | 0.017 | 0.259 | |
| draw_visNetwork | 0.072 | 0.023 | 0.154 | |
| example_dataset | 0.011 | 0.000 | 0.018 | |
| example_dataset_withFreqs | 0.010 | 0.000 | 0.014 | |
| finalize_generator | 0.245 | 0.012 | 0.398 | |
| fix_clonal_genotype | 0.038 | 0.002 | 0.059 | |
| format_labels | 0.001 | 0.001 | 0.001 | |
| gene_mutations_hist | 0.151 | 0.003 | 0.235 | |
| get_no_of_children | 0.068 | 0.003 | 0.106 | |
| graph_non_transitive_subset_topology | 0.050 | 0.002 | 0.079 | |
| make_dataset | 0.001 | 0.000 | 0.004 | |
| make_generator_stub | 0.103 | 0.003 | 0.167 | |
| make_labels | 0.044 | 0.001 | 0.067 | |
| normalizeDWNW | 0.076 | 0.003 | 0.123 | |
| normalizeUPW | 0.082 | 0.003 | 0.131 | |
| perturb_dataset | 0.419 | 0.020 | 0.670 | |
| plot_generator | 0.441 | 0.009 | 0.695 | |
| prepare_generator_edge_set_command | 0.132 | 0.005 | 0.207 | |
| prepare_labels | 0.039 | 0.002 | 0.065 | |
| quick_run | 0.048 | 0.002 | 0.074 | |
| read | 0.749 | 0.484 | 1.872 | |
| read_CAPRI | 0.722 | 0.839 | 2.372 | |
| read_CAPRI_string | 0.004 | 0.001 | 0.006 | |
| read_CAPRIpop | 0.004 | 0.001 | 0.007 | |
| read_CAPRIpop_string | 0.004 | 0.001 | 0.010 | |
| read_MAF | 0.214 | 0.047 | 0.399 | |
| read_matrix | 0.003 | 0.000 | 0.006 | |
| remove_transitive_edges | 0 | 0 | 0 | |
| sample_mutations_hist | 0.173 | 0.002 | 0.266 | |
| select_genes_on_mutations | 0.025 | 0.001 | 0.042 | |
| select_samples_on_mutations | 0.054 | 0.002 | 0.086 | |
| set_generator_edges | 0.163 | 0.005 | 0.260 | |
| simulate_generator | 0.186 | 0.005 | 0.293 | |
| to_dot | 0.053 | 0.001 | 0.083 | |
| update_df | 0.023 | 0.001 | 0.037 | |