| Back to Mac ARM64 build report for BioC 3.17 |
|
This page was generated on 2023-10-20 09:37:59 -0400 (Fri, 20 Oct 2023).
| Hostname | OS | Arch (*) | R version | Installed pkgs |
|---|---|---|---|---|
| kjohnson2 | macOS 12.6.1 Monterey | arm64 | 4.3.1 (2023-06-16) -- "Beagle Scouts" | 4347 |
| Click on any hostname to see more info about the system (e.g. compilers) (*) as reported by 'uname -p', except on Windows and Mac OS X | ||||
| Package 259/2230 | Hostname | OS / Arch | INSTALL | BUILD | CHECK | BUILD BIN | ||||||||
| CAGEr 2.6.1 (landing page) Charles Plessy
| kjohnson2 | macOS 12.6.1 Monterey / arm64 | OK | OK | OK | OK | ||||||||
|
To the developers/maintainers of the CAGEr package: - Use the following Renviron settings to reproduce errors and warnings. - If 'R CMD check' started to fail recently on the Linux builder(s) over a missing dependency, add the missing dependency to 'Suggests:' in your DESCRIPTION file. See Renviron.bioc for more information. |
| Package: CAGEr |
| Version: 2.6.1 |
| Command: /Library/Frameworks/R.framework/Resources/bin/R CMD check --install=check:CAGEr.install-out.txt --library=/Library/Frameworks/R.framework/Resources/library --no-vignettes --timings CAGEr_2.6.1.tar.gz |
| StartedAt: 2023-10-17 07:15:23 -0400 (Tue, 17 Oct 2023) |
| EndedAt: 2023-10-17 07:33:13 -0400 (Tue, 17 Oct 2023) |
| EllapsedTime: 1069.6 seconds |
| RetCode: 0 |
| Status: OK |
| CheckDir: CAGEr.Rcheck |
| Warnings: 0 |
##############################################################################
##############################################################################
###
### Running command:
###
### /Library/Frameworks/R.framework/Resources/bin/R CMD check --install=check:CAGEr.install-out.txt --library=/Library/Frameworks/R.framework/Resources/library --no-vignettes --timings CAGEr_2.6.1.tar.gz
###
##############################################################################
##############################################################################
* using log directory ‘/Users/biocbuild/bbs-3.17-bioc-mac-arm64/meat/CAGEr.Rcheck’
* using R version 4.3.1 (2023-06-16)
* using platform: aarch64-apple-darwin20 (64-bit)
* R was compiled by
Apple clang version 14.0.0 (clang-1400.0.29.202)
GNU Fortran (GCC) 12.2.0
* running under: macOS Monterey 12.6.7
* using session charset: UTF-8
* using option ‘--no-vignettes’
* checking for file ‘CAGEr/DESCRIPTION’ ... OK
* this is package ‘CAGEr’ version ‘2.6.1’
* package encoding: UTF-8
* checking package namespace information ... OK
* checking package dependencies ... OK
* checking if this is a source package ... OK
* checking if there is a namespace ... OK
* checking for hidden files and directories ... OK
* checking for portable file names ... OK
* checking for sufficient/correct file permissions ... OK
* checking whether package ‘CAGEr’ can be installed ... OK
* checking installed package size ... OK
* checking package directory ... OK
* checking ‘build’ directory ... OK
* checking DESCRIPTION meta-information ... OK
* checking top-level files ... OK
* checking for left-over files ... OK
* checking index information ... OK
* checking package subdirectories ... OK
* checking R files for non-ASCII characters ... OK
* checking R files for syntax errors ... OK
* checking whether the package can be loaded ... OK
* checking whether the package can be loaded with stated dependencies ... OK
* checking whether the package can be unloaded cleanly ... OK
* checking whether the namespace can be loaded with stated dependencies ... OK
* checking whether the namespace can be unloaded cleanly ... OK
* checking dependencies in R code ... OK
* checking S3 generic/method consistency ... OK
* checking replacement functions ... OK
* checking foreign function calls ... OK
* checking R code for possible problems ... NOTE
scoreShift,CAGEexp: no visible global function definition for
'cbind.DataFrame'
Undefined global functions or variables:
cbind.DataFrame
* checking Rd files ... OK
* checking Rd metadata ... OK
* checking Rd cross-references ... OK
* checking for missing documentation entries ... OK
* checking for code/documentation mismatches ... OK
* checking Rd \usage sections ... OK
* checking Rd contents ... OK
* checking for unstated dependencies in examples ... OK
* checking contents of ‘data’ directory ... OK
* checking data for non-ASCII characters ... OK
* checking LazyData ... OK
* checking data for ASCII and uncompressed saves ... OK
* checking files in ‘vignettes’ ... OK
* checking examples ... OK
Examples with CPU (user + system) or elapsed time > 5s
user system elapsed
exportToTrack 41.268 0.583 64.457
quantilePositions 40.348 1.353 67.406
clusterCTSS 39.534 0.553 60.590
aggregateTagClusters 26.437 1.412 42.433
cumulativeCTSSdistribution 24.399 1.856 39.997
scoreShift 22.151 0.714 33.476
annotateCTSS 12.637 0.950 19.333
CustomConsensusClusters 8.839 0.405 13.920
plotExpressionProfiles 7.988 0.330 12.774
getExpressionProfiles 7.220 0.785 16.394
CAGEexp-class 5.515 1.487 11.151
distclu-functions 3.844 0.184 6.140
getShiftingPromoters 3.315 0.295 5.543
mergeCAGEsets 3.232 0.099 5.133
* checking for unstated dependencies in vignettes ... OK
* checking package vignettes in ‘inst/doc’ ... OK
* checking running R code from vignettes ... SKIPPED
* checking re-building of vignette outputs ... SKIPPED
* checking PDF version of manual ... OK
* DONE
Status: 1 NOTE
See
‘/Users/biocbuild/bbs-3.17-bioc-mac-arm64/meat/CAGEr.Rcheck/00check.log’
for details.
CAGEr.Rcheck/00install.out
############################################################################## ############################################################################## ### ### Running command: ### ### /Library/Frameworks/R.framework/Resources/bin/R CMD INSTALL CAGEr ### ############################################################################## ############################################################################## * installing to library ‘/Library/Frameworks/R.framework/Versions/4.3-arm64/Resources/library’ * installing *source* package ‘CAGEr’ ... ** using staged installation ** R ** data *** moving datasets to lazyload DB ** inst ** byte-compile and prepare package for lazy loading ** help *** installing help indices ** building package indices ** installing vignettes ** testing if installed package can be loaded from temporary location ** testing if installed package can be loaded from final location ** testing if installed package keeps a record of temporary installation path * DONE (CAGEr)
CAGEr.Rcheck/CAGEr-Ex.timings
| name | user | system | elapsed | |
| CAGEexp-class | 5.515 | 1.487 | 11.151 | |
| CAGEr_Multicore | 3.009 | 0.027 | 4.558 | |
| CTSS-class | 0.369 | 0.006 | 0.587 | |
| CTSSclusteringMethod | 0.001 | 0.001 | 0.002 | |
| CTSScoordinates | 0.106 | 0.003 | 0.167 | |
| CTSSnormalizedTpm | 0.959 | 0.029 | 1.514 | |
| CTSStagCount | 1.184 | 0.094 | 1.940 | |
| CTSStoGenes | 0.549 | 0.012 | 0.847 | |
| CustomConsensusClusters | 8.839 | 0.405 | 13.920 | |
| GeneExpDESeq2 | 0.643 | 0.017 | 0.962 | |
| GeneExpSE | 0.006 | 0.000 | 0.007 | |
| QuantileWidthFunctions | 0.143 | 0.001 | 0.208 | |
| aggregateTagClusters | 26.437 | 1.412 | 42.433 | |
| annotateCTSS | 12.637 | 0.950 | 19.333 | |
| byCtss | 0.016 | 0.001 | 0.024 | |
| clusterCTSS | 39.534 | 0.553 | 60.590 | |
| consensusClusters | 0.156 | 0.005 | 0.236 | |
| consensusClustersDESeq2 | 2.341 | 0.176 | 3.898 | |
| consensusClustersTpm | 0.007 | 0.001 | 0.012 | |
| coverage-functions | 2.168 | 0.186 | 3.558 | |
| cumulativeCTSSdistribution | 24.399 | 1.856 | 39.997 | |
| distclu-functions | 3.844 | 0.184 | 6.140 | |
| exampleCAGEexp | 0.001 | 0.000 | 0.001 | |
| exportToTrack | 41.268 | 0.583 | 64.457 | |
| expressionClasses | 2.268 | 0.183 | 3.610 | |
| genomeName | 0.000 | 0.001 | 0.000 | |
| getCTSS | 1.345 | 0.026 | 2.049 | |
| getExpressionProfiles | 7.220 | 0.785 | 16.394 | |
| getShiftingPromoters | 3.315 | 0.295 | 5.543 | |
| hanabi | 0.282 | 0.007 | 0.439 | |
| hanabiPlot | 0.342 | 0.012 | 0.538 | |
| import.CAGEscanMolecule | 0 | 0 | 0 | |
| import.CTSS | 0.110 | 0.005 | 0.183 | |
| import.bam | 0.000 | 0.001 | 0.000 | |
| import.bedCTSS | 0.000 | 0.001 | 0.000 | |
| import.bedScore | 0.000 | 0.000 | 0.001 | |
| import.bedmolecule | 0 | 0 | 0 | |
| inputFiles | 0.001 | 0.000 | 0.002 | |
| inputFilesType | 0.002 | 0.000 | 0.002 | |
| librarySizes | 0.001 | 0.000 | 0.002 | |
| mapStats | 0.075 | 0.010 | 0.125 | |
| mergeCAGEsets | 3.232 | 0.099 | 5.133 | |
| mergeSamples | 0.698 | 0.012 | 1.107 | |
| moleculesGR2CTSS | 0.178 | 0.003 | 0.282 | |
| normalizeTagCount | 0.708 | 0.014 | 1.119 | |
| parseCAGEscanBlocksToGrangeTSS | 0.029 | 0.001 | 0.046 | |
| plotAnnot | 3.044 | 0.067 | 4.783 | |
| plotCorrelation | 0.342 | 0.007 | 0.536 | |
| plotExpressionProfiles | 7.988 | 0.330 | 12.774 | |
| plotInterquantileWidth | 2.521 | 0.030 | 3.888 | |
| plotReverseCumulatives | 0.464 | 0.009 | 0.730 | |
| quantilePositions | 40.348 | 1.353 | 67.406 | |
| quickEnhancers | 0.000 | 0.001 | 0.000 | |
| ranges2annot | 0.498 | 0.008 | 0.785 | |
| ranges2genes | 0.071 | 0.001 | 0.112 | |
| ranges2names | 0.071 | 0.002 | 0.111 | |
| sampleLabels | 0.006 | 0.001 | 0.010 | |
| scoreShift | 22.151 | 0.714 | 33.476 | |
| seqNameTotalsSE | 0.005 | 0.001 | 0.006 | |
| setColors | 0.481 | 0.009 | 0.627 | |
| strandInvaders | 0.813 | 0.066 | 1.133 | |
| summariseChrExpr | 0.682 | 0.011 | 0.889 | |
| tagClusters | 0.117 | 0.003 | 0.154 | |