| Back to Mac ARM64 build report for BioC 3.17 |
|
This page was generated on 2023-10-20 09:37:59 -0400 (Fri, 20 Oct 2023).
| Hostname | OS | Arch (*) | R version | Installed pkgs |
|---|---|---|---|---|
| kjohnson2 | macOS 12.6.1 Monterey | arm64 | 4.3.1 (2023-06-16) -- "Beagle Scouts" | 4347 |
| Click on any hostname to see more info about the system (e.g. compilers) (*) as reported by 'uname -p', except on Windows and Mac OS X | ||||
| Package 257/2230 | Hostname | OS / Arch | INSTALL | BUILD | CHECK | BUILD BIN | ||||||||
| CAGEfightR 1.20.0 (landing page) Malte Thodberg
| kjohnson2 | macOS 12.6.1 Monterey / arm64 | OK | OK | OK | OK | ||||||||
|
To the developers/maintainers of the CAGEfightR package: - Use the following Renviron settings to reproduce errors and warnings. - If 'R CMD check' started to fail recently on the Linux builder(s) over a missing dependency, add the missing dependency to 'Suggests:' in your DESCRIPTION file. See Renviron.bioc for more information. |
| Package: CAGEfightR |
| Version: 1.20.0 |
| Command: /Library/Frameworks/R.framework/Resources/bin/R CMD check --install=check:CAGEfightR.install-out.txt --library=/Library/Frameworks/R.framework/Resources/library --no-vignettes --timings CAGEfightR_1.20.0.tar.gz |
| StartedAt: 2023-10-17 07:12:31 -0400 (Tue, 17 Oct 2023) |
| EndedAt: 2023-10-17 07:23:04 -0400 (Tue, 17 Oct 2023) |
| EllapsedTime: 633.2 seconds |
| RetCode: 0 |
| Status: OK |
| CheckDir: CAGEfightR.Rcheck |
| Warnings: 0 |
##############################################################################
##############################################################################
###
### Running command:
###
### /Library/Frameworks/R.framework/Resources/bin/R CMD check --install=check:CAGEfightR.install-out.txt --library=/Library/Frameworks/R.framework/Resources/library --no-vignettes --timings CAGEfightR_1.20.0.tar.gz
###
##############################################################################
##############################################################################
* using log directory ‘/Users/biocbuild/bbs-3.17-bioc-mac-arm64/meat/CAGEfightR.Rcheck’
* using R version 4.3.1 (2023-06-16)
* using platform: aarch64-apple-darwin20 (64-bit)
* R was compiled by
Apple clang version 14.0.0 (clang-1400.0.29.202)
GNU Fortran (GCC) 12.2.0
* running under: macOS Monterey 12.6.7
* using session charset: UTF-8
* using option ‘--no-vignettes’
* checking for file ‘CAGEfightR/DESCRIPTION’ ... OK
* checking extension type ... Package
* this is package ‘CAGEfightR’ version ‘1.20.0’
* package encoding: UTF-8
* checking package namespace information ... OK
* checking package dependencies ... OK
* checking if this is a source package ... OK
* checking if there is a namespace ... OK
* checking for hidden files and directories ... OK
* checking for portable file names ... OK
* checking for sufficient/correct file permissions ... OK
* checking whether package ‘CAGEfightR’ can be installed ... OK
* checking installed package size ... OK
* checking package directory ... OK
* checking ‘build’ directory ... OK
* checking DESCRIPTION meta-information ... OK
* checking top-level files ... OK
* checking for left-over files ... OK
* checking index information ... OK
* checking package subdirectories ... OK
* checking R files for non-ASCII characters ... OK
* checking R files for syntax errors ... OK
* checking whether the package can be loaded ... OK
* checking whether the package can be loaded with stated dependencies ... OK
* checking whether the package can be unloaded cleanly ... OK
* checking whether the namespace can be loaded with stated dependencies ... OK
* checking whether the namespace can be unloaded cleanly ... OK
* checking startup messages can be suppressed ... OK
* checking dependencies in R code ... OK
* checking S3 generic/method consistency ... OK
* checking replacement functions ... OK
* checking foreign function calls ... OK
* checking R code for possible problems ... OK
* checking Rd files ... OK
* checking Rd metadata ... OK
* checking Rd cross-references ... OK
* checking for missing documentation entries ... OK
* checking for code/documentation mismatches ... OK
* checking Rd \usage sections ... OK
* checking Rd contents ... OK
* checking for unstated dependencies in examples ... OK
* checking contents of ‘data’ directory ... OK
* checking data for non-ASCII characters ... OK
* checking LazyData ... OK
* checking data for ASCII and uncompressed saves ... OK
* checking files in ‘vignettes’ ... OK
* checking examples ... OK
Examples with CPU (user + system) or elapsed time > 5s
user system elapsed
findLinks 5.758 0.585 9.100
assignGeneID 4.163 0.123 6.514
calcShape 3.642 0.159 5.856
trackCTSS 3.527 0.164 5.619
* checking for unstated dependencies in vignettes ... OK
* checking package vignettes in ‘inst/doc’ ... OK
* checking running R code from vignettes ... SKIPPED
* checking re-building of vignette outputs ... SKIPPED
* checking PDF version of manual ... OK
* DONE
Status: OK
CAGEfightR.Rcheck/00install.out
############################################################################## ############################################################################## ### ### Running command: ### ### /Library/Frameworks/R.framework/Resources/bin/R CMD INSTALL CAGEfightR ### ############################################################################## ############################################################################## * installing to library ‘/Library/Frameworks/R.framework/Versions/4.3-arm64/Resources/library’ * installing *source* package ‘CAGEfightR’ ... ** using staged installation ** R ** data *** moving datasets to lazyload DB ** inst ** byte-compile and prepare package for lazy loading ** help *** installing help indices ** building package indices ** installing vignettes ** testing if installed package can be loaded from temporary location ** testing if installed package can be loaded from final location ** testing if installed package keeps a record of temporary installation path * DONE (CAGEfightR)
CAGEfightR.Rcheck/CAGEfightR-Ex.timings
| name | user | system | elapsed | |
| assignGeneID | 4.163 | 0.123 | 6.514 | |
| assignMissingID | 1.270 | 0.041 | 2.006 | |
| assignTxID | 1.099 | 0.030 | 1.750 | |
| assignTxType | 0 | 0 | 0 | |
| balanceBC | 0.000 | 0.000 | 0.001 | |
| balanceD | 0 | 0 | 0 | |
| bwCommonGenome | 0.045 | 0.007 | 0.075 | |
| bwGenomeCompatibility | 0.024 | 0.004 | 0.043 | |
| bwValid | 0.010 | 0.003 | 0.020 | |
| calcBidirectionality | 0.512 | 0.013 | 0.807 | |
| calcComposition | 1.662 | 0.033 | 2.605 | |
| calcPooled | 0.120 | 0.005 | 0.189 | |
| calcShape | 3.642 | 0.159 | 5.856 | |
| calcSupport | 0.145 | 0.006 | 0.231 | |
| calcTPM | 0.140 | 0.005 | 0.227 | |
| calcTotalTags | 0.068 | 0.003 | 0.112 | |
| checkCTSSs | 0.295 | 0.006 | 0.460 | |
| checkPeaked | 0.070 | 0.003 | 0.114 | |
| checkPooled | 0.072 | 0.003 | 0.116 | |
| clusterBidirectionally | 0 | 0 | 0 | |
| clusterUnidirectionally | 1.677 | 0.032 | 2.653 | |
| combineClusters | 0.884 | 0.016 | 1.375 | |
| convertBAM2BigWig | 0.000 | 0.001 | 0.001 | |
| convertBED2BigWig | 0.000 | 0.000 | 0.001 | |
| convertGRanges2GPos | 0.098 | 0.001 | 0.151 | |
| exampleDesign | 0.005 | 0.008 | 0.019 | |
| findLinks | 5.758 | 0.585 | 9.100 | |
| findStretches | 0.464 | 0.071 | 0.742 | |
| quantifyCTSSs | 0.001 | 0.001 | 0.001 | |
| quantifyCTSSs2 | 0.000 | 0.001 | 0.001 | |
| quantifyClusters | 0.485 | 0.050 | 0.715 | |
| quantifyGenes | 1.478 | 0.113 | 2.405 | |
| quickEnhancers | 0 | 0 | 0 | |
| quickGenes | 0.000 | 0.000 | 0.001 | |
| quickTSSs | 0 | 0 | 0 | |
| shapeEntropy | 0.000 | 0.000 | 0.001 | |
| shapeIQR | 0.000 | 0.001 | 0.001 | |
| shapeMean | 0.001 | 0.001 | 0.004 | |
| shapeMultimodality | 0 | 0 | 0 | |
| subsetByBidirectionality | 0.508 | 0.026 | 0.796 | |
| subsetByComposition | 1.441 | 0.035 | 2.268 | |
| subsetBySupport | 0.083 | 0.005 | 0.127 | |
| swapRanges | 0.207 | 0.009 | 0.302 | |
| swapScores | 0.133 | 0.005 | 0.208 | |
| trackBalance | 0.000 | 0.000 | 0.001 | |
| trackCTSS | 3.527 | 0.164 | 5.619 | |
| trackClusters | 2.217 | 0.031 | 3.033 | |
| trackLinks | 1.132 | 0.286 | 1.691 | |
| trimToPeak | 0.987 | 0.097 | 1.404 | |
| trimToPercentiles | 2.424 | 0.054 | 3.299 | |
| tuneTagClustering | 0.000 | 0.001 | 0.001 | |
| utilsAggregateRows | 0.406 | 0.369 | 1.161 | |
| utilsDeStrand | 0.161 | 0.006 | 0.246 | |
| utilsScoreOverlaps | 0.083 | 0.002 | 0.130 | |
| utilsSimplifyTxDb | 0.000 | 0.001 | 0.001 | |