| Back to Mac ARM64 build report for BioC 3.17 |
|
This page was generated on 2023-10-20 09:37:58 -0400 (Fri, 20 Oct 2023).
| Hostname | OS | Arch (*) | R version | Installed pkgs |
|---|---|---|---|---|
| kjohnson2 | macOS 12.6.1 Monterey | arm64 | 4.3.1 (2023-06-16) -- "Beagle Scouts" | 4347 |
| Click on any hostname to see more info about the system (e.g. compilers) (*) as reported by 'uname -p', except on Windows and Mac OS X | ||||
| Package 179/2230 | Hostname | OS / Arch | INSTALL | BUILD | CHECK | BUILD BIN | ||||||||
| BiocHubsShiny 1.0.0 (landing page) Marcel Ramos
| kjohnson2 | macOS 12.6.1 Monterey / arm64 | OK | OK | OK | OK | ||||||||
|
To the developers/maintainers of the BiocHubsShiny package: - Use the following Renviron settings to reproduce errors and warnings. - If 'R CMD check' started to fail recently on the Linux builder(s) over a missing dependency, add the missing dependency to 'Suggests:' in your DESCRIPTION file. See Renviron.bioc for more information. |
| Package: BiocHubsShiny |
| Version: 1.0.0 |
| Command: /Library/Frameworks/R.framework/Resources/bin/R CMD check --install=check:BiocHubsShiny.install-out.txt --library=/Library/Frameworks/R.framework/Resources/library --no-vignettes --timings BiocHubsShiny_1.0.0.tar.gz |
| StartedAt: 2023-10-17 05:25:24 -0400 (Tue, 17 Oct 2023) |
| EndedAt: 2023-10-17 05:29:14 -0400 (Tue, 17 Oct 2023) |
| EllapsedTime: 230.0 seconds |
| RetCode: 0 |
| Status: OK |
| CheckDir: BiocHubsShiny.Rcheck |
| Warnings: 0 |
##############################################################################
##############################################################################
###
### Running command:
###
### /Library/Frameworks/R.framework/Resources/bin/R CMD check --install=check:BiocHubsShiny.install-out.txt --library=/Library/Frameworks/R.framework/Resources/library --no-vignettes --timings BiocHubsShiny_1.0.0.tar.gz
###
##############################################################################
##############################################################################
* using log directory ‘/Users/biocbuild/bbs-3.17-bioc-mac-arm64/meat/BiocHubsShiny.Rcheck’
* using R version 4.3.1 (2023-06-16)
* using platform: aarch64-apple-darwin20 (64-bit)
* R was compiled by
Apple clang version 14.0.0 (clang-1400.0.29.202)
GNU Fortran (GCC) 12.2.0
* running under: macOS Monterey 12.6.7
* using session charset: UTF-8
* using option ‘--no-vignettes’
* checking for file ‘BiocHubsShiny/DESCRIPTION’ ... OK
* checking extension type ... Package
* this is package ‘BiocHubsShiny’ version ‘1.0.0’
* package encoding: UTF-8
* checking package namespace information ... OK
* checking package dependencies ... OK
* checking if this is a source package ... OK
* checking if there is a namespace ... OK
* checking for hidden files and directories ... OK
* checking for portable file names ... OK
* checking for sufficient/correct file permissions ... OK
* checking whether package ‘BiocHubsShiny’ can be installed ... OK
* checking installed package size ... OK
* checking package directory ... OK
* checking ‘build’ directory ... OK
* checking DESCRIPTION meta-information ... OK
* checking top-level files ... OK
* checking for left-over files ... OK
* checking index information ... OK
* checking package subdirectories ... OK
* checking R files for non-ASCII characters ... OK
* checking R files for syntax errors ... OK
* checking whether the package can be loaded ... OK
* checking whether the package can be loaded with stated dependencies ... OK
* checking whether the package can be unloaded cleanly ... OK
* checking whether the namespace can be loaded with stated dependencies ... OK
* checking whether the namespace can be unloaded cleanly ... OK
* checking startup messages can be suppressed ... OK
* checking dependencies in R code ... OK
* checking S3 generic/method consistency ... OK
* checking replacement functions ... OK
* checking foreign function calls ... OK
* checking R code for possible problems ... OK
* checking Rd files ... OK
* checking Rd metadata ... OK
* checking Rd cross-references ... OK
* checking for missing documentation entries ... OK
* checking for code/documentation mismatches ... OK
* checking Rd \usage sections ... OK
* checking Rd contents ... OK
* checking for unstated dependencies in examples ... OK
* checking files in ‘vignettes’ ... OK
* checking examples ... OK
* checking for unstated dependencies in ‘tests’ ... OK
* checking tests ...
Running ‘testthat.R’
OK
* checking for unstated dependencies in vignettes ... OK
* checking package vignettes in ‘inst/doc’ ... OK
* checking running R code from vignettes ... SKIPPED
* checking re-building of vignette outputs ... SKIPPED
* checking PDF version of manual ... OK
* DONE
Status: OK
BiocHubsShiny.Rcheck/00install.out
############################################################################## ############################################################################## ### ### Running command: ### ### /Library/Frameworks/R.framework/Resources/bin/R CMD INSTALL BiocHubsShiny ### ############################################################################## ############################################################################## * installing to library ‘/Library/Frameworks/R.framework/Versions/4.3-arm64/Resources/library’ * installing *source* package ‘BiocHubsShiny’ ... ** using staged installation ** R ** inst ** byte-compile and prepare package for lazy loading ** help *** installing help indices ** building package indices ** installing vignettes ** testing if installed package can be loaded from temporary location ** testing if installed package can be loaded from final location ** testing if installed package keeps a record of temporary installation path * DONE (BiocHubsShiny)
BiocHubsShiny.Rcheck/tests/testthat.Rout
R version 4.3.1 (2023-06-16) -- "Beagle Scouts"
Copyright (C) 2023 The R Foundation for Statistical Computing
Platform: aarch64-apple-darwin20 (64-bit)
R is free software and comes with ABSOLUTELY NO WARRANTY.
You are welcome to redistribute it under certain conditions.
Type 'license()' or 'licence()' for distribution details.
R is a collaborative project with many contributors.
Type 'contributors()' for more information and
'citation()' on how to cite R or R packages in publications.
Type 'demo()' for some demos, 'help()' for on-line help, or
'help.start()' for an HTML browser interface to help.
Type 'q()' to quit R.
> shinytest2::test_app()
Loading required package: testthat
Loading required package: shiny
✔ | F W S OK | Context
⠏ | 0 | server
⠋ | 1 | server
⠙ | 2 | server
✔ | 2 | server [32.4s]
⠏ | 0 | shinytest2 Error in c("process_initialize(self, private, command, args, stdin, stdout, ", :
! Native call to `processx_exec` failed
Caused by error in `chain_call(c_processx_exec, command, c(command, args), pty, pty_options, …`:
! cannot start processx process '/Applications/Google Chrome.app/Contents/MacOS/Google Chrome' (system error 2, No such file or directory) @unix/processx.c:613 (processx_exec)
⠋ | 1 0 | shinytest2 Error in c("process_initialize(self, private, command, args, stdin, stdout, ", :
! Native call to `processx_exec` failed
Caused by error in `chain_call(c_processx_exec, command, c(command, args), pty, pty_options, …`:
! cannot start processx process '/Applications/Google Chrome.app/Contents/MacOS/Google Chrome' (system error 2, No such file or directory) @unix/processx.c:613 (processx_exec)
⠙ | 2 0 | shinytest2 Error in c("process_initialize(self, private, command, args, stdin, stdout, ", :
! Native call to `processx_exec` failed
Caused by error in `chain_call(c_processx_exec, command, c(command, args), pty, pty_options, …`:
! cannot start processx process '/Applications/Google Chrome.app/Contents/MacOS/Google Chrome' (system error 2, No such file or directory) @unix/processx.c:613 (processx_exec)
⠹ | 3 0 | shinytest2
✔ | 3 0 | shinytest2
══ Results ═════════════════════════════════════════════════════════════════════
Duration: 33.4 s
── Skipped tests (3) ───────────────────────────────────────────────────────────
• `shinytest2::AppDriver` can not be initialized as {chromote} can not be
started (3): 'test-shinytest2.R:6:5', 'test-shinytest2.R:19:5',
'test-shinytest2.R:31:5'
[ FAIL 0 | WARN 0 | SKIP 3 | PASS 2 ]
Deleting unused snapshots:
• linux-4.3/shinytest2/BiocHubsShiny-EH-001.png
• linux-4.3/shinytest2/BiocHubsShiny-about-001.png
• linux-4.3/shinytest2/BiocHubsShiny-selection-001.png
>
> proc.time()
user system elapsed
17.378 1.735 36.419
BiocHubsShiny.Rcheck/BiocHubsShiny-Ex.timings
| name | user | system | elapsed | |
| BiocHubsShiny | 0.000 | 0.000 | 0.001 | |