| Back to Mac ARM64 build report for BioC 3.17 |
|
This page was generated on 2023-10-20 09:37:58 -0400 (Fri, 20 Oct 2023).
| Hostname | OS | Arch (*) | R version | Installed pkgs |
|---|---|---|---|---|
| kjohnson2 | macOS 12.6.1 Monterey | arm64 | 4.3.1 (2023-06-16) -- "Beagle Scouts" | 4347 |
| Click on any hostname to see more info about the system (e.g. compilers) (*) as reported by 'uname -p', except on Windows and Mac OS X | ||||
| Package 171/2230 | Hostname | OS / Arch | INSTALL | BUILD | CHECK | BUILD BIN | ||||||||
| BiocBaseUtils 1.2.0 (landing page) Marcel Ramos
| kjohnson2 | macOS 12.6.1 Monterey / arm64 | OK | OK | OK | OK | ||||||||
|
To the developers/maintainers of the BiocBaseUtils package: - Use the following Renviron settings to reproduce errors and warnings. - If 'R CMD check' started to fail recently on the Linux builder(s) over a missing dependency, add the missing dependency to 'Suggests:' in your DESCRIPTION file. See Renviron.bioc for more information. |
| Package: BiocBaseUtils |
| Version: 1.2.0 |
| Command: /Library/Frameworks/R.framework/Resources/bin/R CMD check --install=check:BiocBaseUtils.install-out.txt --library=/Library/Frameworks/R.framework/Resources/library --no-vignettes --timings BiocBaseUtils_1.2.0.tar.gz |
| StartedAt: 2023-10-17 05:19:46 -0400 (Tue, 17 Oct 2023) |
| EndedAt: 2023-10-17 05:20:24 -0400 (Tue, 17 Oct 2023) |
| EllapsedTime: 38.2 seconds |
| RetCode: 0 |
| Status: OK |
| CheckDir: BiocBaseUtils.Rcheck |
| Warnings: 0 |
##############################################################################
##############################################################################
###
### Running command:
###
### /Library/Frameworks/R.framework/Resources/bin/R CMD check --install=check:BiocBaseUtils.install-out.txt --library=/Library/Frameworks/R.framework/Resources/library --no-vignettes --timings BiocBaseUtils_1.2.0.tar.gz
###
##############################################################################
##############################################################################
* using log directory ‘/Users/biocbuild/bbs-3.17-bioc-mac-arm64/meat/BiocBaseUtils.Rcheck’
* using R version 4.3.1 (2023-06-16)
* using platform: aarch64-apple-darwin20 (64-bit)
* R was compiled by
Apple clang version 14.0.0 (clang-1400.0.29.202)
GNU Fortran (GCC) 12.2.0
* running under: macOS Monterey 12.6.7
* using session charset: UTF-8
* using option ‘--no-vignettes’
* checking for file ‘BiocBaseUtils/DESCRIPTION’ ... OK
* this is package ‘BiocBaseUtils’ version ‘1.2.0’
* package encoding: UTF-8
* checking package namespace information ... OK
* checking package dependencies ... OK
* checking if this is a source package ... OK
* checking if there is a namespace ... OK
* checking for hidden files and directories ... OK
* checking for portable file names ... OK
* checking for sufficient/correct file permissions ... OK
* checking whether package ‘BiocBaseUtils’ can be installed ... OK
* checking installed package size ... OK
* checking package directory ... OK
* checking ‘build’ directory ... OK
* checking DESCRIPTION meta-information ... OK
* checking top-level files ... OK
* checking for left-over files ... OK
* checking index information ... OK
* checking package subdirectories ... OK
* checking R files for non-ASCII characters ... OK
* checking R files for syntax errors ... OK
* checking whether the package can be loaded ... OK
* checking whether the package can be loaded with stated dependencies ... OK
* checking whether the package can be unloaded cleanly ... OK
* checking whether the namespace can be loaded with stated dependencies ... OK
* checking whether the namespace can be unloaded cleanly ... OK
* checking dependencies in R code ... OK
* checking S3 generic/method consistency ... OK
* checking replacement functions ... OK
* checking foreign function calls ... OK
* checking R code for possible problems ... OK
* checking Rd files ... OK
* checking Rd metadata ... OK
* checking Rd cross-references ... OK
* checking for missing documentation entries ... OK
* checking for code/documentation mismatches ... OK
* checking Rd \usage sections ... OK
* checking Rd contents ... OK
* checking for unstated dependencies in examples ... OK
* checking files in ‘vignettes’ ... OK
* checking examples ... OK
* checking for unstated dependencies in ‘tests’ ... OK
* checking tests ...
Running ‘tinytest.R’
OK
* checking for unstated dependencies in vignettes ... OK
* checking package vignettes in ‘inst/doc’ ... OK
* checking running R code from vignettes ... SKIPPED
* checking re-building of vignette outputs ... SKIPPED
* checking PDF version of manual ... OK
* DONE
Status: OK
BiocBaseUtils.Rcheck/00install.out
############################################################################## ############################################################################## ### ### Running command: ### ### /Library/Frameworks/R.framework/Resources/bin/R CMD INSTALL BiocBaseUtils ### ############################################################################## ############################################################################## * installing to library ‘/Library/Frameworks/R.framework/Versions/4.3-arm64/Resources/library’ * installing *source* package ‘BiocBaseUtils’ ... ** using staged installation ** R ** inst ** byte-compile and prepare package for lazy loading ** help *** installing help indices ** building package indices ** installing vignettes ** testing if installed package can be loaded from temporary location ** testing if installed package can be loaded from final location ** testing if installed package keeps a record of temporary installation path * DONE (BiocBaseUtils)
BiocBaseUtils.Rcheck/tests/tinytest.Rout
R version 4.3.1 (2023-06-16) -- "Beagle Scouts"
Copyright (C) 2023 The R Foundation for Statistical Computing
Platform: aarch64-apple-darwin20 (64-bit)
R is free software and comes with ABSOLUTELY NO WARRANTY.
You are welcome to redistribute it under certain conditions.
Type 'license()' or 'licence()' for distribution details.
R is a collaborative project with many contributors.
Type 'contributors()' for more information and
'citation()' on how to cite R or R packages in publications.
Type 'demo()' for some demos, 'help()' for on-line help, or
'help.start()' for an HTML browser interface to help.
Type 'q()' to quit R.
> if (requireNamespace("tinytest", quietly = TRUE))
+ tinytest::test_package("BiocBaseUtils")
test_assertions.R............. 1 tests [0;32mOK[0m
test_assertions.R............. 2 tests [0;32mOK[0m
test_assertions.R............. 3 tests [0;32mOK[0m
test_assertions.R............. 4 tests [0;32mOK[0m
test_assertions.R............. 5 tests [0;32mOK[0m
test_assertions.R............. 6 tests [0;32mOK[0m
test_assertions.R............. 7 tests [0;32mOK[0m
test_assertions.R............. 8 tests [0;32mOK[0m
test_assertions.R............. 9 tests [0;32mOK[0m
test_assertions.R............. 10 tests [0;32mOK[0m
test_assertions.R............. 11 tests [0;32mOK[0m
test_assertions.R............. 12 tests [0;32mOK[0m
test_assertions.R............. 13 tests [0;32mOK[0m [0;36m80ms[0m
test_internals.R.............. 0 tests
test_internals.R.............. 0 tests
test_internals.R.............. 0 tests
test_internals.R.............. 1 tests [0;32mOK[0m
test_internals.R.............. 1 tests [0;32mOK[0m
test_internals.R.............. 2 tests [0;32mOK[0m
test_internals.R.............. 3 tests [0;32mOK[0m [0;36m27ms[0m
test_showUtils.R.............. 1 tests [0;32mOK[0m
test_showUtils.R.............. 2 tests [0;32mOK[0m
test_showUtils.R.............. 3 tests [0;32mOK[0m
test_showUtils.R.............. 4 tests [0;32mOK[0m
test_showUtils.R.............. 5 tests [0;32mOK[0m
test_showUtils.R.............. 6 tests [0;32mOK[0m [0;36m4ms[0m
All ok, 22 results (0.1s)
>
> proc.time()
user system elapsed
0.301 0.078 0.599
BiocBaseUtils.Rcheck/BiocBaseUtils-Ex.timings
| name | user | system | elapsed | |
| Assertions | 0.001 | 0.001 | 0.003 | |
| selectSome | 0.000 | 0.001 | 0.004 | |
| setSlots | 0.014 | 0.001 | 0.020 | |