| Back to Mac ARM64 build report for BioC 3.17 |
|
This page was generated on 2023-10-20 09:37:59 -0400 (Fri, 20 Oct 2023).
| Hostname | OS | Arch (*) | R version | Installed pkgs |
|---|---|---|---|---|
| kjohnson2 | macOS 12.6.1 Monterey | arm64 | 4.3.1 (2023-06-16) -- "Beagle Scouts" | 4347 |
| Click on any hostname to see more info about the system (e.g. compilers) (*) as reported by 'uname -p', except on Windows and Mac OS X | ||||
| Package 213/2230 | Hostname | OS / Arch | INSTALL | BUILD | CHECK | BUILD BIN | ||||||||
| BioNetStat 1.20.0 (landing page) Vinicius Jardim
| kjohnson2 | macOS 12.6.1 Monterey / arm64 | OK | OK | OK | OK | ||||||||
|
To the developers/maintainers of the BioNetStat package: - Use the following Renviron settings to reproduce errors and warnings. - If 'R CMD check' started to fail recently on the Linux builder(s) over a missing dependency, add the missing dependency to 'Suggests:' in your DESCRIPTION file. See Renviron.bioc for more information. |
| Package: BioNetStat |
| Version: 1.20.0 |
| Command: /Library/Frameworks/R.framework/Resources/bin/R CMD check --install=check:BioNetStat.install-out.txt --library=/Library/Frameworks/R.framework/Resources/library --no-vignettes --timings BioNetStat_1.20.0.tar.gz |
| StartedAt: 2023-10-17 05:55:34 -0400 (Tue, 17 Oct 2023) |
| EndedAt: 2023-10-17 05:59:17 -0400 (Tue, 17 Oct 2023) |
| EllapsedTime: 223.1 seconds |
| RetCode: 0 |
| Status: OK |
| CheckDir: BioNetStat.Rcheck |
| Warnings: 0 |
##############################################################################
##############################################################################
###
### Running command:
###
### /Library/Frameworks/R.framework/Resources/bin/R CMD check --install=check:BioNetStat.install-out.txt --library=/Library/Frameworks/R.framework/Resources/library --no-vignettes --timings BioNetStat_1.20.0.tar.gz
###
##############################################################################
##############################################################################
* using log directory ‘/Users/biocbuild/bbs-3.17-bioc-mac-arm64/meat/BioNetStat.Rcheck’
* using R version 4.3.1 (2023-06-16)
* using platform: aarch64-apple-darwin20 (64-bit)
* R was compiled by
Apple clang version 14.0.0 (clang-1400.0.29.202)
GNU Fortran (GCC) 12.2.0
* running under: macOS Monterey 12.6.7
* using session charset: UTF-8
* using option ‘--no-vignettes’
* checking for file ‘BioNetStat/DESCRIPTION’ ... OK
* checking extension type ... Package
* this is package ‘BioNetStat’ version ‘1.20.0’
* package encoding: UTF-8
* checking package namespace information ... OK
* checking package dependencies ... OK
* checking if this is a source package ... OK
* checking if there is a namespace ... OK
* checking for hidden files and directories ... OK
* checking for portable file names ... OK
* checking for sufficient/correct file permissions ... OK
* checking whether package ‘BioNetStat’ can be installed ... OK
* checking installed package size ... NOTE
installed size is 5.3Mb
sub-directories of 1Mb or more:
extdata 1.9Mb
shiny 1.9Mb
* checking package directory ... OK
* checking ‘build’ directory ... OK
* checking DESCRIPTION meta-information ... OK
* checking top-level files ... OK
* checking for left-over files ... OK
* checking index information ... OK
* checking package subdirectories ... NOTE
Found the following CITATION file in a non-standard place:
CITATION
Most likely ‘inst/CITATION’ should be used instead.
* checking R files for non-ASCII characters ... OK
* checking R files for syntax errors ... OK
* checking whether the package can be loaded ... OK
* checking whether the package can be loaded with stated dependencies ... OK
* checking whether the package can be unloaded cleanly ... OK
* checking whether the namespace can be loaded with stated dependencies ... OK
* checking whether the namespace can be unloaded cleanly ... OK
* checking dependencies in R code ... NOTE
Namespaces in Imports field not imported from:
‘BiocParallel’ ‘RColorBrewer’ ‘RJSONIO’ ‘ggplot2’ ‘knitr’ ‘markdown’
‘pheatmap’ ‘plyr’ ‘rmarkdown’ ‘stats’ ‘utils’ ‘whisker’ ‘yaml’
All declared Imports should be used.
Packages in Depends field not imported from:
‘DT’ ‘shiny’ ‘shinyBS’
These packages need to be imported from (in the NAMESPACE file)
for when this namespace is loaded but not attached.
* checking S3 generic/method consistency ... OK
* checking replacement functions ... OK
* checking foreign function calls ... OK
* checking R code for possible problems ... NOTE
adjacencyMatrix : <anonymous>: no visible global function definition
for ‘cor’
adjacencyMatrix : <anonymous>: no visible global function definition
for ‘p.adjust’
betweennessCentralityTest: no visible global function definition for
‘bplapply’
betweennessCentralityVertexTest: no visible global function definition
for ‘bplapply’
closenessCentralityTest: no visible global function definition for
‘bplapply’
closenessCentralityVertexTest: no visible global function definition
for ‘bplapply’
clusteringCoefficientTest : <anonymous>: no visible global function
definition for ‘dist’
clusteringCoefficientTest : <anonymous> : <anonymous>: no visible
global function definition for ‘dist’
clusteringCoefficientTest: no visible global function definition for
‘bplapply’
clusteringCoefficientVertexTest: no visible global function definition
for ‘bplapply’
degreeCentralityTest: no visible global function definition for
‘bplapply’
degreeCentralityVertexTest: no visible global function definition for
‘bplapply’
degreeDistributionTest: no visible global function definition for
‘bplapply’
diffNetAnalysis: no visible binding for global variable ‘expr’
diffNetAnalysis: no visible global function definition for ‘p.adjust’
doLabels: no visible global function definition for ‘read.csv’
edgeBetweennessEdgeTest: no visible global function definition for
‘bplapply’
edgeBetweennessTest: no visible global function definition for
‘bplapply’
edgesResInt : <anonymous>: no visible global function definition for
‘dist’
eigenvectorCentralityTest: no visible global function definition for
‘bplapply’
eigenvectorCentralityVertexTest: no visible global function definition
for ‘bplapply’
gaussianDensity: no visible global function definition for ‘bw.nrd0’
gaussianDensity: no visible global function definition for ‘density’
pathPlot: no visible binding for global variable ‘median’
readVarFile: no visible global function definition for ‘read.table’
resInt : <anonymous>: no visible global function definition for ‘dist’
retEdgesTable: no visible global function definition for ‘p.adjust’
retTable: no visible global function definition for ‘p.adjust’
spectralDistributionTest: no visible global function definition for
‘bplapply’
spectralEntropyTest: no visible global function definition for
‘bplapply’
var.list: no visible global function definition for ‘aggregate’
Undefined global functions or variables:
aggregate bplapply bw.nrd0 cor density dist expr median p.adjust
read.csv read.table
Consider adding
importFrom("stats", "aggregate", "bw.nrd0", "cor", "density", "dist",
"median", "p.adjust")
importFrom("utils", "read.csv", "read.table")
to your NAMESPACE file.
* checking Rd files ... NOTE
checkRd: (-1) centralityPathPlot.Rd:47: Escaped LaTeX specials: \#
* checking Rd metadata ... OK
* checking Rd cross-references ... OK
* checking for missing documentation entries ... OK
* checking for code/documentation mismatches ... OK
* checking Rd \usage sections ... OK
* checking Rd contents ... OK
* checking for unstated dependencies in examples ... OK
* checking contents of ‘data’ directory ... OK
* checking data for non-ASCII characters ... OK
* checking data for ASCII and uncompressed saves ... OK
* checking files in ‘vignettes’ ... OK
* checking examples ... OK
Examples with CPU (user + system) or elapsed time > 5s
user system elapsed
networkTest 12.042 0.129 14.277
* checking for unstated dependencies in vignettes ... OK
* checking package vignettes in ‘inst/doc’ ... OK
* checking running R code from vignettes ... SKIPPED
* checking re-building of vignette outputs ... SKIPPED
* checking PDF version of manual ... OK
* DONE
Status: 5 NOTEs
See
‘/Users/biocbuild/bbs-3.17-bioc-mac-arm64/meat/BioNetStat.Rcheck/00check.log’
for details.
BioNetStat.Rcheck/00install.out
############################################################################## ############################################################################## ### ### Running command: ### ### /Library/Frameworks/R.framework/Resources/bin/R CMD INSTALL BioNetStat ### ############################################################################## ############################################################################## * installing to library ‘/Library/Frameworks/R.framework/Versions/4.3-arm64/Resources/library’ * installing *source* package ‘BioNetStat’ ... ** using staged installation ** R ** data ** inst ** byte-compile and prepare package for lazy loading ** help *** installing help indices ** building package indices ** installing vignettes ** testing if installed package can be loaded from temporary location ** testing if installed package can be loaded from final location ** testing if installed package keeps a record of temporary installation path * DONE (BioNetStat)
BioNetStat.Rcheck/BioNetStat-Ex.timings
| name | user | system | elapsed | |
| KLdegree | 0.014 | 0.002 | 0.021 | |
| KLspectrum | 1.568 | 0.037 | 2.074 | |
| adjacencyMatrix | 0.001 | 0.001 | 0.001 | |
| centralityPathPlot | 0.214 | 0.023 | 2.039 | |
| diffNetAnalysis | 2.027 | 0.037 | 2.724 | |
| doLabels | 0.131 | 0.007 | 0.173 | |
| edgeTest | 0.078 | 0.011 | 0.113 | |
| labels | 0.001 | 0.002 | 0.005 | |
| nDegreeDensities | 0.047 | 0.008 | 0.074 | |
| nSpectralDensities | 0.104 | 0.008 | 0.140 | |
| networkFeature | 0.087 | 0.014 | 0.155 | |
| networkTest | 12.042 | 0.129 | 14.277 | |
| nodeScores | 0.121 | 0.014 | 0.139 | |
| nodeTest | 0.133 | 0.013 | 0.154 | |
| pathPlot | 0.077 | 0.009 | 1.908 | |
| readSetFile | 0.087 | 0.003 | 0.117 | |
| readVarFile | 0.135 | 0.005 | 0.186 | |
| runBioNetStat | 0 | 0 | 0 | |
| varFile | 0.007 | 0.002 | 0.011 | |