| Back to Mac ARM64 build report for BioC 3.17 |
|
This page was generated on 2023-03-16 11:01:56 -0400 (Thu, 16 Mar 2023).
| Hostname | OS | Arch (*) | R version | Installed pkgs |
|---|---|---|---|---|
| kjohnson2 | macOS 12.6.1 Monterey | arm64 | R Under development (unstable) (2023-01-10 r83596) -- "Unsuffered Consequences" | 4115 |
| Click on any hostname to see more info about the system (e.g. compilers) (*) as reported by 'uname -p', except on Windows and Mac OS X | ||||
|
To the developers/maintainers of the BioMM package: Make sure to use the following settings in order to reproduce any error or warning you see on this page. |
| Package 205/2189 | Hostname | OS / Arch | INSTALL | BUILD | CHECK | BUILD BIN | ||||||||
| BioMM 1.15.0 (landing page) Junfang Chen
| kjohnson2 | macOS 12.6.1 Monterey / arm64 | OK | OK | OK | OK | ||||||||
| Package: BioMM |
| Version: 1.15.0 |
| Command: /Library/Frameworks/R.framework/Resources/bin/R CMD check --install=check:BioMM.install-out.txt --library=/Library/Frameworks/R.framework/Resources/library --no-vignettes --timings BioMM_1.15.0.tar.gz |
| StartedAt: 2023-03-14 02:28:29 -0400 (Tue, 14 Mar 2023) |
| EndedAt: 2023-03-14 02:29:20 -0400 (Tue, 14 Mar 2023) |
| EllapsedTime: 50.4 seconds |
| RetCode: 0 |
| Status: OK |
| CheckDir: BioMM.Rcheck |
| Warnings: 0 |
##############################################################################
##############################################################################
###
### Running command:
###
### /Library/Frameworks/R.framework/Resources/bin/R CMD check --install=check:BioMM.install-out.txt --library=/Library/Frameworks/R.framework/Resources/library --no-vignettes --timings BioMM_1.15.0.tar.gz
###
##############################################################################
##############################################################################
* using log directory ‘/Users/biocbuild/bbs-3.17-bioc-mac-arm64/meat/BioMM.Rcheck’
* using R Under development (unstable) (2023-01-10 r83596)
* using platform: aarch64-apple-darwin20 (64-bit)
* R was compiled by
Apple clang version 13.0.0 (clang-1300.0.29.3)
GNU Fortran (GCC) 12.0.1 20220312 (experimental)
* running under: macOS Monterey 12.6.1
* using session charset: UTF-8
* using option ‘--no-vignettes’
* checking for file ‘BioMM/DESCRIPTION’ ... OK
* checking extension type ... Package
* this is package ‘BioMM’ version ‘1.15.0’
* package encoding: UTF-8
* checking package namespace information ... OK
* checking package dependencies ... OK
* checking if this is a source package ... OK
* checking if there is a namespace ... OK
* checking for hidden files and directories ... OK
* checking for portable file names ... OK
* checking for sufficient/correct file permissions ... OK
* checking whether package ‘BioMM’ can be installed ... OK
* checking installed package size ... OK
* checking package directory ... OK
* checking ‘build’ directory ... OK
* checking DESCRIPTION meta-information ... OK
* checking top-level files ... OK
* checking for left-over files ... OK
* checking index information ... OK
* checking package subdirectories ... OK
* checking R files for non-ASCII characters ... OK
* checking R files for syntax errors ... OK
* checking whether the package can be loaded ... OK
* checking whether the package can be loaded with stated dependencies ... OK
* checking whether the package can be unloaded cleanly ... OK
* checking whether the namespace can be loaded with stated dependencies ... OK
* checking whether the namespace can be unloaded cleanly ... OK
* checking dependencies in R code ... NOTE
Namespaces in Imports field not imported from:
‘imager’ ‘topGO’ ‘xlsx’
All declared Imports should be used.
* checking S3 generic/method consistency ... OK
* checking replacement functions ... OK
* checking foreign function calls ... OK
* checking R code for possible problems ... OK
* checking Rd files ... OK
* checking Rd metadata ... OK
* checking Rd cross-references ... OK
* checking for missing documentation entries ... OK
* checking for code/documentation mismatches ... OK
* checking Rd \usage sections ... OK
* checking Rd contents ... OK
* checking for unstated dependencies in examples ... OK
* checking files in ‘vignettes’ ... OK
* checking examples ... OK
Examples with CPU (user + system) or elapsed time > 5s
user system elapsed
getDataByFilter 15.238 0.361 4.275
reconByUnsupervised 7.557 0.740 5.765
* checking for unstated dependencies in ‘tests’ ... OK
* checking tests ...
Running ‘runTest.R’
OK
* checking for unstated dependencies in vignettes ... OK
* checking package vignettes in ‘inst/doc’ ... OK
* checking running R code from vignettes ... SKIPPED
* checking re-building of vignette outputs ... SKIPPED
* checking PDF version of manual ... OK
* DONE
Status: 1 NOTE
See
‘/Users/biocbuild/bbs-3.17-bioc-mac-arm64/meat/BioMM.Rcheck/00check.log’
for details.
BioMM.Rcheck/00install.out
############################################################################## ############################################################################## ### ### Running command: ### ### /Library/Frameworks/R.framework/Resources/bin/R CMD INSTALL BioMM ### ############################################################################## ############################################################################## * installing to library ‘/Library/Frameworks/R.framework/Versions/4.3-arm64/Resources/library’ * installing *source* package ‘BioMM’ ... ** using staged installation ** R ** inst ** byte-compile and prepare package for lazy loading ** help *** installing help indices ** building package indices ** installing vignettes ** testing if installed package can be loaded from temporary location ** testing if installed package can be loaded from final location ** testing if installed package keeps a record of temporary installation path * DONE (BioMM)
BioMM.Rcheck/tests/runTest.Rout
R Under development (unstable) (2023-01-10 r83596) -- "Unsuffered Consequences"
Copyright (C) 2023 The R Foundation for Statistical Computing
Platform: aarch64-apple-darwin20 (64-bit)
R is free software and comes with ABSOLUTELY NO WARRANTY.
You are welcome to redistribute it under certain conditions.
Type 'license()' or 'licence()' for distribution details.
R is a collaborative project with many contributors.
Type 'contributors()' for more information and
'citation()' on how to cite R or R packages in publications.
Type 'demo()' for some demos, 'help()' for on-line help, or
'help.start()' for an HTML browser interface to help.
Type 'q()' to quit R.
> BiocGenerics:::testPackage("BioMM")
RUNIT TEST PROTOCOL -- Tue Mar 14 02:29:17 2023
***********************************************
Number of test functions: 2
Number of errors: 0
Number of failures: 0
1 Test Suite :
BioMM RUnit Tests - 2 test functions, 0 errors, 0 failures
Number of test functions: 2
Number of errors: 0
Number of failures: 0
>
> proc.time()
user system elapsed
1.427 0.087 1.502
BioMM.Rcheck/BioMM-Ex.timings
| name | user | system | elapsed | |
| BioMM | 0.335 | 0.005 | 0.342 | |
| baseGLMnet | 0.159 | 0.009 | 0.168 | |
| baseModel | 0.133 | 0.006 | 0.132 | |
| baseRandForest | 0.133 | 0.005 | 0.132 | |
| baseSVM | 0.467 | 0.013 | 0.480 | |
| classifiACC | 0.680 | 0.155 | 0.512 | |
| getDataByFilter | 15.238 | 0.361 | 4.275 | |
| getMetrics | 0.907 | 0.224 | 0.566 | |
| omics2pathlist | 0.123 | 0.009 | 0.133 | |
| predByBS | 4.348 | 0.308 | 1.786 | |
| predByCV | 2.998 | 0.381 | 0.751 | |
| predByFS | 0.237 | 0.094 | 0.234 | |
| reconBySupervised | 4.339 | 0.407 | 4.746 | |
| reconByUnsupervised | 7.557 | 0.740 | 5.765 | |