| Back to Mac ARM64 build report for BioC 3.17 |
|
This page was generated on 2023-10-20 09:37:57 -0400 (Fri, 20 Oct 2023).
| Hostname | OS | Arch (*) | R version | Installed pkgs |
|---|---|---|---|---|
| kjohnson2 | macOS 12.6.1 Monterey | arm64 | 4.3.1 (2023-06-16) -- "Beagle Scouts" | 4347 |
| Click on any hostname to see more info about the system (e.g. compilers) (*) as reported by 'uname -p', except on Windows and Mac OS X | ||||
| Package 31/2230 | Hostname | OS / Arch | INSTALL | BUILD | CHECK | BUILD BIN | ||||||||
| AGDEX 1.48.0 (landing page) Cuilan lani Gao
| kjohnson2 | macOS 12.6.1 Monterey / arm64 | OK | OK | OK | OK | ||||||||
|
To the developers/maintainers of the AGDEX package: - Use the following Renviron settings to reproduce errors and warnings. - If 'R CMD check' started to fail recently on the Linux builder(s) over a missing dependency, add the missing dependency to 'Suggests:' in your DESCRIPTION file. See Renviron.bioc for more information. |
| Package: AGDEX |
| Version: 1.48.0 |
| Command: /Library/Frameworks/R.framework/Resources/bin/R CMD check --install=check:AGDEX.install-out.txt --library=/Library/Frameworks/R.framework/Resources/library --no-vignettes --timings AGDEX_1.48.0.tar.gz |
| StartedAt: 2023-10-17 01:28:32 -0400 (Tue, 17 Oct 2023) |
| EndedAt: 2023-10-17 01:30:33 -0400 (Tue, 17 Oct 2023) |
| EllapsedTime: 120.3 seconds |
| RetCode: 0 |
| Status: OK |
| CheckDir: AGDEX.Rcheck |
| Warnings: 0 |
##############################################################################
##############################################################################
###
### Running command:
###
### /Library/Frameworks/R.framework/Resources/bin/R CMD check --install=check:AGDEX.install-out.txt --library=/Library/Frameworks/R.framework/Resources/library --no-vignettes --timings AGDEX_1.48.0.tar.gz
###
##############################################################################
##############################################################################
* using log directory ‘/Users/biocbuild/bbs-3.17-bioc-mac-arm64/meat/AGDEX.Rcheck’
* using R version 4.3.1 (2023-06-16)
* using platform: aarch64-apple-darwin20 (64-bit)
* R was compiled by
Apple clang version 14.0.0 (clang-1400.0.29.202)
GNU Fortran (GCC) 12.2.0
* running under: macOS Monterey 12.6.7
* using session charset: UTF-8
* using option ‘--no-vignettes’
* checking for file ‘AGDEX/DESCRIPTION’ ... OK
* checking extension type ... Package
* this is package ‘AGDEX’ version ‘1.48.0’
* checking package namespace information ... OK
* checking package dependencies ... OK
* checking if this is a source package ... OK
* checking if there is a namespace ... OK
* checking for hidden files and directories ... OK
* checking for portable file names ... OK
* checking for sufficient/correct file permissions ... OK
* checking whether package ‘AGDEX’ can be installed ... OK
* checking installed package size ... OK
* checking package directory ... OK
* checking ‘build’ directory ... OK
* checking DESCRIPTION meta-information ... NOTE
Malformed Description field: should contain one or more complete sentences.
Non-standard license specification:
GPL Version 2 or later
Standardizable: TRUE
Standardized license specification:
GPL (>= 2)
* checking top-level files ... OK
* checking for left-over files ... OK
* checking index information ... OK
* checking package subdirectories ... OK
* checking R files for non-ASCII characters ... OK
* checking R files for syntax errors ... OK
* checking whether the package can be loaded ... OK
* checking whether the package can be loaded with stated dependencies ... OK
* checking whether the package can be unloaded cleanly ... OK
* checking whether the namespace can be loaded with stated dependencies ... OK
* checking whether the namespace can be unloaded cleanly ... OK
* checking dependencies in R code ... NOTE
Packages in Depends field not imported from:
‘Biobase’ ‘GSEABase’
These packages need to be imported from (in the NAMESPACE file)
for when this namespace is loaded but not attached.
* checking S3 generic/method consistency ... OK
* checking replacement functions ... OK
* checking foreign function calls ... OK
* checking R code for possible problems ... NOTE
agdex: no visible global function definition for ‘exprs’
agdex: no visible global function definition for ‘qnorm’
agdex: no visible global function definition for ‘pnorm’
agdex: no visible global function definition for ‘sampleNames’
agdex: no visible global function definition for ‘pData’
agdex.scatterplot: no visible global function definition for ‘points’
agdex.scatterplot: no visible global function definition for ‘lines’
agdex.scatterplot: no visible global function definition for ‘prcomp’
agdex.scatterplot: no visible global function definition for ‘abline’
gsc.to.index.list: no visible global function definition for ‘geneIds’
prep.dex.set: no visible global function definition for ‘exprs’
prep.dex.set: no visible global function definition for ‘pData’
read.agdex.gset.details: no visible global function definition for
‘read.table’
read.agdex.gset.list: no visible global function definition for
‘read.table’
read.agdex.result: no visible global function definition for
‘read.table’
read.enrich.gset.list: no visible global function definition for
‘read.table’
read.gset.collection: no visible global function definition for
‘read.table’
read.gset.collection: no visible global function definition for
‘GeneSet’
read.gset.collection: no visible global function definition for
‘geneIds<-’
read.gset.collection: no visible global function definition for
‘GeneSetCollection’
write.agdex.gset.details: no visible global function definition for
‘write.table’
write.agdex.result: no visible global function definition for
‘write.table’
write.gset.list.result: no visible global function definition for
‘write.table’
Undefined global functions or variables:
GeneSet GeneSetCollection abline exprs geneIds geneIds<- lines pData
pnorm points prcomp qnorm read.table sampleNames write.table
Consider adding
importFrom("graphics", "abline", "lines", "points")
importFrom("stats", "pnorm", "prcomp", "qnorm")
importFrom("utils", "read.table", "write.table")
to your NAMESPACE file.
* checking Rd files ... OK
* checking Rd metadata ... OK
* checking Rd cross-references ... OK
* checking for missing documentation entries ... OK
* checking for code/documentation mismatches ... OK
* checking Rd \usage sections ... OK
* checking Rd contents ... OK
* checking for unstated dependencies in examples ... OK
* checking contents of ‘data’ directory ... OK
* checking data for non-ASCII characters ... OK
* checking data for ASCII and uncompressed saves ... OK
* checking sizes of PDF files under ‘inst/doc’ ... OK
* checking files in ‘vignettes’ ... OK
* checking examples ... OK
* checking for unstated dependencies in vignettes ... OK
* checking package vignettes in ‘inst/doc’ ... OK
* checking running R code from vignettes ... SKIPPED
* checking re-building of vignette outputs ... SKIPPED
* checking PDF version of manual ... OK
* DONE
Status: 3 NOTEs
See
‘/Users/biocbuild/bbs-3.17-bioc-mac-arm64/meat/AGDEX.Rcheck/00check.log’
for details.
AGDEX.Rcheck/00install.out
############################################################################## ############################################################################## ### ### Running command: ### ### /Library/Frameworks/R.framework/Resources/bin/R CMD INSTALL AGDEX ### ############################################################################## ############################################################################## * installing to library ‘/Library/Frameworks/R.framework/Versions/4.3-arm64/Resources/library’ * installing *source* package ‘AGDEX’ ... ** using staged installation ** R ** data ** byte-compile and prepare package for lazy loading ** help *** installing help indices ** building package indices ** installing vignettes ** testing if installed package can be loaded from temporary location ** testing if installed package can be loaded from final location ** testing if installed package keeps a record of temporary installation path * DONE (AGDEX)
AGDEX.Rcheck/AGDEX-Ex.timings
| name | user | system | elapsed | |
| agdex | 0.824 | 0.024 | 1.296 | |
| agdex.scatterplot | 0.034 | 0.009 | 0.065 | |
| get.gset.result.details | 0.035 | 0.006 | 0.062 | |
| gset.data | 0.000 | 0.000 | 0.004 | |
| human.data | 0.011 | 0.005 | 0.022 | |
| make.dex.set.object | 0.032 | 0.011 | 0.065 | |
| map.data | 0.001 | 0.000 | 0.000 | |
| mouse.data | 0.020 | 0.005 | 0.037 | |
| read.agdex.gset.details | 0 | 0 | 0 | |
| read.agdex.result | 0.001 | 0.000 | 0.000 | |
| write.agdex.gset.details | 0.030 | 0.006 | 0.053 | |
| write.agdex.result | 0.005 | 0.005 | 0.017 | |