| Back to Mac ARM64 build report for BioC 3.17 |
|
This page was generated on 2023-10-20 09:37:57 -0400 (Fri, 20 Oct 2023).
| Hostname | OS | Arch (*) | R version | Installed pkgs |
|---|---|---|---|---|
| kjohnson2 | macOS 12.6.1 Monterey | arm64 | 4.3.1 (2023-06-16) -- "Beagle Scouts" | 4347 |
| Click on any hostname to see more info about the system (e.g. compilers) (*) as reported by 'uname -p', except on Windows and Mac OS X | ||||
| Package 13/2230 | Hostname | OS / Arch | INSTALL | BUILD | CHECK | BUILD BIN | ||||||||
| ACME 2.56.0 (landing page) Sean Davis
| kjohnson2 | macOS 12.6.1 Monterey / arm64 | OK | OK | OK | OK | ||||||||
|
To the developers/maintainers of the ACME package: - Use the following Renviron settings to reproduce errors and warnings. - If 'R CMD check' started to fail recently on the Linux builder(s) over a missing dependency, add the missing dependency to 'Suggests:' in your DESCRIPTION file. See Renviron.bioc for more information. |
| Package: ACME |
| Version: 2.56.0 |
| Command: /Library/Frameworks/R.framework/Resources/bin/R CMD INSTALL ACME |
| StartedAt: 2023-10-15 15:05:09 -0400 (Sun, 15 Oct 2023) |
| EndedAt: 2023-10-15 15:05:20 -0400 (Sun, 15 Oct 2023) |
| EllapsedTime: 10.9 seconds |
| RetCode: 0 |
| Status: OK |
##############################################################################
##############################################################################
###
### Running command:
###
### /Library/Frameworks/R.framework/Resources/bin/R CMD INSTALL ACME
###
##############################################################################
##############################################################################
* installing to library ‘/Library/Frameworks/R.framework/Versions/4.3-arm64/Resources/library’
* installing *source* package ‘ACME’ ...
** using staged installation
** libs
using C compiler: ‘Apple clang version 14.0.0 (clang-1400.0.29.202)’
using SDK: ‘MacOSX11.3.sdk’
clang -arch arm64 -I"/Library/Frameworks/R.framework/Resources/include" -DNDEBUG -I/opt/R/arm64/include -fPIC -falign-functions=64 -Wall -g -O2 -c windowChisq.c -o windowChisq.o
windowChisq.c:57:71: warning: & has lower precedence than >; > will be evaluated first [-Wparentheses]
while((xlocations[i]-xlocations[firstprobe-1] < (halfWindowSize)) &
^
windowChisq.c:57:71: note: place parentheses around the '>' expression to silence this warning
while((xlocations[i]-xlocations[firstprobe-1] < (halfWindowSize)) &
^
windowChisq.c:57:71: note: place parentheses around the & expression to evaluate it first
while((xlocations[i]-xlocations[firstprobe-1] < (halfWindowSize)) &
^
(
windowChisq.c:62:70: warning: & has lower precedence than <; < will be evaluated first [-Wparentheses]
while((xlocations[lastprobe+1]-xlocations[i] < (halfWindowSize)) &
^
windowChisq.c:62:70: note: place parentheses around the '<' expression to silence this warning
while((xlocations[lastprobe+1]-xlocations[i] < (halfWindowSize)) &
^
windowChisq.c:62:70: note: place parentheses around the & expression to evaluate it first
while((xlocations[lastprobe+1]-xlocations[i] < (halfWindowSize)) &
^
(
windowChisq.c:21:11: warning: unused variable 'xa' [-Wunused-variable]
double *xa,*xlocations,*xchivals;
^
windowChisq.c:86:20: warning: incompatible function pointer types initializing 'DL_FUNC' (aka 'void *(*)(void)') with an expression of type 'SEXP (*)(SEXP, SEXP, SEXP, SEXP, SEXP)' (aka 'struct SEXPREC *(*)(struct SEXPREC *, struct SEXPREC *, struct SEXPREC *, struct SEXPREC *, struct SEXPREC *)') [-Wincompatible-function-pointer-types]
{"windowChisq",&windowChisq,5},
^~~~~~~~~~~~
4 warnings generated.
clang -arch arm64 -dynamiclib -Wl,-headerpad_max_install_names -undefined dynamic_lookup -single_module -multiply_defined suppress -L/Library/Frameworks/R.framework/Resources/lib -L/opt/R/arm64/lib -o ACME.so windowChisq.o -F/Library/Frameworks/R.framework/.. -framework R -Wl,-framework -Wl,CoreFoundation
installing to /Library/Frameworks/R.framework/Versions/4.3-arm64/Resources/library/00LOCK-ACME/00new/ACME/libs
** R
** data
** inst
** byte-compile and prepare package for lazy loading
** help
*** installing help indices
** building package indices
** installing vignettes
** testing if installed package can be loaded from temporary location
** checking absolute paths in shared objects and dynamic libraries
** testing if installed package can be loaded from final location
** testing if installed package keeps a record of temporary installation path
* DONE (ACME)