| Back to Long Tests report for BioC 3.17 |
This page was generated on 2023-10-14 21:30:02 -0400 (Sat, 14 Oct 2023).
| QUICK STATS | OS / Arch | CHECK | |||||||
| nebbiolo1 | Linux (Ubuntu 22.04.2 LTS) / x86_64 |
| |||||||
| palomino3 | Windows Server 2022 Datacenter / x64 |
| |||||||
| merida1 | macOS 12.6.4 Monterey / x86_64 |
| |||||||
| Package | Maintainer | CHECK | |||||||
| 1/31 | APAlyzer 1.14.0 (landing page) | Ruijia Wang | ERROR | ||||||
| 2/31 | autonomics 1.8.0 (landing page) | Aditya Bhagwat | ERROR | ||||||
| 3/31 | basilisk 1.12.1 (landing page) | Aaron Lun | WARNINGS | ||||||
| 4/31 | beachmat 2.16.0 (landing page) | Aaron Lun | ERROR | ||||||
| 5/31 | biodb 1.8.1 (landing page) | Pierrick Roger | OK | ||||||
| 6/31 | biodbChebi 1.6.0 (landing page) | Pierrick Roger | OK | ||||||
| 7/31 | biodbExpasy 1.4.0 (landing page) | Pierrick Roger | OK | ||||||
| 8/31 | biodbHmdb 1.6.1 (landing page) | Pierrick Roger | WARNINGS | ||||||
| 9/31 | biodbKegg 1.6.1 (landing page) | Pierrick Roger | ERROR | ||||||
| 10/31 | biodbLipidmaps 1.6.0 (landing page) | Pierrick Roger | OK | ||||||
| 11/31 | biodbMirbase 1.4.1 (landing page) | Pierrick Roger | ERROR | ||||||
| 12/31 | biodbNcbi 1.4.0 (landing page) | Pierrick Roger | WARNINGS | ||||||
| 13/31 | biodbNci 1.4.0 (landing page) | Pierrick Roger | OK | ||||||
| 14/31 | biodbUniprot 1.6.0 (landing page) | Pierrick Roger | OK | ||||||
| 15/31 | cBioPortalData 2.12.0 (landing page) | Marcel Ramos | ERROR | ||||||
| 16/31 | ChromSCape 1.10.0 (landing page) | Pacome Prompsy | ERROR | ||||||
| 17/31 | clusterExperiment 2.20.0 (landing page) | Elizabeth Purdom | ERROR | ||||||
| 18/31 | crisprScore 1.4.0 (landing page) | Jean-Philippe Fortin | OK | ||||||
| 19/31 | DelayedMatrixStats 1.22.6 (landing page) | Peter Hickey | WARNINGS | ||||||
| 20/31 | DropletUtils 1.20.0 (landing page) | Jonathan Griffiths | OK | ||||||
| 21/31 | EpiMix 1.2.4 (landing page) | Yuanning Zheng | OK | ||||||
| 22/31 | extraChIPs 1.4.6 (landing page) | Stephen Pederson | OK | ||||||
| 23/31 | GenomicFeatures 1.52.2 (landing page) | H. Pagès | WARNINGS | ||||||
| 24/31 | HDF5Array 1.28.1 (landing page) | Hervé Pagès | ERROR | ||||||
| 25/31 | imcRtools 1.6.5 (landing page) | Nils Eling | OK | ||||||
| 26/31 | midasHLA 1.8.0 (landing page) | Maciej Migdał | ERROR | ||||||
| 27/31 | rhdf5 2.44.0 (landing page) | Mike Smith | ERROR | ||||||
| 28/31 | SimBu 1.2.0 (landing page) | Alexander Dietrich | ERROR | ||||||
| 29/31 | TENxIO 1.2.0 (landing page) | Marcel Ramos | ERROR | ||||||
| 30/31 | xcms 3.22.0 (landing page) | Steffen Neumann | OK | ||||||
| 31/31 | zellkonverter 1.10.1 (landing page) | Luke Zappia | OK | ||||||