| Back to Long Tests report for BioC 3.17 |
This page was generated on 2023-10-14 21:30:02 -0400 (Sat, 14 Oct 2023).
| Hostname | OS | Arch (*) | R version | Installed pkgs |
|---|---|---|---|---|
| nebbiolo1 | Linux (Ubuntu 22.04.2 LTS) | x86_64 | 4.3.1 (2023-06-16) -- "Beagle Scouts" | 4626 |
| palomino3 | Windows Server 2022 Datacenter | x64 | 4.3.1 (2023-06-16 ucrt) -- "Beagle Scouts" | 4379 |
| merida1 | macOS 12.6.4 Monterey | x86_64 | 4.3.1 (2023-06-16) -- "Beagle Scouts" | 4395 |
| Click on any hostname to see more info about the system (e.g. compilers) (*) as reported by 'uname -p', except on Windows and Mac OS X | ||||
| Package 15/31 | Hostname | OS / Arch | CHECK | |||||||
| cBioPortalData 2.12.0 (landing page) Marcel Ramos
| nebbiolo1 | Linux (Ubuntu 22.04.2 LTS) / x86_64 | OK | |||||||
| palomino3 | Windows Server 2022 Datacenter / x64 | OK | ||||||||
| merida1 | macOS 12.6.4 Monterey / x86_64 | ERROR | ||||||||
|
To the developers/maintainers of the cBioPortalData package: - Use the following Renviron settings to reproduce errors and warnings. - If 'R CMD check' started to fail recently on the Linux builder(s) over a missing dependency, add the missing dependency to 'Suggests:' in your DESCRIPTION file. See Renviron.bioc for more information. |
| Package: cBioPortalData |
| Version: 2.12.0 |
| Command: /Library/Frameworks/R.framework/Resources/bin/R CMD check --test-dir=longtests --no-stop-on-test-error --no-codoc --no-examples --no-manual --ignore-vignettes --check-subdirs=no cBioPortalData_2.12.0.tar.gz |
| StartedAt: 2023-10-14 11:04:14 -0400 (Sat, 14 Oct 2023) |
| EndedAt: 2023-10-14 12:03:01 -0400 (Sat, 14 Oct 2023) |
| EllapsedTime: 3526.9 seconds |
| RetCode: 1 |
| Status: ERROR |
| CheckDir: cBioPortalData.Rcheck |
| Warnings: NA |
cBioPortalData.Rcheck/tests/testthat.Rout.fail
R version 4.3.1 (2023-06-16) -- "Beagle Scouts"
Copyright (C) 2023 The R Foundation for Statistical Computing
Platform: x86_64-apple-darwin20 (64-bit)
R is free software and comes with ABSOLUTELY NO WARRANTY.
You are welcome to redistribute it under certain conditions.
Type 'license()' or 'licence()' for distribution details.
R is a collaborative project with many contributors.
Type 'contributors()' for more information and
'citation()' on how to cite R or R packages in publications.
Type 'demo()' for some demos, 'help()' for on-line help, or
'help.start()' for an HTML browser interface to help.
Type 'q()' to quit R.
> library(testthat)
> library(cBioPortalData)
Loading required package: AnVIL
Loading required package: dplyr
Attaching package: 'dplyr'
The following object is masked from 'package:testthat':
matches
The following objects are masked from 'package:stats':
filter, lag
The following objects are masked from 'package:base':
intersect, setdiff, setequal, union
Loading required package: MultiAssayExperiment
Loading required package: SummarizedExperiment
Loading required package: MatrixGenerics
Loading required package: matrixStats
Attaching package: 'matrixStats'
The following object is masked from 'package:dplyr':
count
Attaching package: 'MatrixGenerics'
The following objects are masked from 'package:matrixStats':
colAlls, colAnyNAs, colAnys, colAvgsPerRowSet, colCollapse,
colCounts, colCummaxs, colCummins, colCumprods, colCumsums,
colDiffs, colIQRDiffs, colIQRs, colLogSumExps, colMadDiffs,
colMads, colMaxs, colMeans2, colMedians, colMins, colOrderStats,
colProds, colQuantiles, colRanges, colRanks, colSdDiffs, colSds,
colSums2, colTabulates, colVarDiffs, colVars, colWeightedMads,
colWeightedMeans, colWeightedMedians, colWeightedSds,
colWeightedVars, rowAlls, rowAnyNAs, rowAnys, rowAvgsPerColSet,
rowCollapse, rowCounts, rowCummaxs, rowCummins, rowCumprods,
rowCumsums, rowDiffs, rowIQRDiffs, rowIQRs, rowLogSumExps,
rowMadDiffs, rowMads, rowMaxs, rowMeans2, rowMedians, rowMins,
rowOrderStats, rowProds, rowQuantiles, rowRanges, rowRanks,
rowSdDiffs, rowSds, rowSums2, rowTabulates, rowVarDiffs, rowVars,
rowWeightedMads, rowWeightedMeans, rowWeightedMedians,
rowWeightedSds, rowWeightedVars
Loading required package: GenomicRanges
Loading required package: stats4
Loading required package: BiocGenerics
Attaching package: 'BiocGenerics'
The following objects are masked from 'package:dplyr':
combine, intersect, setdiff, union
The following objects are masked from 'package:stats':
IQR, mad, sd, var, xtabs
The following objects are masked from 'package:base':
Filter, Find, Map, Position, Reduce, anyDuplicated, aperm, append,
as.data.frame, basename, cbind, colnames, dirname, do.call,
duplicated, eval, evalq, get, grep, grepl, intersect, is.unsorted,
lapply, mapply, match, mget, order, paste, pmax, pmax.int, pmin,
pmin.int, rank, rbind, rownames, sapply, setdiff, sort, table,
tapply, union, unique, unsplit, which.max, which.min
Loading required package: S4Vectors
Attaching package: 'S4Vectors'
The following objects are masked from 'package:dplyr':
first, rename
The following object is masked from 'package:utils':
findMatches
The following objects are masked from 'package:base':
I, expand.grid, unname
Loading required package: IRanges
Attaching package: 'IRanges'
The following objects are masked from 'package:dplyr':
collapse, desc, slice
Loading required package: GenomeInfoDb
Loading required package: Biobase
Welcome to Bioconductor
Vignettes contain introductory material; view with
'browseVignettes()'. To cite Bioconductor, see
'citation("Biobase")', and for packages 'citation("pkgname")'.
Attaching package: 'Biobase'
The following object is masked from 'package:MatrixGenerics':
rowMedians
The following objects are masked from 'package:matrixStats':
anyMissing, rowMedians
>
> test_check("cBioPortalData")
Error in vroom_(file, delim = delim %||% col_types$delim, col_names = col_names, :
bad value
Error in vroom_(file, delim = delim %||% col_types$delim, col_names = col_names, :
bad value
Error in vroom_(file, delim = delim %||% col_types$delim, col_names = col_names, :
bad value
Error in vroom_(file, delim = delim %||% col_types$delim, col_names = col_names, :
bad value
Error in vroom_(file, delim = delim %||% col_types$delim, col_names = col_names, :
bad value
Error in vroom_(file, delim = delim %||% col_types$delim, col_names = col_names, :
bad value
Error in vroom_(file, delim = delim %||% col_types$delim, col_names = col_names, :
bad value
Error in vroom_(file, delim = delim %||% col_types$delim, col_names = col_names, :
bad value
Error in vroom_(file, delim = delim %||% col_types$delim, col_names = col_names, :
bad value
Error in vroom_(file, delim = delim %||% col_types$delim, col_names = col_names, :
bad value
Error in vroom_(file, delim = delim %||% col_types$delim, col_names = col_names, :
bad value
Error in vroom_(file, delim = delim %||% col_types$delim, col_names = col_names, :
bad value
Error in vroom_(file, delim = delim %||% col_types$delim, col_names = col_names, :
bad value
Error in vroom_(file, delim = delim %||% col_types$delim, col_names = col_names, :
bad value
Error in vroom_(file, delim = delim %||% col_types$delim, col_names = col_names, :
bad value
Error in vroom_(file, delim = delim %||% col_types$delim, col_names = col_names, :
bad value
Error in vroom_(file, delim = delim %||% col_types$delim, col_names = col_names, :
bad value
Error in vroom_(file, delim = delim %||% col_types$delim, col_names = col_names, :
bad value
Error in vroom_(file, delim = delim %||% col_types$delim, col_names = col_names, :
bad value
Error in vroom_(file, delim = delim %||% col_types$delim, col_names = col_names, :
bad value
Error in vroom_(file, delim = delim %||% col_types$delim, col_names = col_names, :
bad value
Error in vroom_(file, delim = delim %||% col_types$delim, col_names = col_names, :
bad value
Error in vroom_(file, delim = delim %||% col_types$delim, col_names = col_names, :
bad value
Error in vroom_(file, delim = delim %||% col_types$delim, col_names = col_names, :
bad value
Error in vroom_(file, delim = delim %||% col_types$delim, col_names = col_names, :
bad value
Error in vroom_(file, delim = delim %||% col_types$delim, col_names = col_names, :
bad value
Error in vroom_(file, delim = delim %||% col_types$delim, col_names = col_names, :
bad value
Error in vroom_(file, delim = delim %||% col_types$delim, col_names = col_names, :
bad value
Error in vroom_(file, delim = delim %||% col_types$delim, col_names = col_names, :
bad value
Error in vroom_(file, delim = delim %||% col_types$delim, col_names = col_names, :
bad value
Error in vroom_(file, delim = delim %||% col_types$delim, col_names = col_names, :
bad value
Error in vroom_(file, delim = delim %||% col_types$delim, col_names = col_names, :
bad value
Error in vroom_(file, delim = delim %||% col_types$delim, col_names = col_names, :
bad value
Error in vroom_(file, delim = delim %||% col_types$delim, col_names = col_names, :
bad value
Error in vroom_(file, delim = delim %||% col_types$delim, col_names = col_names, :
bad value
Error in vroom_(file, delim = delim %||% col_types$delim, col_names = col_names, :
bad value
Error in vroom_(file, delim = delim %||% col_types$delim, col_names = col_names, :
bad value
Error in vroom_(file, delim = delim %||% col_types$delim, col_names = col_names, :
bad value
Error in vroom_(file, delim = delim %||% col_types$delim, col_names = col_names, :
bad value
Error in vroom_(file, delim = delim %||% col_types$delim, col_names = col_names, :
bad value
Error in vroom_(file, delim = delim %||% col_types$delim, col_names = col_names, :
bad value
Error in vroom_(file, delim = delim %||% col_types$delim, col_names = col_names, :
bad value
Error in vroom_(file, delim = delim %||% col_types$delim, col_names = col_names, :
bad value
Error in vroom_(file, delim = delim %||% col_types$delim, col_names = col_names, :
bad value
Error in vroom_(file, delim = delim %||% col_types$delim, col_names = col_names, :
bad value
Error in vroom_(file, delim = delim %||% col_types$delim, col_names = col_names, :
bad value
Error in vroom_(file, delim = delim %||% col_types$delim, col_names = col_names, :
bad value
Error in vroom_(file, delim = delim %||% col_types$delim, col_names = col_names, :
bad value
Error in vroom_(file, delim = delim %||% col_types$delim, col_names = col_names, :
bad value
Error in vroom_(file, delim = delim %||% col_types$delim, col_names = col_names, :
bad value
Error in vroom_(file, delim = delim %||% col_types$delim, col_names = col_names, :
bad value
Error in vroom_(file, delim = delim %||% col_types$delim, col_names = col_names, :
bad value
Error in vroom_(file, delim = delim %||% col_types$delim, col_names = col_names, :
bad value
Error in vroom_(file, delim = delim %||% col_types$delim, col_names = col_names, :
bad value
Error in vroom_(file, delim = delim %||% col_types$delim, col_names = col_names, :
bad value
Error in vroom_(file, delim = delim %||% col_types$delim, col_names = col_names, :
bad value
Error in vroom_(file, delim = delim %||% col_types$delim, col_names = col_names, :
bad value
Error in vroom_(file, delim = delim %||% col_types$delim, col_names = col_names, :
bad value
Error in vroom_(file, delim = delim %||% col_types$delim, col_names = col_names, :
bad value
Error in vroom_(file, delim = delim %||% col_types$delim, col_names = col_names, :
bad value
Error in vroom_(file, delim = delim %||% col_types$delim, col_names = col_names, :
bad value
Error in vroom_(file, delim = delim %||% col_types$delim, col_names = col_names, :
bad value
Error in vroom_(file, delim = delim %||% col_types$delim, col_names = col_names, :
bad value
Error in vroom_(file, delim = delim %||% col_types$delim, col_names = col_names, :
bad value
Error in vroom_(file, delim = delim %||% col_types$delim, col_names = col_names, :
bad value
Error in vroom_(file, delim = delim %||% col_types$delim, col_names = col_names, :
bad value
Error in vroom_(file, delim = delim %||% col_types$delim, col_names = col_names, :
bad value
Error in vroom_(file, delim = delim %||% col_types$delim, col_names = col_names, :
bad value
Error in vroom_(file, delim = delim %||% col_types$delim, col_names = col_names, :
bad value
Error in vroom_(file, delim = delim %||% col_types$delim, col_names = col_names, :
bad value
Error in vroom_(file, delim = delim %||% col_types$delim, col_names = col_names, :
bad value
Error in vroom_(file, delim = delim %||% col_types$delim, col_names = col_names, :
bad value
Error in vroom_(file, delim = delim %||% col_types$delim, col_names = col_names, :
bad value
Error in vroom_(file, delim = delim %||% col_types$delim, col_names = col_names, :
bad value
Error in vroom_(file, delim = delim %||% col_types$delim, col_names = col_names, :
bad value
Error in vroom_(file, delim = delim %||% col_types$delim, col_names = col_names, :
bad value
Error in vroom_(file, delim = delim %||% col_types$delim, col_names = col_names, :
bad value
Error in vroom_(file, delim = delim %||% col_types$delim, col_names = col_names, :
bad value
Error in vroom_(file, delim = delim %||% col_types$delim, col_names = col_names, :
bad value
Error in vroom_(file, delim = delim %||% col_types$delim, col_names = col_names, :
bad value
Error in vroom_(file, delim = delim %||% col_types$delim, col_names = col_names, :
bad value
Error in vroom_(file, delim = delim %||% col_types$delim, col_names = col_names, :
bad value
Error in vroom_(file, delim = delim %||% col_types$delim, col_names = col_names, :
bad value
Error in vroom_(file, delim = delim %||% col_types$delim, col_names = col_names, :
bad value
Error in vroom_(file, delim = delim %||% col_types$delim, col_names = col_names, :
bad value
Error in vroom_(file, delim = delim %||% col_types$delim, col_names = col_names, :
bad value
Error in vroom_(file, delim = delim %||% col_types$delim, col_names = col_names, :
bad value
Error in vroom_(file, delim = delim %||% col_types$delim, col_names = col_names, :
bad value
Error in vroom_(file, delim = delim %||% col_types$delim, col_names = col_names, :
bad value
Error in vroom_(file, delim = delim %||% col_types$delim, col_names = col_names, :
bad value
Error in vroom_(file, delim = delim %||% col_types$delim, col_names = col_names, :
bad value
Error in vroom_(file, delim = delim %||% col_types$delim, col_names = col_names, :
bad value
Error in vroom_(file, delim = delim %||% col_types$delim, col_names = col_names, :
bad value
Error in vroom_(file, delim = delim %||% col_types$delim, col_names = col_names, :
bad value
Error in vroom_(file, delim = delim %||% col_types$delim, col_names = col_names, :
bad value
Error in vroom_(file, delim = delim %||% col_types$delim, col_names = col_names, :
bad value
Error in vroom_(file, delim = delim %||% col_types$delim, col_names = col_names, :
bad value
Error in vroom_(file, delim = delim %||% col_types$delim, col_names = col_names, :
bad value
Error in vroom_(file, delim = delim %||% col_types$delim, col_names = col_names, :
bad value
Error in vroom_(file, delim = delim %||% col_types$delim, col_names = col_names, :
bad value
Error in vroom_(file, delim = delim %||% col_types$delim, col_names = col_names, :
bad value
Error in vroom_(file, delim = delim %||% col_types$delim, col_names = col_names, :
bad value
Error in vroom_(file, delim = delim %||% col_types$delim, col_names = col_names, :
bad value
Error in vroom_(file, delim = delim %||% col_types$delim, col_names = col_names, :
bad value
Error in vroom_(file, delim = delim %||% col_types$delim, col_names = col_names, :
bad value
Error in vroom_(file, delim = delim %||% col_types$delim, col_names = col_names, :
bad value
Error in vroom_(file, delim = delim %||% col_types$delim, col_names = col_names, :
bad value
Error in vroom_(file, delim = delim %||% col_types$delim, col_names = col_names, :
bad value
Error in vroom_(file, delim = delim %||% col_types$delim, col_names = col_names, :
bad value
Error in vroom_(file, delim = delim %||% col_types$delim, col_names = col_names, :
bad value
Error in vroom_(file, delim = delim %||% col_types$delim, col_names = col_names, :
bad value
Error in vroom_(file, delim = delim %||% col_types$delim, col_names = col_names, :
bad value
Error in vroom_(file, delim = delim %||% col_types$delim, col_names = col_names, :
bad value
Error in vroom_(file, delim = delim %||% col_types$delim, col_names = col_names, :
bad value
Error in vroom_(file, delim = delim %||% col_types$delim, col_names = col_names, :
bad value
Error in vroom_(file, delim = delim %||% col_types$delim, col_names = col_names, :
bad value
Error in vroom_(file, delim = delim %||% col_types$delim, col_names = col_names, :
bad value
Error in vroom_(file, delim = delim %||% col_types$delim, col_names = col_names, :
bad value
Error in vroom_(file, delim = delim %||% col_types$delim, col_names = col_names, :
bad value
Error in vroom_(file, delim = delim %||% col_types$delim, col_names = col_names, :
bad value
Error in vroom_(file, delim = delim %||% col_types$delim, col_names = col_names, :
bad value
Error in vroom_(file, delim = delim %||% col_types$delim, col_names = col_names, :
bad value
Error in vroom_(file, delim = delim %||% col_types$delim, col_names = col_names, :
bad value
Error in vroom_(file, delim = delim %||% col_types$delim, col_names = col_names, :
bad value
Error in vroom_(file, delim = delim %||% col_types$delim, col_names = col_names, :
bad value
Error in vroom_(file, delim = delim %||% col_types$delim, col_names = col_names, :
bad value
Error in vroom_(file, delim = delim %||% col_types$delim, col_names = col_names, :
bad value
Error in vroom_(file, delim = delim %||% col_types$delim, col_names = col_names, :
bad value
Error in vroom_(file, delim = delim %||% col_types$delim, col_names = col_names, :
bad value
Error in vroom_(file, delim = delim %||% col_types$delim, col_names = col_names, :
bad value
Error in vroom_(file, delim = delim %||% col_types$delim, col_names = col_names, :
bad value
Error in vroom_(file, delim = delim %||% col_types$delim, col_names = col_names, :
bad value
Error in vroom_(file, delim = delim %||% col_types$delim, col_names = col_names, :
bad value
Error in vroom_(file, delim = delim %||% col_types$delim, col_names = col_names, :
bad value
Error in vroom_(file, delim = delim %||% col_types$delim, col_names = col_names, :
bad value
Error in vroom_(file, delim = delim %||% col_types$delim, col_names = col_names, :
bad value
Error in vroom_(file, delim = delim %||% col_types$delim, col_names = col_names, :
bad value
Error in vroom_(file, delim = delim %||% col_types$delim, col_names = col_names, :
bad value
Error in vroom_(file, delim = delim %||% col_types$delim, col_names = col_names, :
bad value
Error in vroom_(file, delim = delim %||% col_types$delim, col_names = col_names, :
bad value
Error in vroom_(file, delim = delim %||% col_types$delim, col_names = col_names, :
bad value
Error in vroom_(file, delim = delim %||% col_types$delim, col_names = col_names, :
bad value
Error in vroom_(file, delim = delim %||% col_types$delim, col_names = col_names, :
bad value
Error in vroom_(file, delim = delim %||% col_types$delim, col_names = col_names, :
bad value
Error in vroom_(file, delim = delim %||% col_types$delim, col_names = col_names, :
bad value
Error in vroom_(file, delim = delim %||% col_types$delim, col_names = col_names, :
bad value
Error in vroom_(file, delim = delim %||% col_types$delim, col_names = col_names, :
bad value
Error in vroom_(file, delim = delim %||% col_types$delim, col_names = col_names, :
bad value
Error in vroom_(file, delim = delim %||% col_types$delim, col_names = col_names, :
bad value
Error in vroom_(file, delim = delim %||% col_types$delim, col_names = col_names, :
bad value
Error in vroom_(file, delim = delim %||% col_types$delim, col_names = col_names, :
bad value
Error in vroom_(file, delim = delim %||% col_types$delim, col_names = col_names, :
bad value
Error in vroom_(file, delim = delim %||% col_types$delim, col_names = col_names, :
bad value
Error in vroom_(file, delim = delim %||% col_types$delim, col_names = col_names, :
bad value
Error in vroom_(file, delim = delim %||% col_types$delim, col_names = col_names, :
bad value
Error in vroom_(file, delim = delim %||% col_types$delim, col_names = col_names, :
bad value
Error in vroom_(file, delim = delim %||% col_types$delim, col_names = col_names, :
bad value
Error in vroom_(file, delim = delim %||% col_types$delim, col_names = col_names, :
bad value
Error in vroom_(file, delim = delim %||% col_types$delim, col_names = col_names, :
bad value
Error in vroom_(file, delim = delim %||% col_types$delim, col_names = col_names, :
bad value
Error in vroom_(file, delim = delim %||% col_types$delim, col_names = col_names, :
bad value
Error in vroom_(file, delim = delim %||% col_types$delim, col_names = col_names, :
bad value
Error in vroom_(file, delim = delim %||% col_types$delim, col_names = col_names, :
bad value
Error in vroom_(file, delim = delim %||% col_types$delim, col_names = col_names, :
bad value
Error in vroom_(file, delim = delim %||% col_types$delim, col_names = col_names, :
bad value
Error in vroom_(file, delim = delim %||% col_types$delim, col_names = col_names, :
bad value
Error in vroom_(file, delim = delim %||% col_types$delim, col_names = col_names, :
bad value
Error in vroom_(file, delim = delim %||% col_types$delim, col_names = col_names, :
bad value
Error in vroom_(file, delim = delim %||% col_types$delim, col_names = col_names, :
bad value
Error in vroom_(file, delim = delim %||% col_types$delim, col_names = col_names, :
bad value
Error in vroom_(file, delim = delim %||% col_types$delim, col_names = col_names, :
bad value
Error in vroom_(file, delim = delim %||% col_types$delim, col_names = col_names, :
bad value
Error in vroom_(file, delim = delim %||% col_types$delim, col_names = col_names, :
bad value
Error in vroom_(file, delim = delim %||% col_types$delim, col_names = col_names, :
bad value
Error in vroom_(file, delim = delim %||% col_types$delim, col_names = col_names, :
bad value
Error in vroom_(file, delim = delim %||% col_types$delim, col_names = col_names, :
bad value
Error in vroom_(file, delim = delim %||% col_types$delim, col_names = col_names, :
bad value
Error in vroom_(file, delim = delim %||% col_types$delim, col_names = col_names, :
bad value
Error in vroom_(file, delim = delim %||% col_types$delim, col_names = col_names, :
bad value
Error in vroom_(file, delim = delim %||% col_types$delim, col_names = col_names, :
bad value
Error in vroom_(file, delim = delim %||% col_types$delim, col_names = col_names, :
bad value
Error in vroom_(file, delim = delim %||% col_types$delim, col_names = col_names, :
bad value
Error in vroom_(file, delim = delim %||% col_types$delim, col_names = col_names, :
bad value
Error in vroom_(file, delim = delim %||% col_types$delim, col_names = col_names, :
bad value
Error in vroom_(file, delim = delim %||% col_types$delim, col_names = col_names, :
bad value
Error in vroom_(file, delim = delim %||% col_types$delim, col_names = col_names, :
bad value
Error in vroom_(file, delim = delim %||% col_types$delim, col_names = col_names, :
bad value
Error in vroom_(file, delim = delim %||% col_types$delim, col_names = col_names, :
bad value
Error in vroom_(file, delim = delim %||% col_types$delim, col_names = col_names, :
bad value
Error in vroom_(file, delim = delim %||% col_types$delim, col_names = col_names, :
bad value
Error in vroom_(file, delim = delim %||% col_types$delim, col_names = col_names, :
bad value
Error in vroom_(file, delim = delim %||% col_types$delim, col_names = col_names, :
bad value
Error in vroom_(file, delim = delim %||% col_types$delim, col_names = col_names, :
bad value
Error in vroom_(file, delim = delim %||% col_types$delim, col_names = col_names, :
bad value
Error in vroom_(file, delim = delim %||% col_types$delim, col_names = col_names, :
bad value
Error in vroom_(file, delim = delim %||% col_types$delim, col_names = col_names, :
bad value
Error in vroom_(file, delim = delim %||% col_types$delim, col_names = col_names, :
bad value
Error in vroom_(file, delim = delim %||% col_types$delim, col_names = col_names, :
bad value
Error in vroom_(file, delim = delim %||% col_types$delim, col_names = col_names, :
bad value
Error in vroom_(file, delim = delim %||% col_types$delim, col_names = col_names, :
bad value
Error in vroom_(file, delim = delim %||% col_types$delim, col_names = col_names, :
bad value
Error in vroom_(file, delim = delim %||% col_types$delim, col_names = col_names, :
bad value
Error in vroom_(file, delim = delim %||% col_types$delim, col_names = col_names, :
bad value
Error in vroom_(file, delim = delim %||% col_types$delim, col_names = col_names, :
bad value
Error in vroom_(file, delim = delim %||% col_types$delim, col_names = col_names, :
bad value
Error in vroom_(file, delim = delim %||% col_types$delim, col_names = col_names, :
bad value
Error in vroom_(file, delim = delim %||% col_types$delim, col_names = col_names, :
bad value
Error in vroom_(file, delim = delim %||% col_types$delim, col_names = col_names, :
bad value
Error in vroom_(file, delim = delim %||% col_types$delim, col_names = col_names, :
bad value
Error in vroom_(file, delim = delim %||% col_types$delim, col_names = col_names, :
bad value
Error in vroom_(file, delim = delim %||% col_types$delim, col_names = col_names, :
bad value
Error in vroom_(file, delim = delim %||% col_types$delim, col_names = col_names, :
bad value
Error in vroom_(file, delim = delim %||% col_types$delim, col_names = col_names, :
bad value
Error in vroom_(file, delim = delim %||% col_types$delim, col_names = col_names, :
bad value
Error in vroom_(file, delim = delim %||% col_types$delim, col_names = col_names, :
bad value
Error in vroom_(file, delim = delim %||% col_types$delim, col_names = col_names, :
bad value
Error in vroom_(file, delim = delim %||% col_types$delim, col_names = col_names, :
bad value
Error in vroom_(file, delim = delim %||% col_types$delim, col_names = col_names, :
bad value
Error in vroom_(file, delim = delim %||% col_types$delim, col_names = col_names, :
bad value
Error in vroom_(file, delim = delim %||% col_types$delim, col_names = col_names, :
bad value
Error in vroom_(file, delim = delim %||% col_types$delim, col_names = col_names, :
bad value
Error in vroom_(file, delim = delim %||% col_types$delim, col_names = col_names, :
bad value
Error in vroom_(file, delim = delim %||% col_types$delim, col_names = col_names, :
bad value
Error in vroom_(file, delim = delim %||% col_types$delim, col_names = col_names, :
bad value
Error in vroom_(file, delim = delim %||% col_types$delim, col_names = col_names, :
bad value
Error in vroom_(file, delim = delim %||% col_types$delim, col_names = col_names, :
bad value
Error in vroom_(file, delim = delim %||% col_types$delim, col_names = col_names, :
bad value
Error in vroom_(file, delim = delim %||% col_types$delim, col_names = col_names, :
bad value
Error in vroom_(file, delim = delim %||% col_types$delim, col_names = col_names, :
bad value
Error in vroom_(file, delim = delim %||% col_types$delim, col_names = col_names, :
bad value
Error in vroom_(file, delim = delim %||% col_types$delim, col_names = col_names, :
bad value
Error in vroom_(file, delim = delim %||% col_types$delim, col_names = col_names, :
bad value
Error in vroom_(file, delim = delim %||% col_types$delim, col_names = col_names, :
bad value
Error in vroom_(file, delim = delim %||% col_types$delim, col_names = col_names, :
bad value
Error in vroom_(file, delim = delim %||% col_types$delim, col_names = col_names, :
bad value
Error in vroom_(file, delim = delim %||% col_types$delim, col_names = col_names, :
bad value
Error in vroom_(file, delim = delim %||% col_types$delim, col_names = col_names, :
bad value
Error in vroom_(file, delim = delim %||% col_types$delim, col_names = col_names, :
bad value
Error in vroom_(file, delim = delim %||% col_types$delim, col_names = col_names, :
bad value
Error in vroom_(file, delim = delim %||% col_types$delim, col_names = col_names, :
bad value
Error in vroom_(file, delim = delim %||% col_types$delim, col_names = col_names, :
bad value
Error in vroom_(file, delim = delim %||% col_types$delim, col_names = col_names, :
bad value
Error in vroom_(file, delim = delim %||% col_types$delim, col_names = col_names, :
bad value
Error in vroom_(file, delim = delim %||% col_types$delim, col_names = col_names, :
bad value
Error in vroom_(file, delim = delim %||% col_types$delim, col_names = col_names, :
bad value
Error in vroom_(file, delim = delim %||% col_types$delim, col_names = col_names, :
bad value
Error in vroom_(file, delim = delim %||% col_types$delim, col_names = col_names, :
bad value
Error in vroom_(file, delim = delim %||% col_types$delim, col_names = col_names, :
bad value
Error in vroom_(file, delim = delim %||% col_types$delim, col_names = col_names, :
bad value
Error in vroom_(file, delim = delim %||% col_types$delim, col_names = col_names, :
bad value
Error in vroom_(file, delim = delim %||% col_types$delim, col_names = col_names, :
bad value
Error in vroom_(file, delim = delim %||% col_types$delim, col_names = col_names, :
bad value
Error in vroom_(file, delim = delim %||% col_types$delim, col_names = col_names, :
bad value
Error in vroom_(file, delim = delim %||% col_types$delim, col_names = col_names, :
bad value
sh: wget: command not found
Error in utils::download.file(fileURL, destfile = tmpFile, quiet = TRUE, :
'wget' call had nonzero exit status
Error in vroom_(file, delim = delim %||% col_types$delim, col_names = col_names, :
bad value
Error in vroom_(file, delim = delim %||% col_types$delim, col_names = col_names, :
bad value
Error in vroom_(file, delim = delim %||% col_types$delim, col_names = col_names, :
bad value
Error in vroom_(file, delim = delim %||% col_types$delim, col_names = col_names, :
bad value
Error in vroom_(file, delim = delim %||% col_types$delim, col_names = col_names, :
bad value
Error in vroom_(file, delim = delim %||% col_types$delim, col_names = col_names, :
bad value
sh: wget: command not found
Error in utils::download.file(fileURL, destfile = tmpFile, quiet = TRUE, :
'wget' call had nonzero exit status
Error in vroom_(file, delim = delim %||% col_types$delim, col_names = col_names, :
bad value
sh: wget: command not found
Error in utils::download.file(fileURL, destfile = tmpFile, quiet = TRUE, :
'wget' call had nonzero exit status
Error in vroom_(file, delim = delim %||% col_types$delim, col_names = col_names, :
bad value
Error in vroom_(file, delim = delim %||% col_types$delim, col_names = col_names, :
bad value
Error in vroom_(file, delim = delim %||% col_types$delim, col_names = col_names, :
bad value
Error in vroom_(file, delim = delim %||% col_types$delim, col_names = col_names, :
bad value
Error in vroom_(file, delim = delim %||% col_types$delim, col_names = col_names, :
bad value
Error in vroom_(file, delim = delim %||% col_types$delim, col_names = col_names, :
bad value
Error in vroom_(file, delim = delim %||% col_types$delim, col_names = col_names, :
bad value
Error in vroom_(file, delim = delim %||% col_types$delim, col_names = col_names, :
bad value
Error in vroom_(file, delim = delim %||% col_types$delim, col_names = col_names, :
bad value
Error in vroom_(file, delim = delim %||% col_types$delim, col_names = col_names, :
bad value
Error in vroom_(file, delim = delim %||% col_types$delim, col_names = col_names, :
bad value
Error in vroom_(file, delim = delim %||% col_types$delim, col_names = col_names, :
bad value
Error in vroom_(file, delim = delim %||% col_types$delim, col_names = col_names, :
bad value
Error in vroom_(file, delim = delim %||% col_types$delim, col_names = col_names, :
bad value
Error in vroom_(file, delim = delim %||% col_types$delim, col_names = col_names, :
bad value
Error in vroom_(file, delim = delim %||% col_types$delim, col_names = col_names, :
bad value
Error in vroom_(file, delim = delim %||% col_types$delim, col_names = col_names, :
bad value
Error in vroom_(file, delim = delim %||% col_types$delim, col_names = col_names, :
bad value
Error in vroom_(file, delim = delim %||% col_types$delim, col_names = col_names, :
bad value
Error in vroom_(file, delim = delim %||% col_types$delim, col_names = col_names, :
bad value
Error in vroom_(file, delim = delim %||% col_types$delim, col_names = col_names, :
bad value
Error in vroom_(file, delim = delim %||% col_types$delim, col_names = col_names, :
bad value
Error in vroom_(file, delim = delim %||% col_types$delim, col_names = col_names, :
bad value
Error in vroom_(file, delim = delim %||% col_types$delim, col_names = col_names, :
bad value
Error in vroom_(file, delim = delim %||% col_types$delim, col_names = col_names, :
bad value
Error in vroom_(file, delim = delim %||% col_types$delim, col_names = col_names, :
bad value
Error in vroom_(file, delim = delim %||% col_types$delim, col_names = col_names, :
bad value
Error in vroom_(file, delim = delim %||% col_types$delim, col_names = col_names, :
bad value
Error in vroom_(file, delim = delim %||% col_types$delim, col_names = col_names, :
bad value
Error in vroom_(file, delim = delim %||% col_types$delim, col_names = col_names, :
bad value
Error in vroom_(file, delim = delim %||% col_types$delim, col_names = col_names, :
bad value
Error in vroom_(file, delim = delim %||% col_types$delim, col_names = col_names, :
bad value
Error in vroom_(file, delim = delim %||% col_types$delim, col_names = col_names, :
bad value
Error in vroom_(file, delim = delim %||% col_types$delim, col_names = col_names, :
bad value
Error in vroom_(file, delim = delim %||% col_types$delim, col_names = col_names, :
bad value
Error in vroom_(file, delim = delim %||% col_types$delim, col_names = col_names, :
bad value
Error in vroom_(file, delim = delim %||% col_types$delim, col_names = col_names, :
bad value
Error in vroom_(file, delim = delim %||% col_types$delim, col_names = col_names, :
bad value
Error in vroom_(file, delim = delim %||% col_types$delim, col_names = col_names, :
bad value
Error in vroom_(file, delim = delim %||% col_types$delim, col_names = col_names, :
bad value
Error in vroom_(file, delim = delim %||% col_types$delim, col_names = col_names, :
bad value
Error in vroom_(file, delim = delim %||% col_types$delim, col_names = col_names, :
bad value
Error in vroom_(file, delim = delim %||% col_types$delim, col_names = col_names, :
bad value
Error in vroom_(file, delim = delim %||% col_types$delim, col_names = col_names, :
bad value
Error in vroom_(file, delim = delim %||% col_types$delim, col_names = col_names, :
bad value
Error in vroom_(file, delim = delim %||% col_types$delim, col_names = col_names, :
bad value
Error in vroom_(file, delim = delim %||% col_types$delim, col_names = col_names, :
bad value
Error in vroom_(file, delim = delim %||% col_types$delim, col_names = col_names, :
bad value
Error in vroom_(file, delim = delim %||% col_types$delim, col_names = col_names, :
bad value
Error in vroom_(file, delim = delim %||% col_types$delim, col_names = col_names, :
bad value
Error in vroom_(file, delim = delim %||% col_types$delim, col_names = col_names, :
bad value
Error in vroom_(file, delim = delim %||% col_types$delim, col_names = col_names, :
bad value
Error in vroom_(file, delim = delim %||% col_types$delim, col_names = col_names, :
bad value
Error in vroom_(file, delim = delim %||% col_types$delim, col_names = col_names, :
bad value
Error in vroom_(file, delim = delim %||% col_types$delim, col_names = col_names, :
bad value
Error in vroom_(file, delim = delim %||% col_types$delim, col_names = col_names, :
bad value
Error in vroom_(file, delim = delim %||% col_types$delim, col_names = col_names, :
bad value
Error in vroom_(file, delim = delim %||% col_types$delim, col_names = col_names, :
bad value
Error in vroom_(file, delim = delim %||% col_types$delim, col_names = col_names, :
bad value
Error in vroom_(file, delim = delim %||% col_types$delim, col_names = col_names, :
bad value
Error in vroom_(file, delim = delim %||% col_types$delim, col_names = col_names, :
bad value
Error in vroom_(file, delim = delim %||% col_types$delim, col_names = col_names, :
bad value
Error in vroom_(file, delim = delim %||% col_types$delim, col_names = col_names, :
bad value
Error in vroom_(file, delim = delim %||% col_types$delim, col_names = col_names, :
bad value
Error in vroom_(file, delim = delim %||% col_types$delim, col_names = col_names, :
bad value
Error in vroom_(file, delim = delim %||% col_types$delim, col_names = col_names, :
bad value
Error in vroom_(file, delim = delim %||% col_types$delim, col_names = col_names, :
bad value
Error in vroom_(file, delim = delim %||% col_types$delim, col_names = col_names, :
bad value
Error in vroom_(file, delim = delim %||% col_types$delim, col_names = col_names, :
bad value
Error in vroom_(file, delim = delim %||% col_types$delim, col_names = col_names, :
bad value
Error in vroom_(file, delim = delim %||% col_types$delim, col_names = col_names, :
bad value
Error in vroom_(file, delim = delim %||% col_types$delim, col_names = col_names, :
bad value
Error in vroom_(file, delim = delim %||% col_types$delim, col_names = col_names, :
bad value
Error in vroom_(file, delim = delim %||% col_types$delim, col_names = col_names, :
bad value
Error in vroom_(file, delim = delim %||% col_types$delim, col_names = col_names, :
bad value
Error in vroom_(file, delim = delim %||% col_types$delim, col_names = col_names, :
bad value
Error in vroom_(file, delim = delim %||% col_types$delim, col_names = col_names, :
bad value
Error in vroom_(file, delim = delim %||% col_types$delim, col_names = col_names, :
bad value
Error in vroom_(file, delim = delim %||% col_types$delim, col_names = col_names, :
bad value
Error in vroom_(file, delim = delim %||% col_types$delim, col_names = col_names, :
bad value
Error in vroom_(file, delim = delim %||% col_types$delim, col_names = col_names, :
bad value
Error in vroom_(file, delim = delim %||% col_types$delim, col_names = col_names, :
bad value
Error in vroom_(file, delim = delim %||% col_types$delim, col_names = col_names, :
bad value
Error in vroom_(file, delim = delim %||% col_types$delim, col_names = col_names, :
bad value
Error in vroom_(file, delim = delim %||% col_types$delim, col_names = col_names, :
bad value
Error in vroom_(file, delim = delim %||% col_types$delim, col_names = col_names, :
bad value
Error in vroom_(file, delim = delim %||% col_types$delim, col_names = col_names, :
bad value
Error in vroom_(file, delim = delim %||% col_types$delim, col_names = col_names, :
bad value
Error in vroom_(file, delim = delim %||% col_types$delim, col_names = col_names, :
bad value
Error in vroom_(file, delim = delim %||% col_types$delim, col_names = col_names, :
bad value
Error in vroom_(file, delim = delim %||% col_types$delim, col_names = col_names, :
bad value
Error in vroom_(file, delim = delim %||% col_types$delim, col_names = col_names, :
bad value
Error in vroom_(file, delim = delim %||% col_types$delim, col_names = col_names, :
bad value
Error in vroom_(file, delim = delim %||% col_types$delim, col_names = col_names, :
bad value
Error in vroom_(file, delim = delim %||% col_types$delim, col_names = col_names, :
bad value
Error in vroom_(file, delim = delim %||% col_types$delim, col_names = col_names, :
bad value
Error in vroom_(file, delim = delim %||% col_types$delim, col_names = col_names, :
bad value
Error in vroom_(file, delim = delim %||% col_types$delim, col_names = col_names, :
bad value
Error in vroom_(file, delim = delim %||% col_types$delim, col_names = col_names, :
bad value
Error in vroom_(file, delim = delim %||% col_types$delim, col_names = col_names, :
bad value
Error in vroom_(file, delim = delim %||% col_types$delim, col_names = col_names, :
bad value
Error in vroom_(file, delim = delim %||% col_types$delim, col_names = col_names, :
bad value
Error in vroom_(file, delim = delim %||% col_types$delim, col_names = col_names, :
bad value
Error in vroom_(file, delim = delim %||% col_types$delim, col_names = col_names, :
bad value
Error in vroom_(file, delim = delim %||% col_types$delim, col_names = col_names, :
bad value
Error in vroom_(file, delim = delim %||% col_types$delim, col_names = col_names, :
bad value
Error in vroom_(file, delim = delim %||% col_types$delim, col_names = col_names, :
bad value
Error in vroom_(file, delim = delim %||% col_types$delim, col_names = col_names, :
bad value
Error in vroom_(file, delim = delim %||% col_types$delim, col_names = col_names, :
bad value
Error in vroom_(file, delim = delim %||% col_types$delim, col_names = col_names, :
bad value
Error in vroom_(file, delim = delim %||% col_types$delim, col_names = col_names, :
bad value
Error in vroom_(file, delim = delim %||% col_types$delim, col_names = col_names, :
bad value
Error in vroom_(file, delim = delim %||% col_types$delim, col_names = col_names, :
bad value
Error in vroom_(file, delim = delim %||% col_types$delim, col_names = col_names, :
bad value
Error in vroom_(file, delim = delim %||% col_types$delim, col_names = col_names, :
bad value
Error in vroom_(file, delim = delim %||% col_types$delim, col_names = col_names, :
bad value
Error in vroom_(file, delim = delim %||% col_types$delim, col_names = col_names, :
bad value
Error in vroom_(file, delim = delim %||% col_types$delim, col_names = col_names, :
bad value
Error in vroom_(file, delim = delim %||% col_types$delim, col_names = col_names, :
bad value
Error in vroom_(file, delim = delim %||% col_types$delim, col_names = col_names, :
bad value
sh: wget: command not found
Error in utils::download.file(fileURL, destfile = tmpFile, quiet = TRUE, :
'wget' call had nonzero exit status
sh: wget: command not found
Error in utils::download.file(fileURL, destfile = tmpFile, quiet = TRUE, :
'wget' call had nonzero exit status
Error in vroom_(file, delim = delim %||% col_types$delim, col_names = col_names, :
bad value
Error in vroom_(file, delim = delim %||% col_types$delim, col_names = col_names, :
bad value
Error in vroom_(file, delim = delim %||% col_types$delim, col_names = col_names, :
bad value
Error in vroom_(file, delim = delim %||% col_types$delim, col_names = col_names, :
bad value
Error in vroom_(file, delim = delim %||% col_types$delim, col_names = col_names, :
bad value
Error in .validateNCBI(build) : Inconsistent build numbers found
Error in .validateNCBI(build) : Inconsistent build numbers found
Error in .validateNCBI(build) : Inconsistent build numbers found
Error in .checkBarcodes(barcodes) : Barcodes must start with 'TCGA'
Error in .validateNCBI(build) : Inconsistent build numbers found
Error in .validateNCBI(build) : Inconsistent build numbers found
Error in .validateNCBI(build) : Inconsistent build numbers found
Error in TCGAutils::uniformBuilds(x[[BCOL]]) :
Frequency of NA values higher than the cutoff tolerance
Error in .validateNCBI(build) : Inconsistent build numbers found
Error in dplyr::bind_rows(httr::content(x)) :
Argument 1 must be a data frame or a named atomic vector.
Error in .validateNCBI(build) : Inconsistent build numbers found
Error in .validateNCBI(build) : Inconsistent build numbers found
Error in .checkBarcodes(barcodes) : Barcodes must start with 'TCGA'
Error in split.default(x = seq_len(nrow(x)), f = f, drop = drop, ...) :
group length is 0 but data length > 0
Error in TCGAutils::uniformBuilds(x[[BCOL]]) :
Frequency of NA values higher than the cutoff tolerance
Error in .validateNCBI(build) : Inconsistent build numbers found
Error in .validateNCBI(build) : Inconsistent build numbers found
Error in .validateNCBI(build) : Inconsistent build numbers found
Error in .validateNCBI(build) : Inconsistent build numbers found
Error in .validateNCBI(build) : Inconsistent build numbers found
Error in .validateNCBI(build) : Inconsistent build numbers found
Error in .validateNCBI(build) : Inconsistent build numbers found
Error in .validateNCBI(build) : Inconsistent build numbers found
Error in .validateNCBI(build) : Inconsistent build numbers found
Error in .validateNCBI(build) : Inconsistent build numbers found
Error in values[spec$.name] : Can't subset columns with `spec$.name`.
✖ Subscript `spec$.name` can't contain the empty string.
✖ It has an empty string at location 1.
Error in .validateNCBI(build) : Inconsistent build numbers found
Error in vec_init(value, nrow * ncol) :
`n` must be a single number, not an integer `NA`.
Error in .validateNCBI(build) : Inconsistent build numbers found
Error in .validateNCBI(build) : Inconsistent build numbers found
Error in .validateNCBI(build) : Inconsistent build numbers found
Error in .validateNCBI(build) : Inconsistent build numbers found
Error in .validateNCBI(build) : Inconsistent build numbers found
[ FAIL 1 | WARN 441 | SKIP 0 | PASS 1 ]
══ Failed tests ════════════════════════════════════════════════════════════════
── Failure ('test_cBioDataPack.R:19:5'): cBioDataPack works on at least 70% of studies ──
successrate > 80 is not TRUE
`actual`: FALSE
`expected`: TRUE
[ FAIL 1 | WARN 441 | SKIP 0 | PASS 1 ]
Error: Test failures
Execution halted
##############################################################################
##############################################################################
###
### Running command:
###
### /Library/Frameworks/R.framework/Resources/bin/R CMD check --test-dir=longtests --no-stop-on-test-error --no-codoc --no-examples --no-manual --ignore-vignettes --check-subdirs=no cBioPortalData_2.12.0.tar.gz
###
##############################################################################
##############################################################################
* using log directory ‘/Users/biocbuild/bbs-3.17-bioc-longtests/meat/cBioPortalData.Rcheck’
* using R version 4.3.1 (2023-06-16)
* using platform: x86_64-apple-darwin20 (64-bit)
* R was compiled by
Apple clang version 14.0.3 (clang-1403.0.22.14.1)
GNU Fortran (GCC) 12.2.0
* running under: macOS Monterey 12.6.4
* using session charset: UTF-8
* using options ‘--no-codoc --no-examples --no-manual --ignore-vignettes --no-stop-on-test-error’
* checking for file ‘cBioPortalData/DESCRIPTION’ ... OK
* this is package ‘cBioPortalData’ version ‘2.12.0’
* package encoding: UTF-8
* checking package namespace information ... OK
* checking package dependencies ... OK
* checking if this is a source package ... OK
* checking if there is a namespace ... OK
* checking for hidden files and directories ... OK
* checking for portable file names ... OK
* checking for sufficient/correct file permissions ... OK
* checking whether package ‘cBioPortalData’ can be installed ... OK
* checking installed package size ... OK
* checking package directory ... OK
* checking DESCRIPTION meta-information ... OK
* checking top-level files ... OK
* checking for left-over files ... OK
* checking index information ... OK
* checking package subdirectories ... OK
* checking R files for non-ASCII characters ... OK
* checking R files for syntax errors ... OK
* checking whether the package can be loaded ... OK
* checking whether the package can be loaded with stated dependencies ... OK
* checking whether the package can be unloaded cleanly ... OK
* checking whether the namespace can be loaded with stated dependencies ... OK
* checking whether the namespace can be unloaded cleanly ... OK
* checking dependencies in R code ... OK
* checking S3 generic/method consistency ... OK
* checking replacement functions ... OK
* checking foreign function calls ... OK
* checking R code for possible problems ... OK
* checking Rd files ... OK
* checking Rd metadata ... OK
* checking Rd cross-references ... OK
* checking for missing documentation entries ... OK
* checking for code/documentation mismatches ... SKIPPED
* checking Rd \usage sections ... OK
* checking Rd contents ... OK
* checking for unstated dependencies in examples ... OK
* checking files in ‘vignettes’ ... SKIPPED
* checking examples ... SKIPPED
* checking for unstated dependencies in ‘longtests’ ... OK
* checking tests in ‘longtests’ ...
Running ‘testthat.R’
ERROR
Running the tests in ‘longtests/testthat.R’ failed.
Last 13 lines of output:
Error in .validateNCBI(build) : Inconsistent build numbers found
Error in .validateNCBI(build) : Inconsistent build numbers found
Error in .validateNCBI(build) : Inconsistent build numbers found
[ FAIL 1 | WARN 441 | SKIP 0 | PASS 1 ]
══ Failed tests ════════════════════════════════════════════════════════════════
── Failure ('test_cBioDataPack.R:19:5'): cBioDataPack works on at least 70% of studies ──
successrate > 80 is not TRUE
`actual`: FALSE
`expected`: TRUE
[ FAIL 1 | WARN 441 | SKIP 0 | PASS 1 ]
Error: Test failures
Execution halted
* DONE
Status: 1 ERROR
See
‘/Users/biocbuild/bbs-3.17-bioc-longtests/meat/cBioPortalData.Rcheck/00check.log’
for details.
cBioPortalData.Rcheck/00install.out
* installing *source* package ‘cBioPortalData’ ... ** using staged installation ** R ** inst ** byte-compile and prepare package for lazy loading ** help *** installing help indices ** building package indices ** installing vignettes ** testing if installed package can be loaded from temporary location ** testing if installed package can be loaded from final location ** testing if installed package keeps a record of temporary installation path * DONE (cBioPortalData)