| Back to Multiple platform build/check report for BioC 3.17: simplified long |
|
This page was generated on 2023-10-16 11:36:46 -0400 (Mon, 16 Oct 2023).
| Hostname | OS | Arch (*) | R version | Installed pkgs |
|---|---|---|---|---|
| nebbiolo1 | Linux (Ubuntu 22.04.2 LTS) | x86_64 | 4.3.1 (2023-06-16) -- "Beagle Scouts" | 4626 |
| palomino3 | Windows Server 2022 Datacenter | x64 | 4.3.1 (2023-06-16 ucrt) -- "Beagle Scouts" | 4379 |
| merida1 | macOS 12.6.4 Monterey | x86_64 | 4.3.1 (2023-06-16) -- "Beagle Scouts" | 4395 |
| Click on any hostname to see more info about the system (e.g. compilers) (*) as reported by 'uname -p', except on Windows and Mac OS X | ||||
| Package 2179/2230 | Hostname | OS / Arch | INSTALL | BUILD | CHECK | BUILD BIN | ||||||||
| variancePartition 1.30.2 (landing page) Gabriel E. Hoffman
| nebbiolo1 | Linux (Ubuntu 22.04.2 LTS) / x86_64 | OK | OK | OK | |||||||||
| palomino3 | Windows Server 2022 Datacenter / x64 | OK | OK | OK | OK | |||||||||
| merida1 | macOS 12.6.4 Monterey / x86_64 | OK | OK | OK | OK | |||||||||
| kjohnson2 | macOS 12.6.1 Monterey / arm64 | see weekly results here | ||||||||||||
|
To the developers/maintainers of the variancePartition package: - Allow up to 24 hours (and sometimes 48 hours) for your latest push to git@git.bioconductor.org:packages/variancePartition.git to reflect on this report. See Troubleshooting Build Report for more information. - Use the following Renviron settings to reproduce errors and warnings. - If 'R CMD check' started to fail recently on the Linux builder(s) over a missing dependency, add the missing dependency to 'Suggests:' in your DESCRIPTION file. See Renviron.bioc for more information. |
| Package: variancePartition |
| Version: 1.30.2 |
| Command: F:\biocbuild\bbs-3.17-bioc\R\bin\R.exe CMD check --no-multiarch --install=check:variancePartition.install-out.txt --library=F:\biocbuild\bbs-3.17-bioc\R\library --no-vignettes --timings variancePartition_1.30.2.tar.gz |
| StartedAt: 2023-10-16 07:56:10 -0400 (Mon, 16 Oct 2023) |
| EndedAt: 2023-10-16 08:02:20 -0400 (Mon, 16 Oct 2023) |
| EllapsedTime: 369.7 seconds |
| RetCode: 0 |
| Status: OK |
| CheckDir: variancePartition.Rcheck |
| Warnings: 0 |
##############################################################################
##############################################################################
###
### Running command:
###
### F:\biocbuild\bbs-3.17-bioc\R\bin\R.exe CMD check --no-multiarch --install=check:variancePartition.install-out.txt --library=F:\biocbuild\bbs-3.17-bioc\R\library --no-vignettes --timings variancePartition_1.30.2.tar.gz
###
##############################################################################
##############################################################################
* using log directory 'F:/biocbuild/bbs-3.17-bioc/meat/variancePartition.Rcheck'
* using R version 4.3.1 (2023-06-16 ucrt)
* using platform: x86_64-w64-mingw32 (64-bit)
* R was compiled by
gcc.exe (GCC) 12.2.0
GNU Fortran (GCC) 12.2.0
* running under: Windows Server 2022 x64 (build 20348)
* using session charset: UTF-8
* using option '--no-vignettes'
* checking for file 'variancePartition/DESCRIPTION' ... OK
* checking extension type ... Package
* this is package 'variancePartition' version '1.30.2'
* package encoding: UTF-8
* checking package namespace information ... OK
* checking package dependencies ... OK
* checking if this is a source package ... OK
* checking if there is a namespace ... OK
* checking for hidden files and directories ... OK
* checking for portable file names ... OK
* checking whether package 'variancePartition' can be installed ... OK
* checking installed package size ... OK
* checking package directory ... OK
* checking 'build' directory ... OK
* checking DESCRIPTION meta-information ... OK
* checking top-level files ... OK
* checking for left-over files ... OK
* checking index information ... OK
* checking package subdirectories ... OK
* checking R files for non-ASCII characters ... OK
* checking R files for syntax errors ... OK
* checking whether the package can be loaded ... OK
* checking whether the package can be loaded with stated dependencies ... OK
* checking whether the package can be unloaded cleanly ... OK
* checking whether the namespace can be loaded with stated dependencies ... OK
* checking whether the namespace can be unloaded cleanly ... OK
* checking dependencies in R code ... OK
* checking S3 generic/method consistency ... OK
* checking replacement functions ... OK
* checking foreign function calls ... OK
* checking R code for possible problems ... OK
* checking Rd files ... OK
* checking Rd metadata ... OK
* checking Rd cross-references ... OK
* checking for missing documentation entries ... OK
* checking for code/documentation mismatches ... OK
* checking Rd \usage sections ... NOTE
S3 methods shown with full name in documentation object 'residuals.MArrayLM2':
'residuals.MArrayLM2'
The \usage entries for S3 methods should use the \method markup and not
their full name.
See chapter 'Writing R documentation files' in the 'Writing R
Extensions' manual.
* checking Rd contents ... OK
* checking for unstated dependencies in examples ... OK
* checking contents of 'data' directory ... OK
* checking data for non-ASCII characters ... OK
* checking data for ASCII and uncompressed saves ... OK
* checking sizes of PDF files under 'inst/doc' ... OK
* checking files in 'vignettes' ... OK
* checking examples ... OK
Examples with CPU (user + system) or elapsed time > 5s
user system elapsed
fitVarPartModel-method 23.95 0.28 24.23
fitExtractVarPartModel-method 21.02 0.21 21.24
getTreat-method 19.85 0.22 20.07
plotCompareP-method 16.73 0.21 16.95
extractVarPart 13.51 0.15 13.67
varPartConfInf 11.84 0.11 11.96
plotPercentBars-method 7.83 0.11 7.93
sortCols-method 7.14 0.08 7.25
plotVarPart-method 6.61 0.10 6.80
residuals-VarParFitList-method 5.67 0.08 5.75
dream-method 3.19 0.11 10.58
* checking for unstated dependencies in 'tests' ... OK
* checking tests ...
Running 'runTests.R'
OK
* checking for unstated dependencies in vignettes ... OK
* checking package vignettes in 'inst/doc' ... OK
* checking running R code from vignettes ... SKIPPED
* checking re-building of vignette outputs ... SKIPPED
* checking PDF version of manual ... OK
* DONE
Status: 1 NOTE
See
'F:/biocbuild/bbs-3.17-bioc/meat/variancePartition.Rcheck/00check.log'
for details.
variancePartition.Rcheck/00install.out
############################################################################## ############################################################################## ### ### Running command: ### ### F:\biocbuild\bbs-3.17-bioc\R\bin\R.exe CMD INSTALL variancePartition ### ############################################################################## ############################################################################## * installing to library 'F:/biocbuild/bbs-3.17-bioc/R/library' * installing *source* package 'variancePartition' ... ** using staged installation ** R ** data ** inst ** byte-compile and prepare package for lazy loading in method for 'calcVarPart' with signature '"negbin"': no definition for class "negbin" in method for 'checkModelStatus' with signature '"negbin"': no definition for class "negbin" Creating a new generic function for 'classifyTestsF' in package 'variancePartition' Creating a new generic function for 'topTable' in package 'variancePartition' ** help Loading required namespace: variancePartition *** installing help indices *** copying figures ** building package indices ** installing vignettes ** testing if installed package can be loaded from temporary location ** testing if installed package can be loaded from final location ** testing if installed package keeps a record of temporary installation path * DONE (variancePartition)
variancePartition.Rcheck/tests/runTests.Rout
R version 4.3.1 (2023-06-16 ucrt) -- "Beagle Scouts"
Copyright (C) 2023 The R Foundation for Statistical Computing
Platform: x86_64-w64-mingw32/x64 (64-bit)
R is free software and comes with ABSOLUTELY NO WARRANTY.
You are welcome to redistribute it under certain conditions.
Type 'license()' or 'licence()' for distribution details.
R is a collaborative project with many contributors.
Type 'contributors()' for more information and
'citation()' on how to cite R or R packages in publications.
Type 'demo()' for some demos, 'help()' for on-line help, or
'help.start()' for an HTML browser interface to help.
Type 'q()' to quit R.
> BiocGenerics:::testPackage("variancePartition")
Attaching package: 'variancePartition'
The following object is masked from 'package:limma':
topTable
Loading required package: lme4
Loading required package: Matrix
Attaching package: 'lmerTest'
The following object is masked from 'package:lme4':
lmer
The following object is masked from 'package:stats':
step
Dividing work into 1 chunks...
Total:0.3 s
Dividing work into 1 chunks...
Total:0.9 s
Dividing work into 1 chunks...
Total:1 s
Dividing work into 1 chunks...
Total:1 s
Dividing work into 1 chunks...
Total:0.1 s
Removing intercept from test coefficients
Removing intercept from test coefficients
Dividing work into 1 chunks...
Total:1 s
Dividing work into 1 chunks...
Total:1 s
Dividing work into 1 chunks...
Total:6 s
Dividing work into 1 chunks...
Total:0.09 s
Dividing work into 1 chunks...
Total:0.3 s
Dividing work into 1 chunks...
Total:0.4 s
Dividing work into 1 chunks...
Total:6 s
Memory usage to store result: >487.7 Kb
Dividing work into 1 chunks...
Total:0.3 s
Memory usage to store result: >487.7 Kb
Dividing work into 1 chunks...
Total:0.4 s
Memory usage to store result: >487.7 Kb
Dividing work into 1 chunks...
Total:6 s
Dividing work into 1 chunks...
Total:1 s
boundary (singular) fit: see help('isSingular')
boundary (singular) fit: see help('isSingular')
boundary (singular) fit: see help('isSingular')
boundary (singular) fit: see help('isSingular')
boundary (singular) fit: see help('isSingular')
boundary (singular) fit: see help('isSingular')
boundary (singular) fit: see help('isSingular')
boundary (singular) fit: see help('isSingular')
boundary (singular) fit: see help('isSingular')
boundary (singular) fit: see help('isSingular')
boundary (singular) fit: see help('isSingular')
boundary (singular) fit: see help('isSingular')
boundary (singular) fit: see help('isSingular')
boundary (singular) fit: see help('isSingular')
boundary (singular) fit: see help('isSingular')
boundary (singular) fit: see help('isSingular')
boundary (singular) fit: see help('isSingular')
boundary (singular) fit: see help('isSingular')
Dividing work into 1 chunks...
Total:0.8 s
Dividing work into 1 chunks...
Total:1 s
Dividing work into 1 chunks...
Total:0.4 s
Dividing work into 1 chunks...
Total:0.4 s
Memory usage to store result: >455.2 Kb
Dividing work into 1 chunks...
Total:0.4 s
Memory usage to store result: >455.2 Kb
Dividing work into 1 chunks...
Total:0.3 s
Dividing work into 1 chunks...
Total:1 s
Dividing work into 1 chunks...
Total:0.9 s
Removing intercept from test coefficients
Removing intercept from test coefficients
Dividing work into 1 chunks...
Total:0.2 s
Dividing work into 1 chunks...
Total:0.9 s
Dividing work into 1 chunks...
Total:0.1 s
Dividing work into 1 chunks...
Total:1 s
Dividing work into 1 chunks...
Total:2 s
Dividing work into 1 chunks...
Total:1 s
Loading required package: Rcpp
Loading required package: RcppZiggurat
Rfast: 2.0.8
___ __ __ __ __ __ __ __ __ __ _ _ __ __ __ __ __ __ __ __ __ __ __
| __ __ __ __ | | __ __ __ __ _/ / \ | __ __ __ __ / /__ __ _ _ __ __\
| | | | | | / _ \ | | / /
| | | | | | / / \ \ | | / /
| | | | | | / / \ \ | | / /
| |__ __ __ __| | | |__ __ __ __ / / \ \ | |__ __ __ __ _ / /__/\
| __ __ __ __| | __ __ __ __| / /__ _ __\ \ |_ __ __ __ _ | / ___ /
| \ | | / _ _ _ _ _ _ \ | | \/ / /
| |\ \ | | / / \ \ | | / /
| | \ \ | | / / \ \ | | / /
| | \ \ | | / / \ \ | | / /
| | \ \__ __ _ | | / / \ \ _ __ __ __ _| | / /
|_| \__ __ __\ |_| /_/ \_\ /_ __ __ __ ___| \/ team
Memory usage to store result: >5 Kb
Dividing work into 1 chunks...
Total:0.08 s
Warning:
Variables contain NA's: Disease
Samples with missing data will be dropped.
Memory usage to store result: >248.4 Kb
Dividing work into 5 chunks...
Total:3 s
Dividing work into 5 chunks...
Total:8 s
Dividing work into 5 chunks...
Total:7 s
Dividing work into 5 chunks...
Total:7 s
Memory usage to store result: >248.4 Kb
Dividing work into 5 chunks...
Total:3 s
Dividing work into 5 chunks...
Total:3 s
Dividing work into 5 chunks...
Total:3 s
Dividing work into 5 chunks...
Total:3 s
Dividing work into 1 chunks...
Total:0.9 s
Dividing work into 1 chunks...
Total:1 s
Dividing work into 1 chunks...
Total:0.3 s
Total:0.05 s
Dividing work into 1 chunks...
Total:0.3 s
Memory usage to store result: >49.7 Kb
Dividing work into 1 chunks...
Total:0.5 s
Memory usage to store result: >49.7 Kb
Dividing work into 1 chunks...
Total:0.4 s
RUNIT TEST PROTOCOL -- Mon Oct 16 08:02:07 2023
***********************************************
Number of test functions: 21
Number of errors: 0
Number of failures: 0
1 Test Suite :
variancePartition RUnit Tests - 21 test functions, 0 errors, 0 failures
Number of test functions: 21
Number of errors: 0
Number of failures: 0
There were 29 warnings (use warnings() to see them)
>
> proc.time()
user system elapsed
82.20 1.76 100.81
variancePartition.Rcheck/variancePartition-Ex.timings
| name | user | system | elapsed | |
| ESS-method | 0.12 | 0.01 | 0.16 | |
| as.data.frame.varPartResults | 0.27 | 0.00 | 0.26 | |
| as.matrix-varPartResults-method | 0.32 | 0.02 | 0.33 | |
| calcVarPart-method | 0.04 | 0.01 | 0.06 | |
| canCorPairs | 0.08 | 0.00 | 0.09 | |
| colinearityScore | 0.42 | 0.02 | 0.44 | |
| deviation-method | 1.16 | 0.02 | 1.31 | |
| diffVar-method | 0.86 | 0.06 | 0.92 | |
| dream-method | 3.19 | 0.11 | 10.58 | |
| extractVarPart | 13.51 | 0.15 | 13.67 | |
| fitExtractVarPartModel-method | 21.02 | 0.21 | 21.24 | |
| fitVarPartModel-method | 23.95 | 0.28 | 24.23 | |
| getContrast-method | 0 | 0 | 0 | |
| getTreat-method | 19.85 | 0.22 | 20.07 | |
| get_prediction-method | 0.06 | 0.01 | 0.09 | |
| ggColorHue | 0 | 0 | 0 | |
| makeContrastsDream | 1.59 | 0.03 | 1.62 | |
| mvTest-method | 2.95 | 0.07 | 3.04 | |
| plotCompareP-method | 16.73 | 0.21 | 16.95 | |
| plotContrasts | 0.27 | 0.02 | 0.28 | |
| plotCorrMatrix | 0.06 | 0.00 | 0.06 | |
| plotCorrStructure | 0.69 | 0.02 | 0.71 | |
| plotPercentBars-method | 7.83 | 0.11 | 7.93 | |
| plotStratify | 0.64 | 0.03 | 0.68 | |
| plotStratifyBy | 0.64 | 0.04 | 0.68 | |
| plotVarPart-method | 6.61 | 0.10 | 6.80 | |
| rdf.merMod | 0.08 | 0.01 | 0.09 | |
| residuals-VarParFitList-method | 5.67 | 0.08 | 5.75 | |
| sortCols-method | 7.14 | 0.08 | 7.25 | |
| varPartConfInf | 11.84 | 0.11 | 11.96 | |
| voomWithDreamWeights | 3.00 | 0.11 | 3.11 | |