Back to Multiple platform build/check report for BioC 3.17
ABCDEFGHIJKLMNOPQRS[T]UVWXYZ

This page was generated on 2023-01-10 11:09:13 -0500 (Tue, 10 Jan 2023).

HostnameOSArch (*)R versionInstalled pkgs
nebbiolo1Linux (Ubuntu 22.04.1 LTS)x86_64R Under development (unstable) (2022-12-10 r83428) -- "Unsuffered Consequences" 4463
palomino3Windows Server 2022 Datacenterx64R Under development (unstable) (2022-12-10 r83428 ucrt) -- "Unsuffered Consequences" 4244
merida1macOS 10.14.6 Mojavex86_64R Under development (unstable) (2022-12-10 r83428) -- "Unsuffered Consequences" 4255
Click on any hostname to see more info about the system (e.g. compilers)      (*) as reported by 'uname -p', except on Windows and Mac OS X

BUILD BIN results for tscR on palomino3


To the developers/maintainers of the tscR package:
- Please allow up to 24 hours (and sometimes 48 hours) for your latest push to git@git.bioconductor.org:packages/tscR.git to
reflect on this report. See How and When does the builder pull? When will my changes propagate? for more information.
- Make sure to use the following settings in order to reproduce any error or warning you see on this page.

raw results

Package 2084/2160HostnameOS / ArchINSTALLBUILDCHECKBUILD BIN
tscR 1.11.0  (landing page)
Fernando Pérez-Sanz
Snapshot Date: 2023-01-09 14:00:21 -0500 (Mon, 09 Jan 2023)
git_url: https://git.bioconductor.org/packages/tscR
git_branch: master
git_last_commit: 1fbe1eb
git_last_commit_date: 2022-11-01 11:21:27 -0500 (Tue, 01 Nov 2022)
nebbiolo1Linux (Ubuntu 22.04.1 LTS) / x86_64  OK    OK    OK  UNNEEDED, same version is already published
palomino3Windows Server 2022 Datacenter / x64  OK    OK    OK    OK  UNNEEDED, same version is already published
merida1macOS 10.14.6 Mojave / x86_64  OK    OK    OK    OK  UNNEEDED, same version is already published

Summary

Package: tscR
Version: 1.11.0
Command: rm -rf tscR.buildbin-libdir && mkdir tscR.buildbin-libdir && F:\biocbuild\bbs-3.17-bioc\R\bin\R.exe CMD INSTALL --build --library=tscR.buildbin-libdir tscR_1.11.0.tar.gz
StartedAt: 2023-01-10 09:29:58 -0500 (Tue, 10 Jan 2023)
EndedAt: 2023-01-10 09:30:30 -0500 (Tue, 10 Jan 2023)
EllapsedTime: 32.0 seconds
RetCode: 0
Status:   OK  
PackageFile: tscR_1.11.0.zip
PackageFileSize: 587.4 KiB

Command output

##############################################################################
##############################################################################
###
### Running command:
###
###   rm -rf tscR.buildbin-libdir && mkdir tscR.buildbin-libdir && F:\biocbuild\bbs-3.17-bioc\R\bin\R.exe CMD INSTALL --build --library=tscR.buildbin-libdir tscR_1.11.0.tar.gz
###
##############################################################################
##############################################################################


* installing *source* package 'tscR' ...
** using staged installation
** libs
gcc  -I"F:/biocbuild/bbs-3.17-bioc/R/include" -DNDEBUG     -I"c:/rtools42/x86_64-w64-mingw32.static.posix/include"     -O2 -Wall  -std=gnu99 -mfpmath=sse -msse2 -mstackrealign  -c tscR.c -o tscR.o
gcc  -I"F:/biocbuild/bbs-3.17-bioc/R/include" -DNDEBUG     -I"c:/rtools42/x86_64-w64-mingw32.static.posix/include"     -O2 -Wall  -std=gnu99 -mfpmath=sse -msse2 -mstackrealign  -c tscR_init.c -o tscR_init.o
gcc -shared -s -static-libgcc -o tscR.dll tmp.def tscR.o tscR_init.o -Lc:/rtools42/x86_64-w64-mingw32.static.posix/lib/x64 -Lc:/rtools42/x86_64-w64-mingw32.static.posix/lib -LF:/biocbuild/bbs-3.17-bioc/R/bin/x64 -lR
installing to F:/biocbuild/bbs-3.17-bioc/meat/tscR.buildbin-libdir/00LOCK-tscR/00new/tscR/libs/x64
** R
** data
** inst
** byte-compile and prepare package for lazy loading
** help
*** installing help indices
** building package indices
** installing vignettes
** testing if installed package can be loaded from temporary location
** testing if installed package can be loaded from final location
** testing if installed package keeps a record of temporary installation path
* MD5 sums
packaged installation of 'tscR' as tscR_1.11.0.zip
* DONE (tscR)