| Back to Multiple platform build/check report for BioC 3.17: simplified long |
|
This page was generated on 2023-10-16 11:35:48 -0400 (Mon, 16 Oct 2023).
| Hostname | OS | Arch (*) | R version | Installed pkgs |
|---|---|---|---|---|
| nebbiolo1 | Linux (Ubuntu 22.04.2 LTS) | x86_64 | 4.3.1 (2023-06-16) -- "Beagle Scouts" | 4626 |
| palomino3 | Windows Server 2022 Datacenter | x64 | 4.3.1 (2023-06-16 ucrt) -- "Beagle Scouts" | 4379 |
| merida1 | macOS 12.6.4 Monterey | x86_64 | 4.3.1 (2023-06-16) -- "Beagle Scouts" | 4395 |
| Click on any hostname to see more info about the system (e.g. compilers) (*) as reported by 'uname -p', except on Windows and Mac OS X | ||||
| Package 1992/2230 | Hostname | OS / Arch | INSTALL | BUILD | CHECK | BUILD BIN | ||||||||
| splatter 1.24.0 (landing page) Luke Zappia
| nebbiolo1 | Linux (Ubuntu 22.04.2 LTS) / x86_64 | OK | OK | OK | |||||||||
| palomino3 | Windows Server 2022 Datacenter / x64 | OK | OK | OK | OK | |||||||||
| merida1 | macOS 12.6.4 Monterey / x86_64 | OK | OK | OK | OK | |||||||||
| kjohnson2 | macOS 12.6.1 Monterey / arm64 | see weekly results here | ||||||||||||
|
To the developers/maintainers of the splatter package: - Allow up to 24 hours (and sometimes 48 hours) for your latest push to git@git.bioconductor.org:packages/splatter.git to reflect on this report. See Troubleshooting Build Report for more information. - Use the following Renviron settings to reproduce errors and warnings. - If 'R CMD check' started to fail recently on the Linux builder(s) over a missing dependency, add the missing dependency to 'Suggests:' in your DESCRIPTION file. See Renviron.bioc for more information. |
| Package: splatter |
| Version: 1.24.0 |
| Command: /home/biocbuild/bbs-3.17-bioc/R/bin/R CMD check --install=check:splatter.install-out.txt --library=/home/biocbuild/bbs-3.17-bioc/R/site-library --timings splatter_1.24.0.tar.gz |
| StartedAt: 2023-10-16 01:23:37 -0400 (Mon, 16 Oct 2023) |
| EndedAt: 2023-10-16 01:34:10 -0400 (Mon, 16 Oct 2023) |
| EllapsedTime: 633.6 seconds |
| RetCode: 0 |
| Status: OK |
| CheckDir: splatter.Rcheck |
| Warnings: 0 |
##############################################################################
##############################################################################
###
### Running command:
###
### /home/biocbuild/bbs-3.17-bioc/R/bin/R CMD check --install=check:splatter.install-out.txt --library=/home/biocbuild/bbs-3.17-bioc/R/site-library --timings splatter_1.24.0.tar.gz
###
##############################################################################
##############################################################################
* using log directory ‘/home/biocbuild/bbs-3.17-bioc/meat/splatter.Rcheck’
* using R version 4.3.1 (2023-06-16)
* using platform: x86_64-pc-linux-gnu (64-bit)
* R was compiled by
gcc (Ubuntu 11.3.0-1ubuntu1~22.04.1) 11.3.0
GNU Fortran (Ubuntu 11.3.0-1ubuntu1~22.04.1) 11.3.0
* running under: Ubuntu 22.04.3 LTS
* using session charset: UTF-8
* checking for file ‘splatter/DESCRIPTION’ ... OK
* checking extension type ... Package
* this is package ‘splatter’ version ‘1.24.0’
* package encoding: UTF-8
* checking package namespace information ... OK
* checking package dependencies ... OK
* checking if this is a source package ... OK
* checking if there is a namespace ... OK
* checking for hidden files and directories ... OK
* checking for portable file names ... OK
* checking for sufficient/correct file permissions ... OK
* checking whether package ‘splatter’ can be installed ... OK
* checking installed package size ... OK
* checking package directory ... OK
* checking ‘build’ directory ... OK
* checking DESCRIPTION meta-information ... OK
* checking top-level files ... OK
* checking for left-over files ... OK
* checking index information ... OK
* checking package subdirectories ... OK
* checking R files for non-ASCII characters ... OK
* checking R files for syntax errors ... OK
* checking whether the package can be loaded ... OK
* checking whether the package can be loaded with stated dependencies ... OK
* checking whether the package can be unloaded cleanly ... OK
* checking whether the namespace can be loaded with stated dependencies ... OK
* checking whether the namespace can be unloaded cleanly ... OK
* checking loading without being on the library search path ... OK
* checking dependencies in R code ... OK
* checking S3 generic/method consistency ... OK
* checking replacement functions ... OK
* checking foreign function calls ... OK
* checking R code for possible problems ... OK
* checking Rd files ... OK
* checking Rd metadata ... OK
* checking Rd cross-references ... OK
* checking for missing documentation entries ... OK
* checking for code/documentation mismatches ... OK
* checking Rd \usage sections ... OK
* checking Rd contents ... OK
* checking for unstated dependencies in examples ... OK
* checking files in ‘vignettes’ ... OK
* checking examples ... OK
Examples with CPU (user + system) or elapsed time > 5s
user system elapsed
scDDEstimate 30.571 0.592 31.163
mockBulkeQTL 5.071 0.191 5.263
* checking for unstated dependencies in ‘tests’ ... OK
* checking tests ...
Running ‘spelling.R’
Running ‘testthat.R’
OK
* checking for unstated dependencies in vignettes ... OK
* checking package vignettes in ‘inst/doc’ ... OK
* checking running R code from vignettes ...
‘splatPop.Rmd’ using ‘UTF-8’... OK
‘splat_params.Rmd’ using ‘UTF-8’... OK
‘splatter.Rmd’ using ‘UTF-8’... OK
NONE
* checking re-building of vignette outputs ... OK
* checking PDF version of manual ... OK
* DONE
Status: OK
splatter.Rcheck/00install.out
############################################################################## ############################################################################## ### ### Running command: ### ### /home/biocbuild/bbs-3.17-bioc/R/bin/R CMD INSTALL splatter ### ############################################################################## ############################################################################## * installing to library ‘/home/biocbuild/bbs-3.17-bioc/R/site-library’ * installing *source* package ‘splatter’ ... ** using staged installation ** R ** inst ** byte-compile and prepare package for lazy loading ** help *** installing help indices ** building package indices ** installing vignettes ** testing if installed package can be loaded from temporary location ** testing if installed package can be loaded from final location ** testing if installed package keeps a record of temporary installation path * DONE (splatter)
splatter.Rcheck/tests/spelling.Rout
R version 4.3.1 (2023-06-16) -- "Beagle Scouts"
Copyright (C) 2023 The R Foundation for Statistical Computing
Platform: x86_64-pc-linux-gnu (64-bit)
R is free software and comes with ABSOLUTELY NO WARRANTY.
You are welcome to redistribute it under certain conditions.
Type 'license()' or 'licence()' for distribution details.
R is a collaborative project with many contributors.
Type 'contributors()' for more information and
'citation()' on how to cite R or R packages in publications.
Type 'demo()' for some demos, 'help()' for on-line help, or
'help.start()' for an HTML browser interface to help.
Type 'q()' to quit R.
> if(requireNamespace('spelling', quietly = TRUE))
+ spelling::spell_check_test(vignettes = TRUE, error = FALSE,
+ skip_on_cran = TRUE)
NULL
>
> proc.time()
user system elapsed
0.138 0.054 0.181
splatter.Rcheck/tests/testthat.Rout
R version 4.3.1 (2023-06-16) -- "Beagle Scouts"
Copyright (C) 2023 The R Foundation for Statistical Computing
Platform: x86_64-pc-linux-gnu (64-bit)
R is free software and comes with ABSOLUTELY NO WARRANTY.
You are welcome to redistribute it under certain conditions.
Type 'license()' or 'licence()' for distribution details.
R is a collaborative project with many contributors.
Type 'contributors()' for more information and
'citation()' on how to cite R or R packages in publications.
Type 'demo()' for some demos, 'help()' for on-line help, or
'help.start()' for an HTML browser interface to help.
Type 'q()' to quit R.
> # setting R_TESTS to empty string because of
> # https://github.com/hadley/testthat/issues/144
> # revert this when that issue in R is fixed.
> Sys.setenv("R_TESTS" = "")
>
> library(testthat)
> library(splatter)
Loading required package: SingleCellExperiment
Loading required package: SummarizedExperiment
Loading required package: MatrixGenerics
Loading required package: matrixStats
Attaching package: 'MatrixGenerics'
The following objects are masked from 'package:matrixStats':
colAlls, colAnyNAs, colAnys, colAvgsPerRowSet, colCollapse,
colCounts, colCummaxs, colCummins, colCumprods, colCumsums,
colDiffs, colIQRDiffs, colIQRs, colLogSumExps, colMadDiffs,
colMads, colMaxs, colMeans2, colMedians, colMins, colOrderStats,
colProds, colQuantiles, colRanges, colRanks, colSdDiffs, colSds,
colSums2, colTabulates, colVarDiffs, colVars, colWeightedMads,
colWeightedMeans, colWeightedMedians, colWeightedSds,
colWeightedVars, rowAlls, rowAnyNAs, rowAnys, rowAvgsPerColSet,
rowCollapse, rowCounts, rowCummaxs, rowCummins, rowCumprods,
rowCumsums, rowDiffs, rowIQRDiffs, rowIQRs, rowLogSumExps,
rowMadDiffs, rowMads, rowMaxs, rowMeans2, rowMedians, rowMins,
rowOrderStats, rowProds, rowQuantiles, rowRanges, rowRanks,
rowSdDiffs, rowSds, rowSums2, rowTabulates, rowVarDiffs, rowVars,
rowWeightedMads, rowWeightedMeans, rowWeightedMedians,
rowWeightedSds, rowWeightedVars
Loading required package: GenomicRanges
Loading required package: stats4
Loading required package: BiocGenerics
Attaching package: 'BiocGenerics'
The following objects are masked from 'package:stats':
IQR, mad, sd, var, xtabs
The following objects are masked from 'package:base':
Filter, Find, Map, Position, Reduce, anyDuplicated, aperm, append,
as.data.frame, basename, cbind, colnames, dirname, do.call,
duplicated, eval, evalq, get, grep, grepl, intersect, is.unsorted,
lapply, mapply, match, mget, order, paste, pmax, pmax.int, pmin,
pmin.int, rank, rbind, rownames, sapply, setdiff, sort, table,
tapply, union, unique, unsplit, which.max, which.min
Loading required package: S4Vectors
Attaching package: 'S4Vectors'
The following object is masked from 'package:utils':
findMatches
The following objects are masked from 'package:base':
I, expand.grid, unname
Loading required package: IRanges
Loading required package: GenomeInfoDb
Loading required package: Biobase
Welcome to Bioconductor
Vignettes contain introductory material; view with
'browseVignettes()'. To cite Bioconductor, see
'citation("Biobase")', and for packages 'citation("pkgname")'.
Attaching package: 'Biobase'
The following object is masked from 'package:MatrixGenerics':
rowMedians
The following objects are masked from 'package:matrixStats':
anyMissing, rowMedians
>
> test_check("splatter")
-----------------------------------------------------
MCMC sampler has been started: 20000 iterations to go.
-----------------------------------------------------
-----------------------------------------------------
End of Burn-in period.
-----------------------------------------------------
-----------------------------------------------------
-----------------------------------------------------
All 20000 MCMC iterations have been completed.
-----------------------------------------------------
-----------------------------------------------------
-----------------------------------------------------
Please see below a summary of the overall acceptance rates.
-----------------------------------------------------
Minimum acceptance rate among mu[i]'s: 0.216267
Average acceptance rate among mu[i]'s: 0.447751
Maximum acceptance rate among mu[i]'s: 0.581867
Minimum acceptance rate among delta[i]'s: 0.373467
Average acceptance rate among delta[i]'s: 0.446514
Maximum acceptance rate among delta[i]'s: 0.498
Acceptance rate for phi (joint): 0.455867
Minimum acceptance rate among nu[j]'s: 0.3964
Average acceptance rate among nu[j]'s: 0.450696
Maximum acceptance rate among nu[j]'s: 0.506933
Minimum acceptance rate among theta[k]'s: 0.431867
Average acceptance rate among theta[k]'s: 0.431867
Maximum acceptance rate among theta[k]'s: 0.431867
-----------------------------------------------------
-----------------------------------------------------
MCMC sampler has been started: 20000 iterations to go.
-----------------------------------------------------
-----------------------------------------------------
End of Burn-in period.
-----------------------------------------------------
-----------------------------------------------------
-----------------------------------------------------
All 20000 MCMC iterations have been completed.
-----------------------------------------------------
-----------------------------------------------------
-----------------------------------------------------
Please see below a summary of the overall acceptance rates.
-----------------------------------------------------
Minimum acceptance rate among mu[i]'s: 0.167067
Average acceptance rate among mu[i]'s: 0.436682
Maximum acceptance rate among mu[i]'s: 0.578267
Minimum acceptance rate among delta[i]'s: 0.395933
Average acceptance rate among delta[i]'s: 0.454213
Maximum acceptance rate among delta[i]'s: 0.515067
Minimum acceptance rate among nu[jk]'s: 0.370533
Average acceptance rate among nu[jk]'s: 0.451502
Maximum acceptance rate among nu[jk]'s: 0.492467
Minimum acceptance rate among theta[k]'s: 0.4586
Average acceptance rate among theta[k]'s: 0.464833
Maximum acceptance rate among theta[k]'s: 0.471067
-----------------------------------------------------
[ FAIL 0 | WARN 12 | SKIP 0 | PASS 184 ]
[ FAIL 0 | WARN 12 | SKIP 0 | PASS 184 ]
>
> proc.time()
user system elapsed
184.715 2.777 187.480
splatter.Rcheck/splatter-Ex.timings
| name | user | system | elapsed | |
| BASiCSEstimate | 0 | 0 | 0 | |
| BASiCSSimulate | 4.275 | 0.289 | 4.565 | |
| addGeneLengths | 0.961 | 0.089 | 1.049 | |
| compareSCEs | 2.142 | 0.059 | 2.202 | |
| diffSCEs | 2.254 | 0.067 | 2.323 | |
| getParam | 0.000 | 0.000 | 0.001 | |
| getParams | 0.000 | 0.000 | 0.001 | |
| kersplatEstimate | 3.479 | 0.080 | 3.559 | |
| kersplatSample | 2.511 | 0.204 | 2.715 | |
| kersplatSetup | 0.185 | 0.003 | 0.188 | |
| kersplatSimulate | 0.001 | 0.000 | 0.000 | |
| listSims | 0.021 | 0.001 | 0.021 | |
| lun2Estimate | 0 | 0 | 0 | |
| lun2Simulate | 1.123 | 0.020 | 1.144 | |
| lunEstimate | 0.427 | 0.004 | 0.430 | |
| lunSimulate | 0.324 | 0.016 | 0.339 | |
| makeCompPanel | 0 | 0 | 0 | |
| makeDiffPanel | 0.000 | 0.001 | 0.000 | |
| makeOverallPanel | 0 | 0 | 0 | |
| mfaEstimate | 0.086 | 0.005 | 0.092 | |
| mfaSimulate | 1.181 | 0.015 | 1.197 | |
| minimiseSCE | 1.386 | 0.005 | 1.391 | |
| mockBulkMatrix | 0 | 0 | 0 | |
| mockBulkeQTL | 5.071 | 0.191 | 5.263 | |
| mockEmpiricalSet | 2.504 | 0.296 | 2.799 | |
| mockGFF | 0.005 | 0.000 | 0.004 | |
| mockVCF | 0.118 | 0.000 | 0.117 | |
| newParams | 0.002 | 0.000 | 0.002 | |
| phenoEstimate | 0.525 | 0.004 | 0.529 | |
| phenoSimulate | 0.851 | 0.076 | 0.927 | |
| scDDEstimate | 30.571 | 0.592 | 31.163 | |
| scDDSimulate | 0 | 0 | 0 | |
| setParam | 0.008 | 0.000 | 0.009 | |
| setParams | 0.021 | 0.000 | 0.021 | |
| simpleEstimate | 0.411 | 0.016 | 0.426 | |
| simpleSimulate | 0.480 | 0.012 | 0.492 | |
| sparseDCEstimate | 0.724 | 0.021 | 0.744 | |
| sparseDCSimulate | 1.591 | 0.132 | 1.723 | |
| splatEstimate | 2.629 | 0.032 | 2.661 | |
| splatPopEstimate | 2.663 | 0.028 | 2.690 | |
| splatPopQuantNorm | 0.026 | 0.000 | 0.026 | |
| splatPopSimulate | 0 | 0 | 0 | |
| splatPopSimulateMeans | 0 | 0 | 0 | |
| splatPopSimulateSC | 0 | 0 | 0 | |
| splatSimulate | 0.746 | 0.011 | 0.757 | |
| summariseDiff | 2.432 | 0.048 | 2.480 | |
| zinbEstimate | 1.984 | 0.036 | 2.021 | |
| zinbSimulate | 0.164 | 0.000 | 0.163 | |