| Back to Multiple platform build/check report for BioC 3.17: simplified long | 
  | 
This page was generated on 2023-10-16 11:36:41 -0400 (Mon, 16 Oct 2023).
| Hostname | OS | Arch (*) | R version | Installed pkgs | 
|---|---|---|---|---|
| nebbiolo1 | Linux (Ubuntu 22.04.2 LTS) | x86_64 | 4.3.1 (2023-06-16) -- "Beagle Scouts" | 4626 | 
| palomino3 | Windows Server 2022 Datacenter | x64 | 4.3.1 (2023-06-16 ucrt) -- "Beagle Scouts" | 4379 | 
| merida1 | macOS 12.6.4 Monterey | x86_64 | 4.3.1 (2023-06-16) -- "Beagle Scouts" | 4395 | 
| Click on any hostname to see more info about the system (e.g. compilers) (*) as reported by 'uname -p', except on Windows and Mac OS X | ||||
| Package 1991/2230 | Hostname | OS / Arch | INSTALL | BUILD | CHECK | BUILD BIN | ||||||||
| spkTools 1.56.0  (landing page) Matthew N McCall 
  | nebbiolo1 | Linux (Ubuntu 22.04.2 LTS) / x86_64 | OK | OK | OK | |||||||||
| palomino3 | Windows Server 2022 Datacenter / x64 | OK | OK | OK | OK | |||||||||
| merida1 | macOS 12.6.4 Monterey / x86_64 | OK | OK | OK | OK | |||||||||
| kjohnson2 | macOS 12.6.1 Monterey / arm64 | see weekly results here | ||||||||||||
| 
To the developers/maintainers of the spkTools package: - Allow up to 24 hours (and sometimes 48 hours) for your latest push to git@git.bioconductor.org:packages/spkTools.git to reflect on this report. See Troubleshooting Build Report for more information. - Use the following Renviron settings to reproduce errors and warnings. - If 'R CMD check' started to fail recently on the Linux builder(s) over a missing dependency, add the missing dependency to 'Suggests:' in your DESCRIPTION file. See Renviron.bioc for more information.  | 
| Package: spkTools | 
| Version: 1.56.0 | 
| Command: F:\biocbuild\bbs-3.17-bioc\R\bin\R.exe CMD check --no-multiarch --install=check:spkTools.install-out.txt --library=F:\biocbuild\bbs-3.17-bioc\R\library --no-vignettes --timings spkTools_1.56.0.tar.gz | 
| StartedAt: 2023-10-16 07:12:18 -0400 (Mon, 16 Oct 2023) | 
| EndedAt: 2023-10-16 07:14:04 -0400 (Mon, 16 Oct 2023) | 
| EllapsedTime: 105.9 seconds | 
| RetCode: 0 | 
| Status: OK | 
| CheckDir: spkTools.Rcheck | 
| Warnings: 0 | 
##############################################################################
##############################################################################
###
### Running command:
###
###   F:\biocbuild\bbs-3.17-bioc\R\bin\R.exe CMD check --no-multiarch --install=check:spkTools.install-out.txt --library=F:\biocbuild\bbs-3.17-bioc\R\library --no-vignettes --timings spkTools_1.56.0.tar.gz
###
##############################################################################
##############################################################################
* using log directory 'F:/biocbuild/bbs-3.17-bioc/meat/spkTools.Rcheck'
* using R version 4.3.1 (2023-06-16 ucrt)
* using platform: x86_64-w64-mingw32 (64-bit)
* R was compiled by
    gcc.exe (GCC) 12.2.0
    GNU Fortran (GCC) 12.2.0
* running under: Windows Server 2022 x64 (build 20348)
* using session charset: UTF-8
* using option '--no-vignettes'
* checking for file 'spkTools/DESCRIPTION' ... OK
* this is package 'spkTools' version '1.56.0'
* checking package namespace information ... OK
* checking package dependencies ... OK
* checking if this is a source package ... OK
* checking if there is a namespace ... OK
* checking for hidden files and directories ... OK
* checking for portable file names ... OK
* checking whether package 'spkTools' can be installed ... OK
* checking installed package size ... OK
* checking package directory ... OK
* checking 'build' directory ... OK
* checking DESCRIPTION meta-information ... NOTE
Package listed in more than one of Depends, Imports, Suggests, Enhances:
  'Biobase'
A package should be listed in only one of these fields.
* checking top-level files ... OK
* checking for left-over files ... OK
* checking index information ... OK
* checking package subdirectories ... OK
* checking R files for non-ASCII characters ... OK
* checking R files for syntax errors ... OK
* checking whether the package can be loaded ... OK
* checking whether the package can be loaded with stated dependencies ... OK
* checking whether the package can be unloaded cleanly ... OK
* checking whether the namespace can be loaded with stated dependencies ... OK
* checking whether the namespace can be unloaded cleanly ... OK
* checking dependencies in R code ... OK
* checking S3 generic/method consistency ... OK
* checking replacement functions ... OK
* checking foreign function calls ... OK
* checking R code for possible problems ... OK
* checking Rd files ... OK
* checking Rd metadata ... OK
* checking Rd cross-references ... OK
* checking for missing documentation entries ... OK
* checking for code/documentation mismatches ... OK
* checking Rd \usage sections ... OK
* checking Rd contents ... OK
* checking for unstated dependencies in examples ... OK
* checking contents of 'data' directory ... OK
* checking data for non-ASCII characters ... OK
* checking data for ASCII and uncompressed saves ... OK
* checking sizes of PDF files under 'inst/doc' ... OK
* checking files in 'vignettes' ... OK
* checking examples ... OK
Examples with CPU (user + system) or elapsed time > 5s
          user system elapsed
spkAll   25.59   2.45   28.08
spkTools 26.39   1.48   27.88
spkGNN    8.29   0.44    8.75
* checking for unstated dependencies in vignettes ... OK
* checking package vignettes in 'inst/doc' ... OK
* checking running R code from vignettes ... SKIPPED
* checking re-building of vignette outputs ... SKIPPED
* checking PDF version of manual ... OK
* DONE
Status: 1 NOTE
See
  'F:/biocbuild/bbs-3.17-bioc/meat/spkTools.Rcheck/00check.log'
for details.
spkTools.Rcheck/00install.out
############################################################################## ############################################################################## ### ### Running command: ### ### F:\biocbuild\bbs-3.17-bioc\R\bin\R.exe CMD INSTALL spkTools ### ############################################################################## ############################################################################## * installing to library 'F:/biocbuild/bbs-3.17-bioc/R/library' * installing *source* package 'spkTools' ... ** using staged installation ** R ** data ** byte-compile and prepare package for lazy loading ** help *** installing help indices ** building package indices ** installing vignettes ** testing if installed package can be loaded from temporary location ** testing if installed package can be loaded from final location ** testing if installed package keeps a record of temporary installation path * DONE (spkTools)
spkTools.Rcheck/spkTools-Ex.timings
| name | user | system | elapsed | |
| SpikeInExpressSet-class | 0.20 | 0.01 | 0.22 | |
| plotSpkBox | 0.66 | 0.05 | 0.70 | |
| spkAccSD | 0.16 | 0.02 | 0.17 | |
| spkAll | 25.59 | 2.45 | 28.08 | |
| spkAnova | 0.08 | 0.00 | 0.08 | |
| spkBal | 0.07 | 0.00 | 0.06 | |
| spkBox | 0.75 | 0.14 | 0.89 | |
| spkDensity | 0.17 | 0.00 | 0.17 | |
| spkGNN | 8.29 | 0.44 | 8.75 | |
| spkMA | 1.14 | 0.01 | 1.16 | |
| spkPair | 0.05 | 0.02 | 0.06 | |
| spkPairNS | 0.08 | 0.00 | 0.08 | |
| spkPot | 0.69 | 0.00 | 0.69 | |
| spkQuantile | 0.09 | 0.01 | 0.11 | |
| spkSlope | 0.08 | 0.02 | 0.09 | |
| spkTools | 26.39 | 1.48 | 27.88 | |
| spkVar | 0.05 | 0.00 | 0.04 | |
| summarySpkBox | 0.64 | 0.04 | 0.67 | |