| Back to Multiple platform build/check report for BioC 3.17 |
|
This page was generated on 2022-11-04 13:19:11 -0400 (Fri, 04 Nov 2022).
| Hostname | OS | Arch (*) | R version | Installed pkgs |
|---|---|---|---|---|
| nebbiolo1 | Linux (Ubuntu 20.04.5 LTS) | x86_64 | R Under development (unstable) (2022-10-25 r83175) -- "Unsuffered Consequences" | 4443 |
| palomino3 | Windows Server 2022 Datacenter | x64 | R Under development (unstable) (2022-10-11 r83083 ucrt) -- "Unsuffered Consequences" | 4186 |
| Click on any hostname to see more info about the system (e.g. compilers) (*) as reported by 'uname -p', except on Windows and Mac OS X | ||||
|
To the developers/maintainers of the savR package: - Please allow up to 24 hours (and sometimes 48 hours) for your latest push to git@git.bioconductor.org:packages/savR.git to reflect on this report. See How and When does the builder pull? When will my changes propagate? for more information. - Make sure to use the following settings in order to reproduce any error or warning you see on this page. |
| Package 1746/2151 | Hostname | OS / Arch | INSTALL | BUILD | CHECK | BUILD BIN | ||||||||
| savR 1.37.0 (landing page) R. Brent Calder
| nebbiolo1 | Linux (Ubuntu 20.04.5 LTS) / x86_64 | OK | OK | OK | |||||||||
| palomino3 | Windows Server 2022 Datacenter / x64 | OK | OK | OK | OK | |||||||||
| Package: savR |
| Version: 1.37.0 |
| Command: /home/biocbuild/bbs-3.17-bioc/R/bin/R CMD check --install=check:savR.install-out.txt --library=/home/biocbuild/bbs-3.17-bioc/R/library --timings savR_1.37.0.tar.gz |
| StartedAt: 2022-11-03 23:14:49 -0400 (Thu, 03 Nov 2022) |
| EndedAt: 2022-11-03 23:16:07 -0400 (Thu, 03 Nov 2022) |
| EllapsedTime: 77.2 seconds |
| RetCode: 0 |
| Status: OK |
| CheckDir: savR.Rcheck |
| Warnings: 0 |
##############################################################################
##############################################################################
###
### Running command:
###
### /home/biocbuild/bbs-3.17-bioc/R/bin/R CMD check --install=check:savR.install-out.txt --library=/home/biocbuild/bbs-3.17-bioc/R/library --timings savR_1.37.0.tar.gz
###
##############################################################################
##############################################################################
* using log directory ‘/home/biocbuild/bbs-3.17-bioc/meat/savR.Rcheck’
* using R Under development (unstable) (2022-10-25 r83175)
* using platform: x86_64-pc-linux-gnu (64-bit)
* using session charset: UTF-8
* checking for file ‘savR/DESCRIPTION’ ... OK
* checking extension type ... Package
* this is package ‘savR’ version ‘1.37.0’
* checking package namespace information ... OK
* checking package dependencies ... OK
* checking if this is a source package ... OK
* checking if there is a namespace ... OK
* checking for hidden files and directories ... OK
* checking for portable file names ... OK
* checking for sufficient/correct file permissions ... OK
* checking whether package ‘savR’ can be installed ... OK
* checking installed package size ... OK
* checking package directory ... OK
* checking ‘build’ directory ... OK
* checking DESCRIPTION meta-information ... OK
* checking top-level files ... OK
* checking for left-over files ... OK
* checking index information ... OK
* checking package subdirectories ... OK
* checking R files for non-ASCII characters ... OK
* checking R files for syntax errors ... OK
* checking whether the package can be loaded ... OK
* checking whether the package can be loaded with stated dependencies ... OK
* checking whether the package can be unloaded cleanly ... OK
* checking whether the namespace can be loaded with stated dependencies ... OK
* checking whether the namespace can be unloaded cleanly ... OK
* checking dependencies in R code ... OK
* checking S3 generic/method consistency ... OK
* checking replacement functions ... OK
* checking foreign function calls ... OK
* checking R code for possible problems ... NOTE
buildReports,savProject-character: no visible global function
definition for ‘dev.off’
qualityHeatmap,savProject-integer-integer-logical: no visible global
function definition for ‘quantile’
Undefined global functions or variables:
dev.off quantile
Consider adding
importFrom("grDevices", "dev.off")
importFrom("stats", "quantile")
to your NAMESPACE file.
* checking Rd files ... OK
* checking Rd metadata ... OK
* checking Rd cross-references ... OK
* checking for missing documentation entries ... OK
* checking for code/documentation mismatches ... OK
* checking Rd \usage sections ... OK
* checking Rd contents ... OK
* checking for unstated dependencies in examples ... OK
* checking files in ‘vignettes’ ... OK
* checking examples ... OK
* checking for unstated dependencies in ‘tests’ ... OK
* checking tests ...
Running ‘testthat.R’
OK
* checking for unstated dependencies in vignettes ... OK
* checking package vignettes in ‘inst/doc’ ... OK
* checking running R code from vignettes ...
‘savR.Rnw’... OK
OK
* checking re-building of vignette outputs ... OK
* checking PDF version of manual ... OK
* DONE
Status: 1 NOTE
See
‘/home/biocbuild/bbs-3.17-bioc/meat/savR.Rcheck/00check.log’
for details.
savR.Rcheck/00install.out
############################################################################## ############################################################################## ### ### Running command: ### ### /home/biocbuild/bbs-3.17-bioc/R/bin/R CMD INSTALL savR ### ############################################################################## ############################################################################## * installing to library ‘/home/biocbuild/bbs-3.17-bioc/R/library’ * installing *source* package ‘savR’ ... ** using staged installation ** R ** inst ** byte-compile and prepare package for lazy loading ** help *** installing help indices ** building package indices ** installing vignettes ** testing if installed package can be loaded from temporary location ** testing if installed package can be loaded from final location ** testing if installed package keeps a record of temporary installation path * DONE (savR)
savR.Rcheck/tests/testthat.Rout
R Under development (unstable) (2022-10-25 r83175) -- "Unsuffered Consequences"
Copyright (C) 2022 The R Foundation for Statistical Computing
Platform: x86_64-pc-linux-gnu (64-bit)
R is free software and comes with ABSOLUTELY NO WARRANTY.
You are welcome to redistribute it under certain conditions.
Type 'license()' or 'licence()' for distribution details.
R is a collaborative project with many contributors.
Type 'contributors()' for more information and
'citation()' on how to cite R or R packages in publications.
Type 'demo()' for some demos, 'help()' for on-line help, or
'help.start()' for an HTML browser interface to help.
Type 'q()' to quit R.
> library(testthat)
> library(savR)
Loading required package: ggplot2
>
> test_check("savR")
[ FAIL 0 | WARN 0 | SKIP 7 | PASS 8 ]
══ Skipped tests ═══════════════════════════════════════════════════════════════
• On CRAN (6)
• Test data folder not available (1)
[ FAIL 0 | WARN 0 | SKIP 7 | PASS 8 ]
>
> proc.time()
user system elapsed
5.522 0.180 5.693
savR.Rcheck/savR-Ex.timings
| name | user | system | elapsed | |
| buildReports | 0 | 0 | 0 | |
| clusterQualityGtN | 0 | 0 | 0 | |
| clusters | 0.001 | 0.000 | 0.000 | |
| correctedIntensities | 2.322 | 0.024 | 2.350 | |
| cycles | 2.205 | 0.008 | 2.213 | |
| directions | 2.016 | 0.020 | 2.035 | |
| errorMetrics | 1.978 | 0.016 | 1.993 | |
| extractionMetrics | 2.004 | 0.008 | 2.012 | |
| flowcellLayout | 2.038 | 0.016 | 2.055 | |
| location | 2.005 | 0.007 | 2.013 | |
| pfClusters | 0 | 0 | 0 | |
| qualityMetrics | 2.039 | 0.024 | 2.064 | |
| reads | 1.868 | 0.000 | 1.867 | |
| run | 1.896 | 0.004 | 1.900 | |
| savR | 1.923 | 0.020 | 1.943 | |
| tileMetrics | 1.934 | 0.003 | 1.938 | |