| Back to Multiple platform build/check report for BioC 3.17: simplified long | 
  | 
This page was generated on 2023-10-16 11:37:26 -0400 (Mon, 16 Oct 2023).
| Hostname | OS | Arch (*) | R version | Installed pkgs | 
|---|---|---|---|---|
| nebbiolo1 | Linux (Ubuntu 22.04.2 LTS) | x86_64 | 4.3.1 (2023-06-16) -- "Beagle Scouts" | 4626 | 
| palomino3 | Windows Server 2022 Datacenter | x64 | 4.3.1 (2023-06-16 ucrt) -- "Beagle Scouts" | 4379 | 
| merida1 | macOS 12.6.4 Monterey | x86_64 | 4.3.1 (2023-06-16) -- "Beagle Scouts" | 4395 | 
| Click on any hostname to see more info about the system (e.g. compilers) (*) as reported by 'uname -p', except on Windows and Mac OS X | ||||
| Package 1695/2230 | Hostname | OS / Arch | INSTALL | BUILD | CHECK | BUILD BIN | ||||||||
| rfaRm 1.12.1  (landing page) Lara Selles Vidal 
  | nebbiolo1 | Linux (Ubuntu 22.04.2 LTS) / x86_64 | OK | ERROR | skipped | |||||||||
| palomino3 | Windows Server 2022 Datacenter / x64 | OK | ERROR | skipped | skipped | |||||||||
| merida1 | macOS 12.6.4 Monterey / x86_64 | OK | OK | OK | OK | |||||||||
| kjohnson2 | macOS 12.6.1 Monterey / arm64 | see weekly results here | ||||||||||||
| 
To the developers/maintainers of the rfaRm package: - Allow up to 24 hours (and sometimes 48 hours) for your latest push to git@git.bioconductor.org:packages/rfaRm.git to reflect on this report. See Troubleshooting Build Report for more information. - Use the following Renviron settings to reproduce errors and warnings. - If 'R CMD check' started to fail recently on the Linux builder(s) over a missing dependency, add the missing dependency to 'Suggests:' in your DESCRIPTION file. See Renviron.bioc for more information.  | 
| Package: rfaRm | 
| Version: 1.12.1 | 
| Command: /Library/Frameworks/R.framework/Resources/bin/R CMD check --install=check:rfaRm.install-out.txt --library=/Library/Frameworks/R.framework/Resources/library --no-vignettes --timings rfaRm_1.12.1.tar.gz | 
| StartedAt: 2023-10-16 05:59:34 -0400 (Mon, 16 Oct 2023) | 
| EndedAt: 2023-10-16 06:31:22 -0400 (Mon, 16 Oct 2023) | 
| EllapsedTime: 1907.2 seconds | 
| RetCode: 0 | 
| Status: OK | 
| CheckDir: rfaRm.Rcheck | 
| Warnings: 0 | 
##############################################################################
##############################################################################
###
### Running command:
###
###   /Library/Frameworks/R.framework/Resources/bin/R CMD check --install=check:rfaRm.install-out.txt --library=/Library/Frameworks/R.framework/Resources/library --no-vignettes --timings rfaRm_1.12.1.tar.gz
###
##############################################################################
##############################################################################
* using log directory ‘/Users/biocbuild/bbs-3.17-bioc/meat/rfaRm.Rcheck’
* using R version 4.3.1 (2023-06-16)
* using platform: x86_64-apple-darwin20 (64-bit)
* R was compiled by
    Apple clang version 14.0.3 (clang-1403.0.22.14.1)
    GNU Fortran (GCC) 12.2.0
* running under: macOS Monterey 12.6.4
* using session charset: UTF-8
* using option ‘--no-vignettes’
* checking for file ‘rfaRm/DESCRIPTION’ ... OK
* checking extension type ... Package
* this is package ‘rfaRm’ version ‘1.12.1’
* package encoding: UTF-8
* checking package namespace information ... OK
* checking package dependencies ... OK
* checking if this is a source package ... OK
* checking if there is a namespace ... OK
* checking for hidden files and directories ... OK
* checking for portable file names ... OK
* checking for sufficient/correct file permissions ... OK
* checking whether package ‘rfaRm’ can be installed ... OK
* checking installed package size ... OK
* checking package directory ... OK
* checking ‘build’ directory ... OK
* checking DESCRIPTION meta-information ... OK
* checking top-level files ... OK
* checking for left-over files ... OK
* checking index information ... OK
* checking package subdirectories ... OK
* checking R files for non-ASCII characters ... OK
* checking R files for syntax errors ... OK
* checking whether the package can be loaded ... OK
* checking whether the package can be loaded with stated dependencies ... OK
* checking whether the package can be unloaded cleanly ... OK
* checking whether the namespace can be loaded with stated dependencies ... OK
* checking whether the namespace can be unloaded cleanly ... OK
* checking startup messages can be suppressed ... OK
* checking dependencies in R code ... OK
* checking S3 generic/method consistency ... OK
* checking replacement functions ... OK
* checking foreign function calls ... OK
* checking R code for possible problems ... NOTE
rfamSeedAlignment: no visible global function definition for ‘as’
Undefined global functions or variables:
  as
Consider adding
  importFrom("methods", "as")
to your NAMESPACE file (and ensure that your DESCRIPTION Imports field
contains 'methods').
* checking Rd files ... OK
* checking Rd metadata ... OK
* checking Rd cross-references ... OK
* checking for missing documentation entries ... OK
* checking for code/documentation mismatches ... OK
* checking Rd \usage sections ... OK
* checking Rd contents ... OK
* checking for unstated dependencies in examples ... OK
* checking files in ‘vignettes’ ... OK
* checking examples ... OK
Examples with CPU (user + system) or elapsed time > 5s
                    user system elapsed
rfamSequenceSearch 0.095  0.047   11.57
* checking for unstated dependencies in ‘tests’ ... OK
* checking tests ...
  Running ‘runTests.R’
 OK
* checking for unstated dependencies in vignettes ... OK
* checking package vignettes in ‘inst/doc’ ... OK
* checking running R code from vignettes ... SKIPPED
* checking re-building of vignette outputs ... SKIPPED
* checking PDF version of manual ... OK
* DONE
Status: 1 NOTE
See
  ‘/Users/biocbuild/bbs-3.17-bioc/meat/rfaRm.Rcheck/00check.log’
for details.
rfaRm.Rcheck/00install.out
############################################################################## ############################################################################## ### ### Running command: ### ### /Library/Frameworks/R.framework/Resources/bin/R CMD INSTALL rfaRm ### ############################################################################## ############################################################################## * installing to library ‘/Library/Frameworks/R.framework/Versions/4.3-x86_64/Resources/library’ * installing *source* package ‘rfaRm’ ... ** using staged installation ** R ** inst ** byte-compile and prepare package for lazy loading ** help *** installing help indices ** building package indices ** installing vignettes ** testing if installed package can be loaded from temporary location ** testing if installed package can be loaded from final location ** testing if installed package keeps a record of temporary installation path * DONE (rfaRm)
rfaRm.Rcheck/tests/runTests.Rout
R version 4.3.1 (2023-06-16) -- "Beagle Scouts"
Copyright (C) 2023 The R Foundation for Statistical Computing
Platform: x86_64-apple-darwin20 (64-bit)
R is free software and comes with ABSOLUTELY NO WARRANTY.
You are welcome to redistribute it under certain conditions.
Type 'license()' or 'licence()' for distribution details.
R is a collaborative project with many contributors.
Type 'contributors()' for more information and
'citation()' on how to cite R or R packages in publications.
Type 'demo()' for some demos, 'help()' for on-line help, or
'help.start()' for an HTML browser interface to help.
Type 'q()' to quit R.
> BiocGenerics:::testPackage("rfaRm")
Linking to librsvg 2.56.3
No encoding supplied: defaulting to UTF-8.
2023-10-16 06:30:47.826 R[9189:976193295] XType: com.apple.fonts is not accessible.
2023-10-16 06:30:47.827 R[9189:976193295] XType: XTFontStaticRegistry is enabled.
# A tibble: 1 × 7
  format width height colorspace matte filesize density
  <chr>  <int>  <int> <chr>      <lgl>    <int> <chr>  
1 SVG      700    550 sRGB       TRUE     17458 96x96  
# A tibble: 1 × 7
  format width height colorspace matte filesize density
  <chr>  <int>  <int> <chr>      <lgl>    <int> <chr>  
1 GIF      600   2056 sRGB       FALSE    62234 72x72  
Running sequence search query. This might take a long time.
RUNIT TEST PROTOCOL -- Mon Oct 16 06:31:06 2023 
*********************************************** 
Number of test functions: 0 
Number of errors: 0 
Number of failures: 0 
 
1 Test Suite : 
rfaRm RUnit Tests - 0 test functions, 0 errors, 0 failures
Number of test functions: 0 
Number of errors: 0 
Number of failures: 0 
> 
> proc.time()
   user  system elapsed 
 19.181   6.783 109.256 
rfaRm.Rcheck/rfaRm-Ex.timings
| name | user | system | elapsed | |
| rfamConsensusSecondaryStructure | 0.350 | 0.055 | 3.241 | |
| rfamCovarianceModel | 0.145 | 0.008 | 1.127 | |
| rfamFamilyAccessionToID | 0.018 | 0.000 | 0.129 | |
| rfamFamilyIDToAccession | 0.011 | 0.001 | 0.112 | |
| rfamFamilySummary | 0.090 | 0.004 | 0.769 | |
| rfamPDBMapping | 0.088 | 0.007 | 0.563 | |
| rfamSecondaryStructurePlot | 0.621 | 0.087 | 1.351 | |
| rfamSecondaryStructureXMLSVG | 0.060 | 0.004 | 0.665 | |
| rfamSeedAlignment | 0.708 | 0.027 | 2.123 | |
| rfamSeedTree | 0.081 | 0.004 | 0.491 | |
| rfamSeedTreeImage | 0.254 | 0.014 | 0.809 | |
| rfamSequenceRegions | 0.160 | 0.010 | 1.786 | |
| rfamSequenceSearch | 0.095 | 0.047 | 11.570 | |
| rfamTextSearchFamilyAccession | 0.071 | 0.046 | 1.054 | |