| Back to Multiple platform build/check report for BioC 3.17: simplified long | 
  | 
This page was generated on 2023-10-16 11:35:41 -0400 (Mon, 16 Oct 2023).
| Hostname | OS | Arch (*) | R version | Installed pkgs | 
|---|---|---|---|---|
| nebbiolo1 | Linux (Ubuntu 22.04.2 LTS) | x86_64 | 4.3.1 (2023-06-16) -- "Beagle Scouts" | 4626 | 
| palomino3 | Windows Server 2022 Datacenter | x64 | 4.3.1 (2023-06-16 ucrt) -- "Beagle Scouts" | 4379 | 
| merida1 | macOS 12.6.4 Monterey | x86_64 | 4.3.1 (2023-06-16) -- "Beagle Scouts" | 4395 | 
| Click on any hostname to see more info about the system (e.g. compilers) (*) as reported by 'uname -p', except on Windows and Mac OS X | ||||
| Package 1673/2230 | Hostname | OS / Arch | INSTALL | BUILD | CHECK | BUILD BIN | ||||||||
| recoup 1.28.0  (landing page) Panagiotis Moulos 
  | nebbiolo1 | Linux (Ubuntu 22.04.2 LTS) / x86_64 | OK | OK | OK | |||||||||
| palomino3 | Windows Server 2022 Datacenter / x64 | OK | OK | OK | OK | |||||||||
| merida1 | macOS 12.6.4 Monterey / x86_64 | OK | OK | OK | OK | |||||||||
| kjohnson2 | macOS 12.6.1 Monterey / arm64 | see weekly results here | ||||||||||||
| 
To the developers/maintainers of the recoup package: - Allow up to 24 hours (and sometimes 48 hours) for your latest push to git@git.bioconductor.org:packages/recoup.git to reflect on this report. See Troubleshooting Build Report for more information. - Use the following Renviron settings to reproduce errors and warnings. - If 'R CMD check' started to fail recently on the Linux builder(s) over a missing dependency, add the missing dependency to 'Suggests:' in your DESCRIPTION file. See Renviron.bioc for more information.  | 
| Package: recoup | 
| Version: 1.28.0 | 
| Command: /home/biocbuild/bbs-3.17-bioc/R/bin/R CMD check --install=check:recoup.install-out.txt --library=/home/biocbuild/bbs-3.17-bioc/R/site-library --timings recoup_1.28.0.tar.gz | 
| StartedAt: 2023-10-16 00:18:37 -0400 (Mon, 16 Oct 2023) | 
| EndedAt: 2023-10-16 00:25:26 -0400 (Mon, 16 Oct 2023) | 
| EllapsedTime: 408.4 seconds | 
| RetCode: 0 | 
| Status: OK | 
| CheckDir: recoup.Rcheck | 
| Warnings: 0 | 
##############################################################################
##############################################################################
###
### Running command:
###
###   /home/biocbuild/bbs-3.17-bioc/R/bin/R CMD check --install=check:recoup.install-out.txt --library=/home/biocbuild/bbs-3.17-bioc/R/site-library --timings recoup_1.28.0.tar.gz
###
##############################################################################
##############################################################################
* using log directory ‘/home/biocbuild/bbs-3.17-bioc/meat/recoup.Rcheck’
* using R version 4.3.1 (2023-06-16)
* using platform: x86_64-pc-linux-gnu (64-bit)
* R was compiled by
    gcc (Ubuntu 11.3.0-1ubuntu1~22.04.1) 11.3.0
    GNU Fortran (Ubuntu 11.3.0-1ubuntu1~22.04.1) 11.3.0
* running under: Ubuntu 22.04.3 LTS
* using session charset: UTF-8
* checking for file ‘recoup/DESCRIPTION’ ... OK
* checking extension type ... Package
* this is package ‘recoup’ version ‘1.28.0’
* package encoding: UTF-8
* checking package namespace information ... OK
* checking package dependencies ... OK
* checking if this is a source package ... OK
* checking if there is a namespace ... OK
* checking for hidden files and directories ... OK
* checking for portable file names ... OK
* checking for sufficient/correct file permissions ... OK
* checking whether package ‘recoup’ can be installed ... OK
* checking installed package size ... OK
* checking package directory ... OK
* checking ‘build’ directory ... OK
* checking DESCRIPTION meta-information ... OK
* checking top-level files ... OK
* checking for left-over files ... OK
* checking index information ... OK
* checking package subdirectories ... OK
* checking R files for non-ASCII characters ... OK
* checking R files for syntax errors ... OK
* checking whether the package can be loaded ... OK
* checking whether the package can be loaded with stated dependencies ... OK
* checking whether the package can be unloaded cleanly ... OK
* checking whether the namespace can be loaded with stated dependencies ... OK
* checking whether the namespace can be unloaded cleanly ... OK
* checking loading without being on the library search path ... OK
* checking dependencies in R code ... NOTE
Unexported objects imported by ':::' calls:
  ‘GenomicFeatures:::GFF_FEATURE_TYPES’ ‘biomaRt:::.generateFilterXML’
  ‘biomaRt:::.setResultColNames’ ‘biomaRt:::martCheck’
  ‘biomaRt:::martDataset’ ‘biomaRt:::martHost’ ‘biomaRt:::martVSchema’
  See the note in ?`:::` about the use of this operator.
There are ::: calls to the package's namespace in its code. A package
  almost never needs to use ::: for its own objects:
  ‘makeHorizontalAnnotation’
* checking S3 generic/method consistency ... OK
* checking replacement functions ... OK
* checking foreign function calls ... OK
* checking R code for possible problems ... NOTE
readBamIntervals: no visible binding for global variable ‘bam.file’
recoupCorrelation: no visible binding for global variable ‘Index’
recoupCorrelation: no visible binding for global variable ‘Coverage’
recoupCorrelation: no visible binding for global variable ‘Condition’
recoupCorrelation: no visible binding for global variable ‘Design’
recoupHeatmap : <anonymous>: no visible global function definition for
  ‘grid.text’
recoupProfile: no visible binding for global variable ‘Signal’
recoupProfile: no visible binding for global variable ‘Condition’
recoupProfile: no visible binding for global variable ‘Design’
Undefined global functions or variables:
  Condition Coverage Design Index Signal bam.file grid.text
* checking Rd files ... OK
* checking Rd metadata ... OK
* checking Rd cross-references ... OK
* checking for missing documentation entries ... OK
* checking for code/documentation mismatches ... OK
* checking Rd \usage sections ... OK
* checking Rd contents ... OK
* checking for unstated dependencies in examples ... OK
* checking contents of ‘data’ directory ... OK
* checking data for non-ASCII characters ... OK
* checking LazyData ... OK
* checking data for ASCII and uncompressed saves ... OK
* checking files in ‘vignettes’ ... OK
* checking examples ... OK
Examples with CPU (user + system) or elapsed time > 5s
                    user system elapsed
mergeRuns         18.980  8.966  20.013
profileMatrix     10.269  6.847   8.333
recoup             7.679  4.595   7.921
sliceObj           7.153  4.993   7.611
recoupPlot         7.593  4.026   7.729
simpleGetSet       7.061  4.301   7.121
kmeansDesign       7.168  3.793   7.196
recoupCorrelation  5.173  2.025   6.542
recoupProfile      5.224  1.913   6.374
recoupHeatmap      5.129  1.825   6.172
getAnnotation      1.071  0.072   5.229
* checking for unstated dependencies in ‘tests’ ... OK
* checking tests ...
  Running ‘runTests.R’
 OK
* checking for unstated dependencies in vignettes ... OK
* checking package vignettes in ‘inst/doc’ ... OK
* checking running R code from vignettes ...
  ‘recoup_intro.Rmd’ using ‘UTF-8’... OK
 NONE
* checking re-building of vignette outputs ... OK
* checking PDF version of manual ... OK
* DONE
Status: 2 NOTEs
See
  ‘/home/biocbuild/bbs-3.17-bioc/meat/recoup.Rcheck/00check.log’
for details.
recoup.Rcheck/00install.out
############################################################################## ############################################################################## ### ### Running command: ### ### /home/biocbuild/bbs-3.17-bioc/R/bin/R CMD INSTALL recoup ### ############################################################################## ############################################################################## * installing to library ‘/home/biocbuild/bbs-3.17-bioc/R/site-library’ * installing *source* package ‘recoup’ ... ** using staged installation ** R ** data *** moving datasets to lazyload DB ** inst ** byte-compile and prepare package for lazy loading ** help *** installing help indices ** building package indices ** installing vignettes ** testing if installed package can be loaded from temporary location ** testing if installed package can be loaded from final location ** testing if installed package keeps a record of temporary installation path * DONE (recoup)
recoup.Rcheck/tests/runTests.Rout
R version 4.3.1 (2023-06-16) -- "Beagle Scouts"
Copyright (C) 2023 The R Foundation for Statistical Computing
Platform: x86_64-pc-linux-gnu (64-bit)
R is free software and comes with ABSOLUTELY NO WARRANTY.
You are welcome to redistribute it under certain conditions.
Type 'license()' or 'licence()' for distribution details.
R is a collaborative project with many contributors.
Type 'contributors()' for more information and
'citation()' on how to cite R or R packages in publications.
Type 'demo()' for some demos, 'help()' for on-line help, or
'help.start()' for an HTML browser interface to help.
Type 'q()' to quit R.
> BiocGenerics:::testPackage("recoup")
Attaching package: 'BiocGenerics'
The following objects are masked from 'package:stats':
    IQR, mad, sd, var, xtabs
The following objects are masked from 'package:base':
    Filter, Find, Map, Position, Reduce, anyDuplicated, aperm, append,
    as.data.frame, basename, cbind, colnames, dirname, do.call,
    duplicated, eval, evalq, get, grep, grepl, intersect, is.unsorted,
    lapply, mapply, match, mget, order, paste, pmax, pmax.int, pmin,
    pmin.int, rank, rbind, rownames, sapply, setdiff, sort, table,
    tapply, union, unique, unsplit, which.max, which.min
Attaching package: 'S4Vectors'
The following object is masked from 'package:utils':
    findMatches
The following objects are masked from 'package:base':
    I, expand.grid, unname
Attaching package: 'MatrixGenerics'
The following objects are masked from 'package:matrixStats':
    colAlls, colAnyNAs, colAnys, colAvgsPerRowSet, colCollapse,
    colCounts, colCummaxs, colCummins, colCumprods, colCumsums,
    colDiffs, colIQRDiffs, colIQRs, colLogSumExps, colMadDiffs,
    colMads, colMaxs, colMeans2, colMedians, colMins, colOrderStats,
    colProds, colQuantiles, colRanges, colRanks, colSdDiffs, colSds,
    colSums2, colTabulates, colVarDiffs, colVars, colWeightedMads,
    colWeightedMeans, colWeightedMedians, colWeightedSds,
    colWeightedVars, rowAlls, rowAnyNAs, rowAnys, rowAvgsPerColSet,
    rowCollapse, rowCounts, rowCummaxs, rowCummins, rowCumprods,
    rowCumsums, rowDiffs, rowIQRDiffs, rowIQRs, rowLogSumExps,
    rowMadDiffs, rowMads, rowMaxs, rowMeans2, rowMedians, rowMins,
    rowOrderStats, rowProds, rowQuantiles, rowRanges, rowRanks,
    rowSdDiffs, rowSds, rowSums2, rowTabulates, rowVarDiffs, rowVars,
    rowWeightedMads, rowWeightedMeans, rowWeightedMedians,
    rowWeightedSds, rowWeightedVars
Welcome to Bioconductor
    Vignettes contain introductory material; view with
    'browseVignettes()'. To cite Bioconductor, see
    'citation("Biobase")', and for packages 'citation("pkgname")'.
Attaching package: 'Biobase'
The following object is masked from 'package:MatrixGenerics':
    rowMedians
The following objects are masked from 'package:matrixStats':
    anyMissing, rowMedians
Attaching package: 'Biostrings'
The following object is masked from 'package:base':
    strsplit
Attaching package: 'grid'
The following object is masked from 'package:Biostrings':
    pattern
========================================
ComplexHeatmap version 2.16.0
Bioconductor page: http://bioconductor.org/packages/ComplexHeatmap/
Github page: https://github.com/jokergoo/ComplexHeatmap
Documentation: http://jokergoo.github.io/ComplexHeatmap-reference
If you use it in published research, please cite either one:
- Gu, Z. Complex Heatmap Visualization. iMeta 2022.
- Gu, Z. Complex heatmaps reveal patterns and correlations in multidimensional 
    genomic data. Bioinformatics 2016.
The new InteractiveComplexHeatmap package can directly export static 
complex heatmaps into an interactive Shiny app with zero effort. Have a try!
This message can be suppressed by:
  suppressPackageStartupMessages(library(ComplexHeatmap))
========================================
Getting main ranges for measurements
  measurement type: chipseq
  genomic region type: tss
Calculating requested regions coverage for WT H4K20me1
  calculating total coverage
  processing chr12
Calculating requested regions coverage for Set8KO H4K20me1
  calculating total coverage
  processing chr12
Calculating profile for WT H4K20me1
Calculating profile for Set8KO H4K20me1
Constructing genomic coverage profile curve(s)
The resolution of the requested profiles will be lowered to avoid
increased computation time and/or storage space for heatmap profiles...
Calculating tss profile for WT H4K20me1
Calculating tss profile for Set8KO H4K20me1
Constructing genomic coverage heatmap(s)
Constructing coverage correlation profile curve(s)
dev.new(): using pdf(file="Rplots1.pdf")
dev.new(): using pdf(file="Rplots2.pdf")
Getting main ranges for measurements
  measurement type: chipseq
  genomic region type: genebody
Calculating requested regions coverage for WT H4K20me1
  calculating total coverage
  processing chr12
Calculating requested regions coverage for Set8KO H4K20me1
  calculating total coverage
  processing chr12
Calculating profile for WT H4K20me1
 center
 upstream
 downstream
Calculating profile for Set8KO H4K20me1
 center
 upstream
 downstream
Constructing genomic coverage profile curve(s)
Using provided design to facet the coverage profiles
Constructing genomic coverage heatmap(s)
Using provided design to facet the coverage profiles
Constructing coverage correlation profile curve(s)
Using provided design to facet the coverage profiles
dev.new(): using pdf(file="Rplots3.pdf")
dev.new(): using pdf(file="Rplots4.pdf")
dev.new(): using pdf(file="Rplots5.pdf")
RUNIT TEST PROTOCOL -- Mon Oct 16 00:25:06 2023 
*********************************************** 
Number of test functions: 1 
Number of errors: 0 
Number of failures: 0 
 
1 Test Suite : 
recoup RUnit Tests - 1 test function, 0 errors, 0 failures
Number of test functions: 1 
Number of errors: 0 
Number of failures: 0 
> 
> proc.time()
   user  system elapsed 
 34.869  14.565  34.742 
recoup.Rcheck/recoup-Ex.timings
| name | user | system | elapsed | |
| buildAnnotationDatabase | 0 | 0 | 0 | |
| buildAnnotationStore | 0 | 0 | 0 | |
| buildCustomAnnotation | 3.204 | 0.152 | 3.356 | |
| calcCoverage | 2.268 | 0.072 | 2.356 | |
| coverageRef | 4.480 | 0.398 | 4.916 | |
| coverageRnaRef | 0.001 | 0.000 | 0.000 | |
| getAnnotation | 1.071 | 0.072 | 5.229 | |
| getBiotypes | 0.000 | 0.000 | 0.001 | |
| getInstalledAnnotations | 0.001 | 0.000 | 0.001 | |
| importCustomAnnotation | 0.703 | 0.076 | 0.779 | |
| kmeansDesign | 7.168 | 3.793 | 7.196 | |
| loadAnnotation | 0.001 | 0.000 | 0.001 | |
| mergeRuns | 18.980 | 8.966 | 20.013 | |
| preprocessRanges | 0.211 | 0.024 | 0.260 | |
| profileMatrix | 10.269 | 6.847 | 8.333 | |
| recoup | 7.679 | 4.595 | 7.921 | |
| recoupCorrelation | 5.173 | 2.025 | 6.542 | |
| recoupHeatmap | 5.129 | 1.825 | 6.172 | |
| recoupPlot | 7.593 | 4.026 | 7.729 | |
| recoupProfile | 5.224 | 1.913 | 6.374 | |
| removeData | 0.016 | 0.000 | 0.017 | |
| rpMatrix | 0.580 | 0.083 | 0.662 | |
| simpleGetSet | 7.061 | 4.301 | 7.121 | |
| sliceObj | 7.153 | 4.993 | 7.611 | |