| Back to Multiple platform build/check report for BioC 3.17: simplified long | 
  | 
This page was generated on 2023-10-16 11:37:24 -0400 (Mon, 16 Oct 2023).
| Hostname | OS | Arch (*) | R version | Installed pkgs | 
|---|---|---|---|---|
| nebbiolo1 | Linux (Ubuntu 22.04.2 LTS) | x86_64 | 4.3.1 (2023-06-16) -- "Beagle Scouts" | 4626 | 
| palomino3 | Windows Server 2022 Datacenter | x64 | 4.3.1 (2023-06-16 ucrt) -- "Beagle Scouts" | 4379 | 
| merida1 | macOS 12.6.4 Monterey | x86_64 | 4.3.1 (2023-06-16) -- "Beagle Scouts" | 4395 | 
| Click on any hostname to see more info about the system (e.g. compilers) (*) as reported by 'uname -p', except on Windows and Mac OS X | ||||
| Package 1593/2230 | Hostname | OS / Arch | INSTALL | BUILD | CHECK | BUILD BIN | ||||||||
| qckitfastq 1.16.0  (landing page) August Guang 
  | nebbiolo1 | Linux (Ubuntu 22.04.2 LTS) / x86_64 | OK | OK | OK | |||||||||
| palomino3 | Windows Server 2022 Datacenter / x64 | OK | ERROR | skipped | skipped | |||||||||
| merida1 | macOS 12.6.4 Monterey / x86_64 | OK | OK | OK | OK | |||||||||
| kjohnson2 | macOS 12.6.1 Monterey / arm64 | see weekly results here | ||||||||||||
| 
To the developers/maintainers of the qckitfastq package: - Allow up to 24 hours (and sometimes 48 hours) for your latest push to git@git.bioconductor.org:packages/qckitfastq.git to reflect on this report. See Troubleshooting Build Report for more information. - Use the following Renviron settings to reproduce errors and warnings. - If 'R CMD check' started to fail recently on the Linux builder(s) over a missing dependency, add the missing dependency to 'Suggests:' in your DESCRIPTION file. See Renviron.bioc for more information.  | 
| Package: qckitfastq | 
| Version: 1.16.0 | 
| Command: /Library/Frameworks/R.framework/Resources/bin/R CMD check --install=check:qckitfastq.install-out.txt --library=/Library/Frameworks/R.framework/Resources/library --no-vignettes --timings qckitfastq_1.16.0.tar.gz | 
| StartedAt: 2023-10-16 05:38:26 -0400 (Mon, 16 Oct 2023) | 
| EndedAt: 2023-10-16 05:41:28 -0400 (Mon, 16 Oct 2023) | 
| EllapsedTime: 182.1 seconds | 
| RetCode: 0 | 
| Status: OK | 
| CheckDir: qckitfastq.Rcheck | 
| Warnings: 0 | 
##############################################################################
##############################################################################
###
### Running command:
###
###   /Library/Frameworks/R.framework/Resources/bin/R CMD check --install=check:qckitfastq.install-out.txt --library=/Library/Frameworks/R.framework/Resources/library --no-vignettes --timings qckitfastq_1.16.0.tar.gz
###
##############################################################################
##############################################################################
* using log directory ‘/Users/biocbuild/bbs-3.17-bioc/meat/qckitfastq.Rcheck’
* using R version 4.3.1 (2023-06-16)
* using platform: x86_64-apple-darwin20 (64-bit)
* R was compiled by
    Apple clang version 14.0.3 (clang-1403.0.22.14.1)
    GNU Fortran (GCC) 12.2.0
* running under: macOS Monterey 12.6.4
* using session charset: UTF-8
* using option ‘--no-vignettes’
* checking for file ‘qckitfastq/DESCRIPTION’ ... OK
* checking extension type ... Package
* this is package ‘qckitfastq’ version ‘1.16.0’
* package encoding: UTF-8
* checking package namespace information ... OK
* checking package dependencies ... OK
* checking if this is a source package ... OK
* checking if there is a namespace ... OK
* checking for hidden files and directories ... OK
* checking for portable file names ... OK
* checking for sufficient/correct file permissions ... OK
* checking whether package ‘qckitfastq’ can be installed ... OK
* used C++ compiler: ‘Apple clang version 14.0.0 (clang-1400.0.29.202)’
* used SDK: ‘MacOSX11.3.sdk’
* checking C++ specification ... NOTE
  Specified C++14: please drop specification unless essential
* checking installed package size ... OK
* checking package directory ... OK
* checking ‘build’ directory ... OK
* checking DESCRIPTION meta-information ... OK
* checking top-level files ... OK
* checking for left-over files ... OK
* checking index information ... OK
* checking package subdirectories ... OK
* checking R files for non-ASCII characters ... OK
* checking R files for syntax errors ... OK
* checking whether the package can be loaded ... OK
* checking whether the package can be loaded with stated dependencies ... OK
* checking whether the package can be unloaded cleanly ... OK
* checking whether the namespace can be loaded with stated dependencies ... OK
* checking whether the namespace can be unloaded cleanly ... OK
* checking dependencies in R code ... OK
* checking S3 generic/method consistency ... OK
* checking replacement functions ... OK
* checking foreign function calls ... OK
* checking R code for possible problems ... OK
* checking Rd files ... OK
* checking Rd metadata ... OK
* checking Rd cross-references ... OK
* checking for missing documentation entries ... OK
* checking for code/documentation mismatches ... OK
* checking Rd \usage sections ... OK
* checking Rd contents ... OK
* checking for unstated dependencies in examples ... OK
* checking line endings in C/C++/Fortran sources/headers ... OK
* checking line endings in Makefiles ... OK
* checking compilation flags in Makevars ... OK
* checking for GNU extensions in Makefiles ... OK
* checking for portable use of $(BLAS_LIBS) and $(LAPACK_LIBS) ... OK
* checking use of PKG_*FLAGS in Makefiles ... OK
* checking compiled code ... NOTE
Note: information on .o files is not available
* checking sizes of PDF files under ‘inst/doc’ ... OK
* checking files in ‘vignettes’ ... OK
* checking examples ... OK
Examples with CPU (user + system) or elapsed time > 5s
          user system elapsed
run_all 23.014  2.377  32.352
* checking for unstated dependencies in ‘tests’ ... OK
* checking tests ...
  Running ‘testthat.R’
 OK
* checking for unstated dependencies in vignettes ... OK
* checking package vignettes in ‘inst/doc’ ... OK
* checking running R code from vignettes ... SKIPPED
* checking re-building of vignette outputs ... SKIPPED
* checking PDF version of manual ... OK
* DONE
Status: 2 NOTEs
See
  ‘/Users/biocbuild/bbs-3.17-bioc/meat/qckitfastq.Rcheck/00check.log’
for details.
qckitfastq.Rcheck/00install.out
##############################################################################
##############################################################################
###
### Running command:
###
###   /Library/Frameworks/R.framework/Resources/bin/R CMD INSTALL qckitfastq
###
##############################################################################
##############################################################################
* installing to library ‘/Library/Frameworks/R.framework/Versions/4.3-x86_64/Resources/library’
* installing *source* package ‘qckitfastq’ ...
** using staged installation
** libs
using C++ compiler: ‘Apple clang version 14.0.0 (clang-1400.0.29.202)’
using C++14
using SDK: ‘MacOSX11.3.sdk’
clang++ -arch x86_64 -std=gnu++14 -I"/Library/Frameworks/R.framework/Resources/include" -DNDEBUG  -I'/Library/Frameworks/R.framework/Versions/4.3-x86_64/Resources/library/Rcpp/include' -I'/Library/Frameworks/R.framework/Versions/4.3-x86_64/Resources/library/RSeqAn/include' -I/opt/R/x86_64/include    -fPIC  -falign-functions=64 -Wall -g -O2  -c RcppExports.cpp -o RcppExports.o
clang++ -arch x86_64 -std=gnu++14 -I"/Library/Frameworks/R.framework/Resources/include" -DNDEBUG  -I'/Library/Frameworks/R.framework/Versions/4.3-x86_64/Resources/library/Rcpp/include' -I'/Library/Frameworks/R.framework/Versions/4.3-x86_64/Resources/library/RSeqAn/include' -I/opt/R/x86_64/include    -fPIC  -falign-functions=64 -Wall -g -O2  -c calc_adapter_content.cpp -o calc_adapter_content.o
clang++ -arch x86_64 -std=gnu++14 -I"/Library/Frameworks/R.framework/Resources/include" -DNDEBUG  -I'/Library/Frameworks/R.framework/Versions/4.3-x86_64/Resources/library/Rcpp/include' -I'/Library/Frameworks/R.framework/Versions/4.3-x86_64/Resources/library/RSeqAn/include' -I/opt/R/x86_64/include    -fPIC  -falign-functions=64 -Wall -g -O2  -c gzstream.cpp -o gzstream.o
clang++ -arch x86_64 -std=gnu++14 -I"/Library/Frameworks/R.framework/Resources/include" -DNDEBUG  -I'/Library/Frameworks/R.framework/Versions/4.3-x86_64/Resources/library/Rcpp/include' -I'/Library/Frameworks/R.framework/Versions/4.3-x86_64/Resources/library/RSeqAn/include' -I/opt/R/x86_64/include    -fPIC  -falign-functions=64 -Wall -g -O2  -c read_fastq.cpp -o read_fastq.o
read_fastq.cpp:30:32: warning: unused variable 'it' [-Wunused-variable]
    std::vector<int>::iterator it;
                               ^
read_fastq.cpp:158:36: warning: unused variable 'qual_by_col_it' [-Wunused-variable]
    std::vector<uint8_t>::iterator qual_by_col_it;
                                   ^
2 warnings generated.
clang++ -arch x86_64 -std=gnu++14 -dynamiclib -Wl,-headerpad_max_install_names -undefined dynamic_lookup -single_module -multiply_defined suppress -L/Library/Frameworks/R.framework/Resources/lib -L/opt/R/x86_64/lib -o qckitfastq.so RcppExports.o calc_adapter_content.o gzstream.o read_fastq.o -lz -F/Library/Frameworks/R.framework/.. -framework R -Wl,-framework -Wl,CoreFoundation
installing to /Library/Frameworks/R.framework/Versions/4.3-x86_64/Resources/library/00LOCK-qckitfastq/00new/qckitfastq/libs
** R
** inst
** byte-compile and prepare package for lazy loading
** help
*** installing help indices
** building package indices
** installing vignettes
** testing if installed package can be loaded from temporary location
** checking absolute paths in shared objects and dynamic libraries
** testing if installed package can be loaded from final location
** testing if installed package keeps a record of temporary installation path
* DONE (qckitfastq)
qckitfastq.Rcheck/tests/testthat.Rout
R version 4.3.1 (2023-06-16) -- "Beagle Scouts"
Copyright (C) 2023 The R Foundation for Statistical Computing
Platform: x86_64-apple-darwin20 (64-bit)
R is free software and comes with ABSOLUTELY NO WARRANTY.
You are welcome to redistribute it under certain conditions.
Type 'license()' or 'licence()' for distribution details.
R is a collaborative project with many contributors.
Type 'contributors()' for more information and
'citation()' on how to cite R or R packages in publications.
Type 'demo()' for some demos, 'help()' for on-line help, or
'help.start()' for an HTML browser interface to help.
Type 'q()' to quit R.
> library(testthat)
> library(qckitfastq)
> 
> test_check("qckitfastq")
[fastqq] File ( 1/1) '/Library/Frameworks/R.framework/Versions/4.3-x86_64/Resources/library/qckitfastq/extdata/10^5_reads_test.fq.gz'	done.
[fastq_Klocs] File ( 1/1) '/Library/Frameworks/R.framework/Versions/4.3-x86_64/Resources/library/qckitfastq/extdata/10^5_reads_test.fq.gz' 	done.
[fastqq] File ( 1/1) '/Library/Frameworks/R.framework/Versions/4.3-x86_64/Resources/library/qckitfastq/extdata/10^5_reads_test.fq.gz'	done.
[fastqq] File ( 1/1) '/Library/Frameworks/R.framework/Versions/4.3-x86_64/Resources/library/qckitfastq/extdata/10^5_reads_test.fq.gz'	done.
2023-10-16 05:40:25.927 R[85210:975916773] XType: com.apple.fonts is not accessible.
2023-10-16 05:40:25.929 R[85210:975916773] XType: XTFontStaticRegistry is enabled.
[fastq_Klocs] File ( 1/1) '/Library/Frameworks/R.framework/Versions/4.3-x86_64/Resources/library/qckitfastq/extdata/10^5_reads_test.fq.gz' 	done.
[fastqq] File ( 1/1) '/Library/Frameworks/R.framework/Versions/4.3-x86_64/Resources/library/qckitfastq/extdata/10^5_reads_test.fq.gz'	done.
[fastq_Klocs] File ( 1/1) '/Library/Frameworks/R.framework/Versions/4.3-x86_64/Resources/library/qckitfastq/extdata/10^5_reads_test.fq.gz' 	done.
[ FAIL 0 | WARN 4 | SKIP 0 | PASS 37 ]
[ FAIL 0 | WARN 4 | SKIP 0 | PASS 37 ]
> 
> proc.time()
   user  system elapsed 
 36.618   2.904  49.609 
qckitfastq.Rcheck/qckitfastq-Ex.timings
| name | user | system | elapsed | |
| GC_content | 0.287 | 0.007 | 0.379 | |
| adapter_content | 0.006 | 0.003 | 0.014 | |
| calc_adapter_content | 0.004 | 0.003 | 0.009 | |
| calc_format_score | 0.000 | 0.001 | 0.001 | |
| calc_over_rep_seq | 0.167 | 0.008 | 0.223 | |
| dimensions | 0.196 | 0.008 | 0.258 | |
| find_format | 0.002 | 0.001 | 0.004 | |
| gc_per_read | 0.276 | 0.004 | 0.352 | |
| kmer_count | 0.084 | 0.006 | 0.109 | |
| overrep_kmer | 0.637 | 0.026 | 0.837 | |
| overrep_reads | 0.170 | 0.004 | 0.222 | |
| per_base_quality | 0.365 | 0.022 | 0.492 | |
| per_read_quality | 0.370 | 0.014 | 0.495 | |
| plot_GC_content | 0.916 | 0.021 | 1.177 | |
| plot_adapter_content | 0.415 | 0.035 | 0.720 | |
| plot_overrep_kmer | 1.150 | 0.022 | 1.482 | |
| plot_overrep_reads | 0.460 | 0.009 | 0.591 | |
| plot_per_base_quality | 2.466 | 0.025 | 3.132 | |
| plot_per_read_quality | 0.654 | 0.016 | 0.848 | |
| plot_read_content | 0.713 | 0.007 | 0.916 | |
| plot_read_length | 0.443 | 0.006 | 0.576 | |
| qual_score_per_read | 0.360 | 0.013 | 0.466 | |
| read_base_content | 0.101 | 0.003 | 0.127 | |
| read_content | 0.109 | 0.011 | 0.152 | |
| read_length | 0.004 | 0.001 | 0.005 | |
| run_all | 23.014 | 2.377 | 32.352 | |