| Back to Multiple platform build/check report for BioC 3.17: simplified long | 
  | 
This page was generated on 2023-10-16 11:35:37 -0400 (Mon, 16 Oct 2023).
| Hostname | OS | Arch (*) | R version | Installed pkgs | 
|---|---|---|---|---|
| nebbiolo1 | Linux (Ubuntu 22.04.2 LTS) | x86_64 | 4.3.1 (2023-06-16) -- "Beagle Scouts" | 4626 | 
| palomino3 | Windows Server 2022 Datacenter | x64 | 4.3.1 (2023-06-16 ucrt) -- "Beagle Scouts" | 4379 | 
| merida1 | macOS 12.6.4 Monterey | x86_64 | 4.3.1 (2023-06-16) -- "Beagle Scouts" | 4395 | 
| Click on any hostname to see more info about the system (e.g. compilers) (*) as reported by 'uname -p', except on Windows and Mac OS X | ||||
| Package 1532/2230 | Hostname | OS / Arch | INSTALL | BUILD | CHECK | BUILD BIN | ||||||||
| plotgardener 1.6.4  (landing page) Nicole Kramer 
  | nebbiolo1 | Linux (Ubuntu 22.04.2 LTS) / x86_64 | OK | OK | OK | |||||||||
| palomino3 | Windows Server 2022 Datacenter / x64 | OK | OK | OK | OK | |||||||||
| merida1 | macOS 12.6.4 Monterey / x86_64 | OK | OK | OK | OK | |||||||||
| kjohnson2 | macOS 12.6.1 Monterey / arm64 | see weekly results here | ||||||||||||
| 
To the developers/maintainers of the plotgardener package: - Allow up to 24 hours (and sometimes 48 hours) for your latest push to git@git.bioconductor.org:packages/plotgardener.git to reflect on this report. See Troubleshooting Build Report for more information. - Use the following Renviron settings to reproduce errors and warnings. - If 'R CMD check' started to fail recently on the Linux builder(s) over a missing dependency, add the missing dependency to 'Suggests:' in your DESCRIPTION file. See Renviron.bioc for more information.  | 
| Package: plotgardener | 
| Version: 1.6.4 | 
| Command: /home/biocbuild/bbs-3.17-bioc/R/bin/R CMD check --install=check:plotgardener.install-out.txt --library=/home/biocbuild/bbs-3.17-bioc/R/site-library --timings plotgardener_1.6.4.tar.gz | 
| StartedAt: 2023-10-15 23:56:01 -0400 (Sun, 15 Oct 2023) | 
| EndedAt: 2023-10-16 00:02:10 -0400 (Mon, 16 Oct 2023) | 
| EllapsedTime: 369.9 seconds | 
| RetCode: 0 | 
| Status: OK | 
| CheckDir: plotgardener.Rcheck | 
| Warnings: 0 | 
##############################################################################
##############################################################################
###
### Running command:
###
###   /home/biocbuild/bbs-3.17-bioc/R/bin/R CMD check --install=check:plotgardener.install-out.txt --library=/home/biocbuild/bbs-3.17-bioc/R/site-library --timings plotgardener_1.6.4.tar.gz
###
##############################################################################
##############################################################################
* using log directory ‘/home/biocbuild/bbs-3.17-bioc/meat/plotgardener.Rcheck’
* using R version 4.3.1 (2023-06-16)
* using platform: x86_64-pc-linux-gnu (64-bit)
* R was compiled by
    gcc (Ubuntu 11.3.0-1ubuntu1~22.04.1) 11.3.0
    GNU Fortran (Ubuntu 11.3.0-1ubuntu1~22.04.1) 11.3.0
* running under: Ubuntu 22.04.3 LTS
* using session charset: UTF-8
* checking for file ‘plotgardener/DESCRIPTION’ ... OK
* this is package ‘plotgardener’ version ‘1.6.4’
* package encoding: UTF-8
* checking package namespace information ... OK
* checking package dependencies ... OK
* checking if this is a source package ... OK
* checking if there is a namespace ... OK
* checking for hidden files and directories ... OK
* checking for portable file names ... OK
* checking for sufficient/correct file permissions ... OK
* checking whether package ‘plotgardener’ can be installed ... OK
* used C++ compiler: ‘g++ (Ubuntu 11.4.0-1ubuntu1~22.04) 11.4.0’
* checking installed package size ... OK
* checking package directory ... OK
* checking ‘build’ directory ... OK
* checking DESCRIPTION meta-information ... OK
* checking top-level files ... OK
* checking for left-over files ... OK
* checking index information ... OK
* checking package subdirectories ... OK
* checking R files for non-ASCII characters ... OK
* checking R files for syntax errors ... OK
* checking whether the package can be loaded ... OK
* checking whether the package can be loaded with stated dependencies ... OK
* checking whether the package can be unloaded cleanly ... OK
* checking whether the namespace can be loaded with stated dependencies ... OK
* checking whether the namespace can be unloaded cleanly ... OK
* checking loading without being on the library search path ... OK
* checking startup messages can be suppressed ... OK
* checking dependencies in R code ... OK
* checking S3 generic/method consistency ... OK
* checking replacement functions ... OK
* checking foreign function calls ... OK
* checking R code for possible problems ... OK
* checking Rd files ... OK
* checking Rd metadata ... OK
* checking Rd cross-references ... OK
* checking for missing documentation entries ... OK
* checking for code/documentation mismatches ... OK
* checking Rd \usage sections ... OK
* checking Rd contents ... OK
* checking for unstated dependencies in examples ... OK
* checking R/sysdata.rda ... OK
* checking line endings in C/C++/Fortran sources/headers ... OK
* checking compiled code ... NOTE
Note: information on .o files is not available
* checking files in ‘vignettes’ ... OK
* checking examples ... OK
Examples with CPU (user + system) or elapsed time > 5s
               user system elapsed
plotRaster   18.782  1.055  19.841
plotIdeogram  5.156  0.524   6.366
* checking for unstated dependencies in ‘tests’ ... OK
* checking tests ...
  Running ‘testthat.R’
 OK
* checking for unstated dependencies in vignettes ... OK
* checking package vignettes in ‘inst/doc’ ... OK
* checking running R code from vignettes ...
  ‘introduction_to_plotgardener.Rmd’ using ‘UTF-8’... OK
 NONE
* checking re-building of vignette outputs ... OK
* checking PDF version of manual ... OK
* DONE
Status: 1 NOTE
See
  ‘/home/biocbuild/bbs-3.17-bioc/meat/plotgardener.Rcheck/00check.log’
for details.
plotgardener.Rcheck/00install.out
############################################################################## ############################################################################## ### ### Running command: ### ### /home/biocbuild/bbs-3.17-bioc/R/bin/R CMD INSTALL plotgardener ### ############################################################################## ############################################################################## * installing to library ‘/home/biocbuild/bbs-3.17-bioc/R/site-library’ * installing *source* package ‘plotgardener’ ... ** using staged installation ** libs using C++ compiler: ‘g++ (Ubuntu 11.4.0-1ubuntu1~22.04) 11.4.0’ g++ -std=gnu++17 -I"/home/biocbuild/bbs-3.17-bioc/R/include" -DNDEBUG -I'/home/biocbuild/bbs-3.17-bioc/R/site-library/Rcpp/include' -I/usr/local/include -fpic -g -O2 -Wall -c RcppExports.cpp -o RcppExports.o g++ -std=gnu++17 -I"/home/biocbuild/bbs-3.17-bioc/R/include" -DNDEBUG -I'/home/biocbuild/bbs-3.17-bioc/R/site-library/Rcpp/include' -I/usr/local/include -fpic -g -O2 -Wall -c checkRow.cpp -o checkRow.o g++ -std=gnu++17 -I"/home/biocbuild/bbs-3.17-bioc/R/include" -DNDEBUG -I'/home/biocbuild/bbs-3.17-bioc/R/site-library/Rcpp/include' -I/usr/local/include -fpic -g -O2 -Wall -c rebinBigwig.cpp -o rebinBigwig.o g++ -std=gnu++17 -shared -L/home/biocbuild/bbs-3.17-bioc/R/lib -L/usr/local/lib -o plotgardener.so RcppExports.o checkRow.o rebinBigwig.o -L/home/biocbuild/bbs-3.17-bioc/R/lib -lR installing to /home/biocbuild/bbs-3.17-bioc/R/site-library/00LOCK-plotgardener/00new/plotgardener/libs ** R ** inst ** byte-compile and prepare package for lazy loading ** help *** installing help indices *** copying figures ** building package indices ** installing vignettes ** testing if installed package can be loaded from temporary location ** checking absolute paths in shared objects and dynamic libraries ** testing if installed package can be loaded from final location ** testing if installed package keeps a record of temporary installation path * DONE (plotgardener)
plotgardener.Rcheck/tests/testthat.Rout
R version 4.3.1 (2023-06-16) -- "Beagle Scouts"
Copyright (C) 2023 The R Foundation for Statistical Computing
Platform: x86_64-pc-linux-gnu (64-bit)
R is free software and comes with ABSOLUTELY NO WARRANTY.
You are welcome to redistribute it under certain conditions.
Type 'license()' or 'licence()' for distribution details.
R is a collaborative project with many contributors.
Type 'contributors()' for more information and
'citation()' on how to cite R or R packages in publications.
Type 'demo()' for some demos, 'help()' for on-line help, or
'help.start()' for an HTML browser interface to help.
Type 'q()' to quit R.
> library(testthat)
> library(plotgardener)
Attaching package: 'plotgardener'
The following object is masked from 'package:base':
    c
> 
> test_check("plotgardener")
Loading required package: GenomicFeatures
Loading required package: BiocGenerics
Attaching package: 'BiocGenerics'
The following objects are masked from 'package:stats':
    IQR, mad, sd, var, xtabs
The following objects are masked from 'package:base':
    Filter, Find, Map, Position, Reduce, anyDuplicated, aperm, append,
    as.data.frame, basename, cbind, colnames, dirname, do.call,
    duplicated, eval, evalq, get, grep, grepl, intersect, is.unsorted,
    lapply, mapply, match, mget, order, paste, pmax, pmax.int, pmin,
    pmin.int, rank, rbind, rownames, sapply, setdiff, sort, table,
    tapply, union, unique, unsplit, which.max, which.min
Loading required package: S4Vectors
Loading required package: stats4
Attaching package: 'S4Vectors'
The following object is masked from 'package:utils':
    findMatches
The following objects are masked from 'package:base':
    I, expand.grid, unname
Loading required package: IRanges
Loading required package: GenomeInfoDb
Loading required package: GenomicRanges
Loading required package: AnnotationDbi
Loading required package: Biobase
Welcome to Bioconductor
    Vignettes contain introductory material; view with
    'browseVignettes()'. To cite Bioconductor, see
    'citation("Biobase")', and for packages 'citation("pkgname")'.
Using poppler version 22.02.0
Loading required package: BiocFileCache
Loading required package: dbplyr
Attaching package: 'AnnotationHub'
The following object is masked from 'package:Biobase':
    cache
pairs[pairs1]
arches[arches1]
ranges[ranges1]
transcripts[transcripts1]
start, endLoading required package: SummarizedExperiment
Loading required package: MatrixGenerics
Loading required package: matrixStats
Attaching package: 'matrixStats'
The following objects are masked from 'package:Biobase':
    anyMissing, rowMedians
Attaching package: 'MatrixGenerics'
The following objects are masked from 'package:matrixStats':
    colAlls, colAnyNAs, colAnys, colAvgsPerRowSet, colCollapse,
    colCounts, colCummaxs, colCummins, colCumprods, colCumsums,
    colDiffs, colIQRDiffs, colIQRs, colLogSumExps, colMadDiffs,
    colMads, colMaxs, colMeans2, colMedians, colMins, colOrderStats,
    colProds, colQuantiles, colRanges, colRanks, colSdDiffs, colSds,
    colSums2, colTabulates, colVarDiffs, colVars, colWeightedMads,
    colWeightedMeans, colWeightedMedians, colWeightedSds,
    colWeightedVars, rowAlls, rowAnyNAs, rowAnys, rowAvgsPerColSet,
    rowCollapse, rowCounts, rowCummaxs, rowCummins, rowCumprods,
    rowCumsums, rowDiffs, rowIQRDiffs, rowIQRs, rowLogSumExps,
    rowMadDiffs, rowMads, rowMaxs, rowMeans2, rowMedians, rowMins,
    rowOrderStats, rowProds, rowQuantiles, rowRanges, rowRanks,
    rowSdDiffs, rowSds, rowSums2, rowTabulates, rowVarDiffs, rowVars,
    rowWeightedMads, rowWeightedMeans, rowWeightedMedians,
    rowWeightedSds, rowWeightedVars
The following object is masked from 'package:Biobase':
    rowMedians
Read in hic file with KR normalization at 1e+05 BP resolution.
signal[signal1_h]
signal[signal1_h]
[ FAIL 0 | WARN 0 | SKIP 0 | PASS 118 ]
> 
> proc.time()
   user  system elapsed 
 42.933   2.894  46.269 
plotgardener.Rcheck/plotgardener-Ex.timings
| name | user | system | elapsed | |
| annoDomains | 1.556 | 0.040 | 1.597 | |
| annoGenomeLabel | 3.747 | 0.269 | 4.016 | |
| annoHeatmapLegend | 0.608 | 0.016 | 0.624 | |
| annoHighlight | 0.789 | 0.040 | 0.831 | |
| annoPixels | 0.902 | 0.024 | 0.928 | |
| annoSegments | 1.823 | 0.044 | 1.869 | |
| annoText | 0.861 | 0.016 | 0.877 | |
| annoXaxis | 1.330 | 0.044 | 1.374 | |
| annoYaxis | 0.649 | 0.028 | 0.677 | |
| annoZoomLines | 2.574 | 0.052 | 2.627 | |
| assembly | 0.000 | 0.000 | 0.001 | |
| c | 0.000 | 0.000 | 0.001 | |
| calcSignalRange | 1.216 | 0.120 | 1.339 | |
| colorby | 0.522 | 0.008 | 0.530 | |
| defaultPackages | 0.01 | 0.00 | 0.01 | |
| genomes | 0 | 0 | 0 | |
| mapColors | 0.079 | 0.000 | 0.079 | |
| pageCreate | 0.042 | 0.000 | 0.042 | |
| pageGuideHide | 0.034 | 0.000 | 0.034 | |
| pageGuideHorizontal | 0.031 | 0.000 | 0.031 | |
| pageGuideShow | 0.843 | 0.012 | 0.855 | |
| pageGuideVertical | 0.093 | 0.000 | 0.094 | |
| pageLayoutCol | 0.001 | 0.000 | 0.001 | |
| pageLayoutRow | 0 | 0 | 0 | |
| pagePlotPlace | 0.619 | 0.012 | 0.631 | |
| pagePlotRemove | 1.321 | 0.076 | 1.397 | |
| pgParams | 1.184 | 0.052 | 1.236 | |
| plotCircle | 0.026 | 0.004 | 0.030 | |
| plotGG | 0.237 | 0.000 | 0.237 | |
| plotGenes | 3.741 | 0.116 | 3.857 | |
| plotGenomeLabel | 1.716 | 0.056 | 1.772 | |
| plotHicRectangle | 0.558 | 0.004 | 0.561 | |
| plotHicSquare | 0.787 | 0.036 | 0.823 | |
| plotHicTriangle | 1.275 | 0.040 | 1.315 | |
| plotIdeogram | 5.156 | 0.524 | 6.366 | |
| plotLegend | 0.294 | 0.000 | 0.295 | |
| plotManhattan | 1.856 | 0.023 | 1.880 | |
| plotMultiSignal | 1.728 | 0.029 | 1.756 | |
| plotPairs | 0.104 | 0.004 | 0.107 | |
| plotPairsArches | 0.112 | 0.000 | 0.112 | |
| plotPolygon | 0.046 | 0.000 | 0.047 | |
| plotRanges | 0.155 | 0.004 | 0.160 | |
| plotRaster | 18.782 | 1.055 | 19.841 | |
| plotRect | 0.461 | 0.024 | 0.484 | |
| plotSegments | 0.051 | 0.004 | 0.055 | |
| plotSignal | 0.751 | 0.036 | 0.786 | |
| plotText | 0.047 | 0.004 | 0.051 | |
| plotTranscripts | 0.845 | 0.020 | 0.864 | |
| readBigwig | 0.282 | 0.000 | 0.283 | |
| readHic | 0.009 | 0.000 | 0.009 | |