| Back to Multiple platform build/check report for BioC 3.17: simplified long | 
  | 
This page was generated on 2023-10-16 11:35:37 -0400 (Mon, 16 Oct 2023).
| Hostname | OS | Arch (*) | R version | Installed pkgs | 
|---|---|---|---|---|
| nebbiolo1 | Linux (Ubuntu 22.04.2 LTS) | x86_64 | 4.3.1 (2023-06-16) -- "Beagle Scouts" | 4626 | 
| palomino3 | Windows Server 2022 Datacenter | x64 | 4.3.1 (2023-06-16 ucrt) -- "Beagle Scouts" | 4379 | 
| merida1 | macOS 12.6.4 Monterey | x86_64 | 4.3.1 (2023-06-16) -- "Beagle Scouts" | 4395 | 
| Click on any hostname to see more info about the system (e.g. compilers) (*) as reported by 'uname -p', except on Windows and Mac OS X | ||||
| Package 1516/2230 | Hostname | OS / Arch | INSTALL | BUILD | CHECK | BUILD BIN | ||||||||
| phyloseq 1.44.0  (landing page) Paul J. McMurdie 
  | nebbiolo1 | Linux (Ubuntu 22.04.2 LTS) / x86_64 | OK | OK | WARNINGS | |||||||||
| palomino3 | Windows Server 2022 Datacenter / x64 | OK | OK | WARNINGS | OK | |||||||||
| merida1 | macOS 12.6.4 Monterey / x86_64 | OK | OK | WARNINGS | OK | |||||||||
| kjohnson2 | macOS 12.6.1 Monterey / arm64 | see weekly results here | ||||||||||||
| 
To the developers/maintainers of the phyloseq package: - Allow up to 24 hours (and sometimes 48 hours) for your latest push to git@git.bioconductor.org:packages/phyloseq.git to reflect on this report. See Troubleshooting Build Report for more information. - Use the following Renviron settings to reproduce errors and warnings. - If 'R CMD check' started to fail recently on the Linux builder(s) over a missing dependency, add the missing dependency to 'Suggests:' in your DESCRIPTION file. See Renviron.bioc for more information.  | 
| Package: phyloseq | 
| Version: 1.44.0 | 
| Command: /home/biocbuild/bbs-3.17-bioc/R/bin/R CMD check --install=check:phyloseq.install-out.txt --library=/home/biocbuild/bbs-3.17-bioc/R/site-library --timings phyloseq_1.44.0.tar.gz | 
| StartedAt: 2023-10-15 23:52:32 -0400 (Sun, 15 Oct 2023) | 
| EndedAt: 2023-10-15 23:58:21 -0400 (Sun, 15 Oct 2023) | 
| EllapsedTime: 349.9 seconds | 
| RetCode: 0 | 
| Status: WARNINGS | 
| CheckDir: phyloseq.Rcheck | 
| Warnings: 1 | 
##############################################################################
##############################################################################
###
### Running command:
###
###   /home/biocbuild/bbs-3.17-bioc/R/bin/R CMD check --install=check:phyloseq.install-out.txt --library=/home/biocbuild/bbs-3.17-bioc/R/site-library --timings phyloseq_1.44.0.tar.gz
###
##############################################################################
##############################################################################
* using log directory ‘/home/biocbuild/bbs-3.17-bioc/meat/phyloseq.Rcheck’
* using R version 4.3.1 (2023-06-16)
* using platform: x86_64-pc-linux-gnu (64-bit)
* R was compiled by
    gcc (Ubuntu 11.3.0-1ubuntu1~22.04.1) 11.3.0
    GNU Fortran (Ubuntu 11.3.0-1ubuntu1~22.04.1) 11.3.0
* running under: Ubuntu 22.04.3 LTS
* using session charset: UTF-8
* checking for file ‘phyloseq/DESCRIPTION’ ... OK
* this is package ‘phyloseq’ version ‘1.44.0’
* checking package namespace information ... OK
* checking package dependencies ... OK
* checking if this is a source package ... OK
* checking if there is a namespace ... OK
* checking for hidden files and directories ... NOTE
Found the following hidden files and directories:
  .travis.yml
These were most likely included in error. See section ‘Package
structure’ in the ‘Writing R Extensions’ manual.
* checking for portable file names ... OK
* checking for sufficient/correct file permissions ... OK
* checking whether package ‘phyloseq’ can be installed ... OK
* checking installed package size ... OK
* checking package directory ... OK
* checking ‘build’ directory ... OK
* checking DESCRIPTION meta-information ... OK
* checking top-level files ... OK
* checking for left-over files ... OK
* checking index information ... OK
* checking package subdirectories ... OK
* checking R files for non-ASCII characters ... OK
* checking R files for syntax errors ... OK
* checking whether the package can be loaded ... OK
* checking whether the package can be loaded with stated dependencies ... OK
* checking whether the package can be unloaded cleanly ... OK
* checking whether the namespace can be loaded with stated dependencies ... OK
* checking whether the namespace can be unloaded cleanly ... OK
* checking loading without being on the library search path ... OK
* checking dependencies in R code ... OK
* checking S3 generic/method consistency ... OK
* checking replacement functions ... OK
* checking foreign function calls ... OK
* checking R code for possible problems ... NOTE
DPCoA: no visible global function definition for ‘as.dist’
chunkReOrder: no visible global function definition for ‘tail’
chunkReOrder: no visible global function definition for ‘head’
export_env_file: no visible global function definition for
  ‘write.table’
export_mothur_dist: no visible global function definition for ‘as.dist’
export_mothur_dist: no visible global function definition for
  ‘write.table’
fastUniFrac: no visible global function definition for ‘combn’
fastUniFrac: no visible global function definition for ‘as.dist’
import_RDP_otu: no visible global function definition for ‘read.table’
import_env_file: no visible global function definition for ‘read.table’
import_mothur_constaxonomy: no visible global function definition for
  ‘read.table’
import_mothur_dist: no visible global function definition for ‘as.dist’
import_mothur_groups: no visible global function definition for
  ‘read.table’
import_mothur_shared: no visible global function definition for
  ‘read.table’
import_qiime_otu_tax: no visible global function definition for ‘:=’
import_qiime_otu_tax: no visible binding for global variable ‘Consensus
  Lineage’
import_qiime_otu_tax: no visible binding for global variable ‘#OTU ID’
import_qiime_sample_data: no visible global function definition for
  ‘read.table’
import_uparse: no visible global function definition for ‘:=’
import_uparse: no visible binding for global variable ‘count’
import_uparse: no visible binding for global variable ‘queryString’
import_uparse: no visible binding for global variable ‘queryID’
import_uparse: no visible binding for global variable ‘Classification’
import_uparse: no visible global function definition for
  ‘dcast.data.table’
import_uparse: no visible binding for global variable ‘OTULabel’
import_usearch_uc: no visible global function definition for ‘:=’
import_usearch_uc: no visible binding for global variable ‘read’
microbio_me_qiime: no visible global function definition for
  ‘download.file’
microbio_me_qiime: no visible global function definition for ‘unzip’
microbio_me_qiime: no visible global function definition for ‘untar’
nodeplotboot : <anonymous>: no visible global function definition for
  ‘complete.cases’
nodeplotboot : <anonymous>: no visible binding for global variable ‘x’
nodeplotboot : <anonymous>: no visible binding for global variable ‘y’
nodeplotdefault : <anonymous>: no visible binding for global variable
  ‘x’
nodeplotdefault : <anonymous>: no visible binding for global variable
  ‘y’
nodeplotdefault : <anonymous>: no visible binding for global variable
  ‘label’
ordinate: no visible global function definition for ‘as.formula’
plot_clusgap: no visible binding for global variable ‘k’
plot_clusgap: no visible binding for global variable ‘gap’
plot_clusgap: no visible binding for global variable ‘SE.sim’
plot_heatmap: no visible global function definition for
  ‘capture.output’
plot_heatmap: no visible binding for global variable ‘Sample’
plot_heatmap: no visible binding for global variable ‘OTU’
plot_heatmap: no visible binding for global variable ‘Abundance’
plot_net : vertex_layout: no visible binding for global variable ‘x’
plot_net : link_layout: no visible binding for global variable ‘x’
plot_net : link_layout: no visible binding for global variable ‘y’
plot_net: no visible binding for global variable ‘x’
plot_net: no visible binding for global variable ‘y’
plot_net: no visible binding for global variable ‘xend’
plot_net: no visible binding for global variable ‘yend’
plot_network: no visible binding for global variable ‘x’
plot_network: no visible binding for global variable ‘y’
plot_richness: no visible binding for global variable ‘value’
plot_richness: no visible binding for global variable ‘se’
plot_scree: no visible binding for global variable ‘axis’
plot_scree: no visible binding for global variable ‘eigenvalue’
plot_tree: no visible binding for global variable ‘xleft’
plot_tree: no visible binding for global variable ‘xright’
plot_tree: no visible binding for global variable ‘y’
plot_tree: no visible binding for global variable ‘x’
plot_tree: no visible binding for global variable ‘vmin’
plot_tree: no visible binding for global variable ‘vmax’
plot_tree: no visible binding for global variable ‘OTU’
plot_tree: no visible binding for global variable ‘label’
plot_tree: no visible binding for global variable ‘Abundance’
plot_tree: no visible binding for global variable ‘Sample’
plot_tree: no visible global function definition for ‘:=’
plot_tree: no visible binding for global variable ‘h.adj.index’
plot_tree: no visible binding for global variable ‘xdodge’
plot_tree: no visible binding for global variable ‘xfartiplab’
plot_tree: no visible binding for global variable ‘.SD’
rp.joint.fill: no visible global function definition for ‘relevel’
tip_glom: no visible global function definition for ‘as.dist’
tip_glom: no visible global function definition for ‘cutree’
tip_glom: no visible global function definition for ‘as.hclust’
tree_layout: no visible global function definition for ‘:=’
tree_layout: no visible binding for global variable ‘OTU’
tree_layout: no visible binding for global variable ‘V2’
tree_layout: no visible binding for global variable ‘xleft’
tree_layout: no visible binding for global variable ‘V1’
tree_layout: no visible binding for global variable ‘xright’
tree_layout: no visible binding for global variable ‘y’
tree_layout: no visible binding for global variable ‘x’
tree_layout: no visible binding for global variable ‘label’
tree_layout: no visible global function definition for ‘J’
tree_layout: no visible binding for global variable ‘vmin’
tree_layout: no visible binding for global variable ‘vmax’
JSD,matrix: no visible global function definition for ‘combn’
JSD,matrix: no visible binding for global variable ‘i’
JSD,matrix: no visible global function definition for ‘as.dist’
capscale.phyloseq,phyloseq-formula-character: no visible global
  function definition for ‘as.formula’
capscale.phyloseq,phyloseq-formula-dist: no visible global function
  definition for ‘as.formula’
cca.phyloseq,phyloseq-formula: no visible global function definition
  for ‘as.formula’
distance,phyloseq-character: no visible global function definition for
  ‘as.dist’
merge_phyloseq_pair,sample_data-sample_data : <anonymous>: no visible
  binding for global variable ‘X0’
merge_samples,sample_data: no visible global function definition for
  ‘aggregate’
plot_phyloseq,phyloseq: no visible binding for global variable
  ‘esophagus’
Undefined global functions or variables:
  #OTU ID .SD := Abundance Classification Consensus Lineage J OTU
  OTULabel SE.sim Sample V1 V2 X0 aggregate as.dist as.formula
  as.hclust axis capture.output combn complete.cases count cutree
  dcast.data.table download.file eigenvalue esophagus gap h.adj.index
  head i k label queryID queryString read read.table relevel se tail
  untar unzip value vmax vmin write.table x xdodge xend xfartiplab
  xleft xright y yend
Consider adding
  importFrom("graphics", "axis")
  importFrom("stats", "aggregate", "as.dist", "as.formula", "as.hclust",
             "complete.cases", "cutree", "relevel")
  importFrom("utils", "capture.output", "combn", "download.file", "head",
             "read.table", "tail", "untar", "unzip", "write.table")
to your NAMESPACE file.
* checking Rd files ... WARNING
checkRd: (7) import_qiime.Rd:120: Invalid URL: "http://www.qiime.org/"
* checking Rd metadata ... OK
* checking Rd cross-references ... OK
* checking for missing documentation entries ... OK
* checking for code/documentation mismatches ... OK
* checking Rd \usage sections ... NOTE
S3 methods shown with full name in documentation object 'cca.phyloseq':
  ‘cca.phyloseq’
The \usage entries for S3 methods should use the \method markup and not
their full name.
See chapter ‘Writing R documentation files’ in the ‘Writing R
Extensions’ manual.
* checking Rd contents ... OK
* checking for unstated dependencies in examples ... OK
* checking contents of ‘data’ directory ... OK
* checking data for non-ASCII characters ... OK
* checking data for ASCII and uncompressed saves ... OK
* checking installed files from ‘inst/doc’ ... OK
* checking files in ‘vignettes’ ... OK
* checking examples ... OK
* checking for unstated dependencies in ‘tests’ ... OK
* checking tests ...
  Running ‘testthat-phyloseq.R’
 OK
* checking for unstated dependencies in vignettes ... OK
* checking package vignettes in ‘inst/doc’ ... OK
* checking running R code from vignettes ...
  ‘phyloseq-FAQ.Rmd’ using ‘UTF-8’... OK
  ‘phyloseq-analysis.Rmd’... OK
  ‘phyloseq-basics.Rmd’... OK
  ‘phyloseq-mixture-models.Rmd’... OK
 NONE
* checking re-building of vignette outputs ... OK
* checking PDF version of manual ... OK
* DONE
Status: 1 WARNING, 3 NOTEs
See
  ‘/home/biocbuild/bbs-3.17-bioc/meat/phyloseq.Rcheck/00check.log’
for details.
phyloseq.Rcheck/00install.out
############################################################################## ############################################################################## ### ### Running command: ### ### /home/biocbuild/bbs-3.17-bioc/R/bin/R CMD INSTALL phyloseq ### ############################################################################## ############################################################################## * installing to library ‘/home/biocbuild/bbs-3.17-bioc/R/site-library’ * installing *source* package ‘phyloseq’ ... ** using staged installation ** R ** data ** inst ** byte-compile and prepare package for lazy loading ** help *** installing help indices ** building package indices ** installing vignettes ** testing if installed package can be loaded from temporary location ** testing if installed package can be loaded from final location ** testing if installed package keeps a record of temporary installation path * DONE (phyloseq)
phyloseq.Rcheck/tests/testthat-phyloseq.Rout
R version 4.3.1 (2023-06-16) -- "Beagle Scouts"
Copyright (C) 2023 The R Foundation for Statistical Computing
Platform: x86_64-pc-linux-gnu (64-bit)
R is free software and comes with ABSOLUTELY NO WARRANTY.
You are welcome to redistribute it under certain conditions.
Type 'license()' or 'licence()' for distribution details.
R is a collaborative project with many contributors.
Type 'contributors()' for more information and
'citation()' on how to cite R or R packages in publications.
Type 'demo()' for some demos, 'help()' for on-line help, or
'help.start()' for an HTML browser interface to help.
Type 'q()' to quit R.
> library("testthat")
> packageVersion("phyloseq")
[1] '1.44.0'
> # As suggested for opt-out option on testing by users, recommended by CRAN
> # http://adv-r.had.co.nz/Testing.html
> # Previously, best practice was to put all test files in inst/tests and ensure that R CMD check ran them by putting the following code in tests/test-all.R:  
> # library(testthat)
> # library(yourpackage)
> # test_package("yourpackage")
> # Now, recommended practice is to put your tests in tests/testthat, and ensure R CMD check runs them by putting the following code in tests/test-all.R:
> # library(testthat)
> # test_check("yourpackage")
> # The advantage of this new structure is that the user has control over whether or not tests are installed using the –install-tests parameter to R CMD install, or INSTALL_opts = c(“–install-tests”) argument to install.packages(). I’m not sure why you wouldn’t want to install the tests, but now you have the flexibility as requested by CRAN maintainers.
> test_check("phyloseq")
Loading required package: phyloseq
Found biom-format file, now parsing it... 
Done parsing biom... 
Importing Sample Metdadata from mapping file...
Merging the imported objects... 
Successfully merged, phyloseq-class created. 
 Returning... 
Found biom-format file, now parsing it... 
Done parsing biom... 
Importing Sample Metdadata from mapping file...
Merging the imported objects... 
Successfully merged, phyloseq-class created. 
 Returning... 
Reading `ucfile` into memory and parsing into table 
Initially read 100 entries. 
... Now removing unassigned OTUs (* or NA)... 
Removed 7 entries that had no OTU assignment. 
A total of 93 will be assigned to the OTU table.
Processing otu/tax file...
Reading file into memory prior to parsing...
Detecting first header line...
Header is on line 2  
Converting input file to a table...
Defining OTU table... 
Parsing taxonomy table...
Processing phylogenetic tree...
 /home/biocbuild/bbs-3.17-bioc/R/site-library/phyloseq/extdata/GP_tree_rand_short.newick.gz ...
Processing map file...
Processing otu/tax file...
Reading file into memory prior to parsing...
Detecting first header line...
Header is on line 2  
Converting input file to a table...
Defining OTU table... 
Parsing taxonomy table...
Processing phylogenetic tree...
 /home/biocbuild/bbs-3.17-bioc/R/site-library/phyloseq/extdata/GP_tree_rand_short.newick.gz ...
Processing Reference Sequences...
[ FAIL 0 | WARN 49 | SKIP 0 | PASS 604 ]
[ FAIL 0 | WARN 49 | SKIP 0 | PASS 604 ]
> 
> proc.time()
   user  system elapsed 
 55.776   1.300  57.023 
phyloseq.Rcheck/phyloseq-Ex.timings
| name | user | system | elapsed | |
| DPCoA | 2.162 | 0.123 | 2.286 | |
| JSD | 0 | 0 | 0 | |
| UniFrac-methods | 0.083 | 0.004 | 0.087 | |
| access | 0 | 0 | 0 | |
| assign-otu_table | 0.001 | 0.000 | 0.000 | |
| assign-phy_tree | 0.024 | 0.012 | 0.036 | |
| assign-sample_data | 0.100 | 0.015 | 0.115 | |
| assign-sample_names | 0.008 | 0.001 | 0.008 | |
| assign-tax_table | 0.001 | 0.000 | 0.001 | |
| assign-taxa_are_rows | 0.002 | 0.000 | 0.002 | |
| assign-taxa_names | 0.006 | 0.000 | 0.006 | |
| build_tax_table | 0.01 | 0.00 | 0.01 | |
| capscale-phyloseq-methods | 1.065 | 0.035 | 1.101 | |
| cca-rda-phyloseq-methods | 0 | 0 | 0 | |
| chunkReOrder | 0 | 0 | 0 | |
| data-GlobalPatterns | 0.812 | 0.012 | 0.824 | |
| data-enterotype | 0.689 | 0.000 | 0.689 | |
| data-esophagus | 0.417 | 0.011 | 0.430 | |
| data-soilrep | 1.295 | 0.031 | 1.327 | |
| distance | 0.166 | 0.006 | 0.176 | |
| distanceMethodList | 0 | 0 | 0 | |
| envHash2otu_table | 0 | 0 | 0 | |
| estimate_richness | 0.021 | 0.002 | 0.023 | |
| export_env_file | 0 | 0 | 0 | |
| export_mothur_dist | 0.030 | 0.032 | 0.062 | |
| extract-methods | 0.007 | 0.000 | 0.007 | |
| filter_taxa | 1.725 | 0.064 | 1.789 | |
| filterfun_sample | 0.012 | 0.004 | 0.016 | |
| gapstat_ord | 1.245 | 0.032 | 1.278 | |
| genefilter_sample-methods | 0.000 | 0.000 | 0.001 | |
| get.component.classes | 0 | 0 | 0 | |
| get_sample-methods | 0.004 | 0.000 | 0.003 | |
| get_taxa-methods | 0.000 | 0.003 | 0.003 | |
| get_taxa_unique | 0.188 | 0.017 | 0.204 | |
| get_variable | 0.135 | 0.016 | 0.150 | |
| getslots.phyloseq | 0.137 | 0.012 | 0.149 | |
| import | 0.000 | 0.000 | 0.001 | |
| import_RDP_otu | 0.248 | 0.024 | 0.273 | |
| import_biom | 0.146 | 0.000 | 0.146 | |
| import_env_file | 0 | 0 | 0 | |
| import_mothur | 0 | 0 | 0 | |
| import_mothur_dist | 0.001 | 0.000 | 0.000 | |
| import_pyrotagger_tab | 0 | 0 | 0 | |
| import_qiime | 0.858 | 0.012 | 0.871 | |
| import_qiime_otu_tax | 0.765 | 0.132 | 0.897 | |
| import_qiime_sample_data | 0.009 | 0.000 | 0.010 | |
| import_uparse | 0 | 0 | 0 | |
| import_usearch_uc | 0.008 | 0.012 | 0.020 | |
| index_reorder | 0.001 | 0.000 | 0.001 | |
| intersect_taxa | 0 | 0 | 0 | |
| make_network | 1.273 | 0.020 | 1.293 | |
| merge_phyloseq | 0 | 0 | 0 | |
| merge_phyloseq_pair-methods | 0 | 0 | 0 | |
| merge_samples-methods | 0.535 | 0.040 | 0.575 | |
| merge_taxa-methods | 0.05 | 0.00 | 0.05 | |
| microbio_me_qiime | 0.434 | 0.000 | 0.435 | |
| mt-methods | 1.285 | 0.008 | 1.293 | |
| nodeplotblank | 0.276 | 0.016 | 0.282 | |
| nodeplotboot | 0.001 | 0.000 | 0.001 | |
| nodeplotdefault | 0.000 | 0.000 | 0.001 | |
| nsamples-methods | 0.017 | 0.000 | 0.017 | |
| ntaxa-methods | 0.001 | 0.001 | 0.003 | |
| ordinate | 0.000 | 0.001 | 0.000 | |
| otu_table-methods | 0 | 0 | 0 | |
| parseTaxonomy-functions | 0.000 | 0.001 | 0.001 | |
| phy_tree-methods | 0.142 | 0.007 | 0.148 | |
| phyloseq | 0.016 | 0.000 | 0.015 | |
| phyloseq_to_deseq2 | 3.220 | 0.132 | 3.352 | |
| phyloseq_to_metagenomeSeq | 0.831 | 0.064 | 0.895 | |
| plot_bar | 1.654 | 0.024 | 1.678 | |
| plot_clusgap | 3.238 | 0.060 | 3.298 | |
| plot_heatmap | 2.487 | 0.072 | 2.558 | |
| plot_net | 3.639 | 0.020 | 3.581 | |
| plot_network | 1.081 | 0.008 | 1.088 | |
| plot_ordination | 0.566 | 0.012 | 0.578 | |
| plot_phyloseq-methods | 0.192 | 0.015 | 0.201 | |
| plot_richness | 3.285 | 0.084 | 3.369 | |
| plot_scree | 1.355 | 0.024 | 1.379 | |
| plot_tree | 0.559 | 0.023 | 0.554 | |
| prune_samples-methods | 0.354 | 0.028 | 0.383 | |
| prune_taxa-methods | 0.037 | 0.000 | 0.037 | |
| psmelt | 0.578 | 0.020 | 0.597 | |
| rank_names | 0.037 | 0.000 | 0.037 | |
| rarefy_even_depth | 0.068 | 0.000 | 0.068 | |
| read_tree | 0.014 | 0.000 | 0.014 | |
| read_tree_greengenes | 0.009 | 0.000 | 0.009 | |
| reconcile_categories | 0.001 | 0.000 | 0.000 | |
| refseq-methods | 0.148 | 0.000 | 0.148 | |
| rm_outlierf | 0.018 | 0.000 | 0.018 | |
| sample_data-methods | 0.052 | 0.000 | 0.052 | |
| sample_names-methods | 0.002 | 0.000 | 0.002 | |
| sample_sums | 0.028 | 0.000 | 0.028 | |
| sample_variables | 0.022 | 0.000 | 0.022 | |
| show-methods | 0.001 | 0.000 | 0.000 | |
| splat.phyloseq.objects | 0.001 | 0.000 | 0.000 | |
| subset_ord_plot | 0 | 0 | 0 | |
| subset_samples-methods | 0.000 | 0.000 | 0.001 | |
| subset_taxa-methods | 0.001 | 0.000 | 0.000 | |
| tax_glom | 0 | 0 | 0 | |
| tax_table-methods | 0.000 | 0.000 | 0.001 | |
| taxa_names-methods | 0.015 | 0.003 | 0.019 | |
| taxa_sums | 0.028 | 0.008 | 0.035 | |
| threshrank | 2.288 | 1.784 | 4.072 | |
| threshrankfun | 0.046 | 0.000 | 0.046 | |
| tip_glom | 0.614 | 0.024 | 0.627 | |
| topf | 0.010 | 0.000 | 0.011 | |
| topk | 0.01 | 0.00 | 0.01 | |
| topp | 0.008 | 0.003 | 0.010 | |
| transformcounts | 0.077 | 0.000 | 0.078 | |
| transpose-methods | 0.533 | 1.208 | 1.740 | |
| tree_layout | 0.445 | 0.028 | 0.452 | |