| Back to Multiple platform build/check report for BioC 3.17: simplified long |
|
This page was generated on 2023-10-16 11:35:36 -0400 (Mon, 16 Oct 2023).
| Hostname | OS | Arch (*) | R version | Installed pkgs |
|---|---|---|---|---|
| nebbiolo1 | Linux (Ubuntu 22.04.2 LTS) | x86_64 | 4.3.1 (2023-06-16) -- "Beagle Scouts" | 4626 |
| palomino3 | Windows Server 2022 Datacenter | x64 | 4.3.1 (2023-06-16 ucrt) -- "Beagle Scouts" | 4379 |
| merida1 | macOS 12.6.4 Monterey | x86_64 | 4.3.1 (2023-06-16) -- "Beagle Scouts" | 4395 |
| Click on any hostname to see more info about the system (e.g. compilers) (*) as reported by 'uname -p', except on Windows and Mac OS X | ||||
| Package 1491/2230 | Hostname | OS / Arch | INSTALL | BUILD | CHECK | BUILD BIN | ||||||||
| peakPantheR 1.14.0 (landing page) Arnaud Wolfer
| nebbiolo1 | Linux (Ubuntu 22.04.2 LTS) / x86_64 | OK | OK | OK | |||||||||
| palomino3 | Windows Server 2022 Datacenter / x64 | OK | OK | OK | OK | |||||||||
| merida1 | macOS 12.6.4 Monterey / x86_64 | OK | OK | OK | OK | |||||||||
| kjohnson2 | macOS 12.6.1 Monterey / arm64 | see weekly results here | ||||||||||||
|
To the developers/maintainers of the peakPantheR package: - Allow up to 24 hours (and sometimes 48 hours) for your latest push to git@git.bioconductor.org:packages/peakPantheR.git to reflect on this report. See Troubleshooting Build Report for more information. - Use the following Renviron settings to reproduce errors and warnings. - If 'R CMD check' started to fail recently on the Linux builder(s) over a missing dependency, add the missing dependency to 'Suggests:' in your DESCRIPTION file. See Renviron.bioc for more information. |
| Package: peakPantheR |
| Version: 1.14.0 |
| Command: /home/biocbuild/bbs-3.17-bioc/R/bin/R CMD check --install=check:peakPantheR.install-out.txt --library=/home/biocbuild/bbs-3.17-bioc/R/site-library --timings peakPantheR_1.14.0.tar.gz |
| StartedAt: 2023-10-15 23:49:11 -0400 (Sun, 15 Oct 2023) |
| EndedAt: 2023-10-16 00:06:05 -0400 (Mon, 16 Oct 2023) |
| EllapsedTime: 1014.5 seconds |
| RetCode: 0 |
| Status: OK |
| CheckDir: peakPantheR.Rcheck |
| Warnings: 0 |
##############################################################################
##############################################################################
###
### Running command:
###
### /home/biocbuild/bbs-3.17-bioc/R/bin/R CMD check --install=check:peakPantheR.install-out.txt --library=/home/biocbuild/bbs-3.17-bioc/R/site-library --timings peakPantheR_1.14.0.tar.gz
###
##############################################################################
##############################################################################
* using log directory ‘/home/biocbuild/bbs-3.17-bioc/meat/peakPantheR.Rcheck’
* using R version 4.3.1 (2023-06-16)
* using platform: x86_64-pc-linux-gnu (64-bit)
* R was compiled by
gcc (Ubuntu 11.3.0-1ubuntu1~22.04.1) 11.3.0
GNU Fortran (Ubuntu 11.3.0-1ubuntu1~22.04.1) 11.3.0
* running under: Ubuntu 22.04.3 LTS
* using session charset: UTF-8
* checking for file ‘peakPantheR/DESCRIPTION’ ... OK
* this is package ‘peakPantheR’ version ‘1.14.0’
* package encoding: UTF-8
* checking package namespace information ... OK
* checking package dependencies ... OK
* checking if this is a source package ... OK
* checking if there is a namespace ... OK
* checking for hidden files and directories ... OK
* checking for portable file names ... OK
* checking for sufficient/correct file permissions ... OK
* checking whether package ‘peakPantheR’ can be installed ... OK
* checking installed package size ... OK
* checking package directory ... OK
* checking ‘build’ directory ... OK
* checking DESCRIPTION meta-information ... OK
* checking top-level files ... OK
* checking for left-over files ... OK
* checking index information ... OK
* checking package subdirectories ... OK
* checking R files for non-ASCII characters ... OK
* checking R files for syntax errors ... OK
* checking whether the package can be loaded ... OK
* checking whether the package can be loaded with stated dependencies ... OK
* checking whether the package can be unloaded cleanly ... OK
* checking whether the namespace can be loaded with stated dependencies ... OK
* checking whether the namespace can be unloaded cleanly ... OK
* checking loading without being on the library search path ... OK
* checking startup messages can be suppressed ... OK
* checking dependencies in R code ... OK
* checking S3 generic/method consistency ... OK
* checking replacement functions ... OK
* checking foreign function calls ... OK
* checking R code for possible problems ... OK
* checking Rd files ... OK
* checking Rd metadata ... OK
* checking Rd cross-references ... OK
* checking for missing documentation entries ... OK
* checking for code/documentation mismatches ... OK
* checking Rd \usage sections ... OK
* checking Rd contents ... OK
* checking for unstated dependencies in examples ... OK
* checking files in ‘vignettes’ ... OK
* checking examples ... OK
Examples with CPU (user + system) or elapsed time > 5s
user system elapsed
peakPantheR_ROIStatistics 16.752 0.384 17.145
peakPantheR_parallelAnnotation 12.349 0.288 12.636
outputAnnotationResult-peakPantheRAnnotation-method 11.711 0.496 12.207
outputAnnotationDiagnostic-peakPantheRAnnotation-method 11.194 0.539 11.757
EICs-peakPantheRAnnotation-method 9.219 0.796 10.023
retentionTimeCorrection-peakPantheRAnnotation-method 7.551 0.092 7.643
* checking for unstated dependencies in ‘tests’ ... OK
* checking tests ...
Running ‘testthat.R’
OK
* checking for unstated dependencies in vignettes ... OK
* checking package vignettes in ‘inst/doc’ ... OK
* checking running R code from vignettes ...
‘getting-started.Rmd’ using ‘UTF-8’... OK
‘parallel-annotation.Rmd’ using ‘UTF-8’... OK
‘peakPantheR-GUI.Rmd’ using ‘UTF-8’... OK
‘real-time-annotation.Rmd’ using ‘UTF-8’... OK
NONE
* checking re-building of vignette outputs ... OK
* checking PDF version of manual ... OK
* DONE
Status: OK
peakPantheR.Rcheck/00install.out
############################################################################## ############################################################################## ### ### Running command: ### ### /home/biocbuild/bbs-3.17-bioc/R/bin/R CMD INSTALL peakPantheR ### ############################################################################## ############################################################################## * installing to library ‘/home/biocbuild/bbs-3.17-bioc/R/site-library’ * installing *source* package ‘peakPantheR’ ... ** using staged installation ** R ** inst ** byte-compile and prepare package for lazy loading ** help *** installing help indices *** copying figures ** building package indices ** installing vignettes ** testing if installed package can be loaded from temporary location ** testing if installed package can be loaded from final location ** testing if installed package keeps a record of temporary installation path * DONE (peakPantheR)
peakPantheR.Rcheck/tests/testthat.Rout
R version 4.3.1 (2023-06-16) -- "Beagle Scouts"
Copyright (C) 2023 The R Foundation for Statistical Computing
Platform: x86_64-pc-linux-gnu (64-bit)
R is free software and comes with ABSOLUTELY NO WARRANTY.
You are welcome to redistribute it under certain conditions.
Type 'license()' or 'licence()' for distribution details.
R is a collaborative project with many contributors.
Type 'contributors()' for more information and
'citation()' on how to cite R or R packages in publications.
Type 'demo()' for some demos, 'help()' for on-line help, or
'help.start()' for an HTML browser interface to help.
Type 'q()' to quit R.
> library(testthat)
> library(peakPantheR)
This is peakPantheR version 1.14.0
>
> test_check("peakPantheR")
[ FAIL 0 | WARN 0 | SKIP 0 | PASS 1438 ]
Warning messages:
1: In .Internal(gc(verbose, reset, full)) :
closing unused connection 10 (/tmp/RtmpesdHCA/notValidXML.mzML)
2: In .Internal(gc(verbose, reset, full)) :
closing unused connection 9 (/tmp/RtmpesdHCA/notValidXML.mzML)
3: In .Internal(gc(verbose, reset, full)) :
closing unused connection 8 (/tmp/RtmpesdHCA/notValidXML.mzML)
4: In .Internal(gc(verbose, reset, full)) :
closing unused connection 7 (/tmp/RtmpesdHCA/notValidXML.mzML)
5: In .Internal(gc(verbose, reset, full)) :
closing unused connection 6 (/home/biocbuild/bbs-3.17-bioc/R/site-library/peakPantheR/extdata/test_fakemzML.mzML)
6: In .Internal(gc(verbose, reset, full)) :
closing unused connection 5 (/home/biocbuild/bbs-3.17-bioc/R/site-library/peakPantheR/extdata/test_fakemzML.mzML)
>
> proc.time()
user system elapsed
609.797 13.080 764.472
peakPantheR.Rcheck/peakPantheR-Ex.timings
| name | user | system | elapsed | |
| EICs-peakPantheRAnnotation-method | 9.219 | 0.796 | 10.023 | |
| FIR-peakPantheRAnnotation-method | 0.156 | 0.016 | 0.172 | |
| ROI-peakPantheRAnnotation-method | 0.128 | 0.024 | 0.152 | |
| TIC-peakPantheRAnnotation-method | 0.143 | 0.012 | 0.155 | |
| acquisitionTime-peakPantheRAnnotation-method | 0.171 | 0.009 | 0.180 | |
| annotationDiagnosticPlots-peakPantheRAnnotation-method | 0.136 | 0.000 | 0.136 | |
| annotationParamsDiagnostic-peakPantheRAnnotation-method | 0.133 | 0.012 | 0.145 | |
| annotationTable-peakPantheRAnnotation-method | 0.147 | 0.000 | 0.147 | |
| annotation_diagnostic_multiplot_UI_helper | 0.107 | 0.000 | 0.107 | |
| annotation_fit_summary_UI_helper | 0.008 | 0.000 | 0.008 | |
| annotation_showMethod_UI_helper | 0.004 | 0.000 | 0.004 | |
| annotation_showText_UI_helper | 0.001 | 0.000 | 0.000 | |
| cpdID-peakPantheRAnnotation-method | 0.132 | 0.011 | 0.143 | |
| cpdMetadata-peakPantheRAnnotation-method | 0.130 | 0.008 | 0.138 | |
| cpdName-peakPantheRAnnotation-method | 0.131 | 0.008 | 0.139 | |
| dataPoints-peakPantheRAnnotation-method | 0.141 | 0.004 | 0.146 | |
| filename-peakPantheRAnnotation-method | 0.164 | 0.004 | 0.168 | |
| filepath-peakPantheRAnnotation-method | 0.129 | 0.016 | 0.145 | |
| initialise_annotation_from_files_UI_helper | 0.013 | 0.000 | 0.013 | |
| isAnnotated-peakPantheRAnnotation-method | 0.133 | 0.020 | 0.153 | |
| load_annotation_from_file_UI_helper | 0.007 | 0.000 | 0.007 | |
| nbCompounds-peakPantheRAnnotation-method | 0.144 | 0.000 | 0.144 | |
| nbSamples-peakPantheRAnnotation-method | 0.143 | 0.000 | 0.144 | |
| outputAnnotationDiagnostic-peakPantheRAnnotation-method | 11.194 | 0.539 | 11.757 | |
| outputAnnotationFeatureMetadata_UI_helper | 0.005 | 0.000 | 0.005 | |
| outputAnnotationParamsCSV-peakPantheRAnnotation-method | 0.021 | 0.000 | 0.021 | |
| outputAnnotationResult-peakPantheRAnnotation-method | 11.711 | 0.496 | 12.207 | |
| outputAnnotationSpectraMetadata_UI_helper | 0.006 | 0.000 | 0.006 | |
| peakFit-peakPantheRAnnotation-method | 0.126 | 0.004 | 0.130 | |
| peakPantheRAnnotation | 0.131 | 0.000 | 0.131 | |
| peakPantheR_ROIStatistics | 16.752 | 0.384 | 17.145 | |
| peakPantheR_loadAnnotationParamsCSV | 0.007 | 0.000 | 0.006 | |
| peakPantheR_parallelAnnotation | 12.349 | 0.288 | 12.636 | |
| peakPantheR_plotEICFit | 0.3 | 0.0 | 0.3 | |
| peakPantheR_plotPeakwidth | 0.501 | 0.016 | 0.517 | |
| peakPantheR_singleFileSearch | 3.690 | 0.064 | 3.754 | |
| peakPantheR_start_GUI | 0.000 | 0.000 | 0.001 | |
| peakTables-peakPantheRAnnotation-method | 0.121 | 0.008 | 0.129 | |
| resetAnnotation-peakPantheRAnnotation-method | 0.129 | 0.004 | 0.133 | |
| resetFIR-peakPantheRAnnotation-method | 0.000 | 0.005 | 0.005 | |
| retentionTimeCorrection-peakPantheRAnnotation-method | 7.551 | 0.092 | 7.643 | |
| spectraMetadata-peakPantheRAnnotation-method | 0.134 | 0.004 | 0.138 | |
| spectraPaths_and_metadata_UI_helper | 0.001 | 0.002 | 0.003 | |
| spectra_metadata_colourScheme_UI_helper | 0.003 | 0.002 | 0.005 | |
| uROI-peakPantheRAnnotation-method | 0.125 | 0.012 | 0.138 | |
| uROIExist-peakPantheRAnnotation-method | 0.127 | 0.004 | 0.132 | |
| useFIR-peakPantheRAnnotation-method | 0.129 | 0.004 | 0.132 | |
| useUROI-peakPantheRAnnotation-method | 0.114 | 0.008 | 0.123 | |