| Back to Multiple platform build/check report for BioC 3.17: simplified long | 
  | 
This page was generated on 2023-10-16 11:37:20 -0400 (Mon, 16 Oct 2023).
| Hostname | OS | Arch (*) | R version | Installed pkgs | 
|---|---|---|---|---|
| nebbiolo1 | Linux (Ubuntu 22.04.2 LTS) | x86_64 | 4.3.1 (2023-06-16) -- "Beagle Scouts" | 4626 | 
| palomino3 | Windows Server 2022 Datacenter | x64 | 4.3.1 (2023-06-16 ucrt) -- "Beagle Scouts" | 4379 | 
| merida1 | macOS 12.6.4 Monterey | x86_64 | 4.3.1 (2023-06-16) -- "Beagle Scouts" | 4395 | 
| Click on any hostname to see more info about the system (e.g. compilers) (*) as reported by 'uname -p', except on Windows and Mac OS X | ||||
| Package 1435/2230 | Hostname | OS / Arch | INSTALL | BUILD | CHECK | BUILD BIN | ||||||||
| openPrimeR 1.22.0  (landing page) Matthias Döring 
  | nebbiolo1 | Linux (Ubuntu 22.04.2 LTS) / x86_64 | OK | OK | OK | |||||||||
| palomino3 | Windows Server 2022 Datacenter / x64 | OK | OK | OK | OK | |||||||||
| merida1 | macOS 12.6.4 Monterey / x86_64 | OK | OK | OK | OK | |||||||||
| kjohnson2 | macOS 12.6.1 Monterey / arm64 | see weekly results here | ||||||||||||
| 
To the developers/maintainers of the openPrimeR package: - Allow up to 24 hours (and sometimes 48 hours) for your latest push to git@git.bioconductor.org:packages/openPrimeR.git to reflect on this report. See Troubleshooting Build Report for more information. - Use the following Renviron settings to reproduce errors and warnings. - If 'R CMD check' started to fail recently on the Linux builder(s) over a missing dependency, add the missing dependency to 'Suggests:' in your DESCRIPTION file. See Renviron.bioc for more information.  | 
| Package: openPrimeR | 
| Version: 1.22.0 | 
| Command: /Library/Frameworks/R.framework/Resources/bin/R CMD check --install=check:openPrimeR.install-out.txt --library=/Library/Frameworks/R.framework/Resources/library --no-vignettes --timings openPrimeR_1.22.0.tar.gz | 
| StartedAt: 2023-10-16 04:52:30 -0400 (Mon, 16 Oct 2023) | 
| EndedAt: 2023-10-16 05:06:48 -0400 (Mon, 16 Oct 2023) | 
| EllapsedTime: 858.4 seconds | 
| RetCode: 0 | 
| Status: OK | 
| CheckDir: openPrimeR.Rcheck | 
| Warnings: 0 | 
##############################################################################
##############################################################################
###
### Running command:
###
###   /Library/Frameworks/R.framework/Resources/bin/R CMD check --install=check:openPrimeR.install-out.txt --library=/Library/Frameworks/R.framework/Resources/library --no-vignettes --timings openPrimeR_1.22.0.tar.gz
###
##############################################################################
##############################################################################
* using log directory ‘/Users/biocbuild/bbs-3.17-bioc/meat/openPrimeR.Rcheck’
* using R version 4.3.1 (2023-06-16)
* using platform: x86_64-apple-darwin20 (64-bit)
* R was compiled by
    Apple clang version 14.0.3 (clang-1403.0.22.14.1)
    GNU Fortran (GCC) 12.2.0
* running under: macOS Monterey 12.6.4
* using session charset: UTF-8
* using option ‘--no-vignettes’
* checking for file ‘openPrimeR/DESCRIPTION’ ... OK
* this is package ‘openPrimeR’ version ‘1.22.0’
* package encoding: UTF-8
* checking package namespace information ... OK
* checking package dependencies ... OK
* checking if this is a source package ... OK
* checking if there is a namespace ... OK
* checking for hidden files and directories ... NOTE
Found the following hidden files and directories:
  .travis.yml
These were most likely included in error. See section ‘Package
structure’ in the ‘Writing R Extensions’ manual.
* checking for portable file names ... OK
* checking for sufficient/correct file permissions ... OK
* checking whether package ‘openPrimeR’ can be installed ... OK
* checking installed package size ... NOTE
  installed size is 12.1Mb
  sub-directories of 1Mb or more:
    R         1.3Mb
    extdata  10.2Mb
* checking package directory ... OK
* checking ‘build’ directory ... OK
* checking DESCRIPTION meta-information ... OK
* checking top-level files ... OK
* checking for left-over files ... OK
* checking index information ... OK
* checking package subdirectories ... OK
* checking R files for non-ASCII characters ... OK
* checking R files for syntax errors ... OK
* checking whether the package can be loaded ... OK
* checking whether the package can be loaded with stated dependencies ... OK
* checking whether the package can be unloaded cleanly ... OK
* checking whether the namespace can be loaded with stated dependencies ... OK
* checking whether the namespace can be unloaded cleanly ... OK
* checking startup messages can be suppressed ... NOTE
The number of cores for was set to '2' by 'parallel_setup()'.
It looks like this package (or a package it requires) has a startup
message which cannot be suppressed: see ?packageStartupMessage.
* checking dependencies in R code ... OK
* checking S3 generic/method consistency ... OK
* checking replacement functions ... OK
* checking foreign function calls ... OK
* checking R code for possible problems ... OK
* checking Rd files ... OK
* checking Rd metadata ... OK
* checking Rd cross-references ... OK
* checking for missing documentation entries ... OK
* checking for code/documentation mismatches ... OK
* checking Rd \usage sections ... OK
* checking Rd contents ... OK
* checking for unstated dependencies in examples ... OK
* checking contents of ‘data’ directory ... OK
* checking data for non-ASCII characters ... OK
* checking data for ASCII and uncompressed saves ... OK
* checking R/sysdata.rda ... OK
* checking files in ‘vignettes’ ... OK
* checking examples ... OK
Examples with CPU (user + system) or elapsed time > 5s
               user system elapsed
Output       69.760 26.494  86.648
PrimerDesign 38.555 15.184  50.217
Plots        23.466  8.289  28.917
PrimerEval   20.517 11.165  23.347
Settings      1.551  2.147   5.164
* checking for unstated dependencies in ‘tests’ ... OK
* checking tests ...
  Running ‘testthat.R’
 OK
* checking for unstated dependencies in vignettes ... OK
* checking package vignettes in ‘inst/doc’ ... OK
* checking running R code from vignettes ... SKIPPED
* checking re-building of vignette outputs ... SKIPPED
* checking PDF version of manual ... OK
* DONE
Status: 3 NOTEs
See
  ‘/Users/biocbuild/bbs-3.17-bioc/meat/openPrimeR.Rcheck/00check.log’
for details.
openPrimeR.Rcheck/00install.out
############################################################################## ############################################################################## ### ### Running command: ### ### /Library/Frameworks/R.framework/Resources/bin/R CMD INSTALL openPrimeR ### ############################################################################## ############################################################################## * installing to library ‘/Library/Frameworks/R.framework/Versions/4.3-x86_64/Resources/library’ * installing *source* package ‘openPrimeR’ ... ** using staged installation ** R ** data ** inst ** byte-compile and prepare package for lazy loading ** help *** installing help indices ** building package indices ** installing vignettes ** testing if installed package can be loaded from temporary location The number of cores for was set to '2' by 'parallel_setup()'. ** testing if installed package can be loaded from final location The number of cores for was set to '2' by 'parallel_setup()'. ** testing if installed package keeps a record of temporary installation path * DONE (openPrimeR)
openPrimeR.Rcheck/tests/testthat.Rout
R version 4.3.1 (2023-06-16) -- "Beagle Scouts"
Copyright (C) 2023 The R Foundation for Statistical Computing
Platform: x86_64-apple-darwin20 (64-bit)
R is free software and comes with ABSOLUTELY NO WARRANTY.
You are welcome to redistribute it under certain conditions.
Type 'license()' or 'licence()' for distribution details.
R is a collaborative project with many contributors.
Type 'contributors()' for more information and
'citation()' on how to cite R or R packages in publications.
Type 'demo()' for some demos, 'help()' for on-line help, or
'help.start()' for an HTML browser interface to help.
Type 'q()' to quit R.
> require(testthat)
Loading required package: testthat
> require(openPrimeR)
Loading required package: openPrimeR
There are missing/non-functioning external tools.
To use the full potential of openPrimeR, please make sure
that the required versions of the speciied tools are
 
                installed and that they are functional:
o MELTING (http://www.ebi.ac.uk/biomodels/tools/melting/)
o OligoArrayAux (http://unafold.rna.albany.edu/OligoArrayAux.php)
o MAFFT (http://mafft.cbrc.jp/alignment/software/)
The number of cores for was set to '2' by 'parallel_setup()'.
> #test_package("openPrimeR") 
> test_check("openPrimeR")
[ FAIL 0 | WARN 5 | SKIP 8 | PASS 1474 ]
══ Skipped tests (8) ═══════════════════════════════════════════════════════════
• MAFFT not available. (1): 'test_primer_design.R:125:9'
• OligoArrayAux not available. (5): 'test_con_dimerization.R:7:9',
  'test_con_dimerization.R:42:9', 'test_con_primer_coverage.R:50:9',
  'test_con_primer_coverage.R:77:9', 'test_con_primer_specificity.R:40:9'
• On Bioconductor (1): 'test_primer_design.R:137:5'
• empty test (1): 'test_primers.R:29:1'
[ FAIL 0 | WARN 5 | SKIP 8 | PASS 1474 ]
> 
> proc.time()
   user  system elapsed 
109.074  37.477 258.294 
openPrimeR.Rcheck/openPrimeR-Ex.timings
| name | user | system | elapsed | |
| AnalysisStats | 3.848 | 0.067 | 4.868 | |
| Data | 1.487 | 0.102 | 1.991 | |
| Input | 2.665 | 0.186 | 3.597 | |
| Output | 69.760 | 26.494 | 86.648 | |
| Plots | 23.466 | 8.289 | 28.917 | |
| PrimerDesign | 38.555 | 15.184 | 50.217 | |
| PrimerEval | 20.517 | 11.165 | 23.347 | |
| Primers-method | 0.073 | 0.034 | 0.135 | |
| Scoring | 0.085 | 0.014 | 0.125 | |
| Settings | 1.551 | 2.147 | 5.164 | |
| Templates-method | 0.050 | 0.013 | 0.066 | |
| TemplatesFunctions | 0.580 | 0.146 | 0.934 | |
| runTutorial | 0.000 | 0.001 | 0.001 | |