| Back to Multiple platform build/check report for BioC 3.17: simplified long | 
  | 
This page was generated on 2023-10-16 11:35:34 -0400 (Mon, 16 Oct 2023).
| Hostname | OS | Arch (*) | R version | Installed pkgs | 
|---|---|---|---|---|
| nebbiolo1 | Linux (Ubuntu 22.04.2 LTS) | x86_64 | 4.3.1 (2023-06-16) -- "Beagle Scouts" | 4626 | 
| palomino3 | Windows Server 2022 Datacenter | x64 | 4.3.1 (2023-06-16 ucrt) -- "Beagle Scouts" | 4379 | 
| merida1 | macOS 12.6.4 Monterey | x86_64 | 4.3.1 (2023-06-16) -- "Beagle Scouts" | 4395 | 
| Click on any hostname to see more info about the system (e.g. compilers) (*) as reported by 'uname -p', except on Windows and Mac OS X | ||||
| Package 1379/2230 | Hostname | OS / Arch | INSTALL | BUILD | CHECK | BUILD BIN | ||||||||
| netresponse 1.60.0  (landing page) Leo Lahti 
  | nebbiolo1 | Linux (Ubuntu 22.04.2 LTS) / x86_64 | OK | OK | OK | |||||||||
| palomino3 | Windows Server 2022 Datacenter / x64 | OK | OK | OK | OK | |||||||||
| merida1 | macOS 12.6.4 Monterey / x86_64 | OK | OK | OK | OK | |||||||||
| kjohnson2 | macOS 12.6.1 Monterey / arm64 | see weekly results here | ||||||||||||
| 
To the developers/maintainers of the netresponse package: - Allow up to 24 hours (and sometimes 48 hours) for your latest push to git@git.bioconductor.org:packages/netresponse.git to reflect on this report. See Troubleshooting Build Report for more information. - Use the following Renviron settings to reproduce errors and warnings. - If 'R CMD check' started to fail recently on the Linux builder(s) over a missing dependency, add the missing dependency to 'Suggests:' in your DESCRIPTION file. See Renviron.bioc for more information.  | 
| Package: netresponse | 
| Version: 1.60.0 | 
| Command: /home/biocbuild/bbs-3.17-bioc/R/bin/R CMD INSTALL netresponse | 
| StartedAt: 2023-10-15 15:44:00 -0400 (Sun, 15 Oct 2023) | 
| EndedAt: 2023-10-15 15:44:10 -0400 (Sun, 15 Oct 2023) | 
| EllapsedTime: 9.6 seconds | 
| RetCode: 0 | 
| Status: OK | 
##############################################################################
##############################################################################
###
### Running command:
###
###   /home/biocbuild/bbs-3.17-bioc/R/bin/R CMD INSTALL netresponse
###
##############################################################################
##############################################################################
* installing to library ‘/home/biocbuild/bbs-3.17-bioc/R/site-library’
* installing *source* package ‘netresponse’ ...
** using staged installation
** libs
using C compiler: ‘gcc (Ubuntu 11.4.0-1ubuntu1~22.04) 11.4.0’
gcc -I"/home/biocbuild/bbs-3.17-bioc/R/include" -DNDEBUG   -I/usr/local/include    -fpic  -g -O2  -Wall -c netresponse.c -o netresponse.o
netresponse.c: In function ‘mHPpost’:
netresponse.c:264:15: warning: unused variable ‘prior_fields’ [-Wunused-variable]
  264 |   const char *prior_fields[]={"Mumu","S2mu",
      |               ^~~~~~~~~~~~
netresponse.c: In function ‘mLogLambda’:
netresponse.c:713:3: warning: ‘U_p’ may be used uninitialized in this function [-Wmaybe-uninitialized]
  713 |   vdp_mk_log_lambda(Mumu, S2mu, Mubar, Mutilde,
      |   ^~~~~~~~~~~~~~~~~~~~~~~~~~~~~~~~~~~~~~~~~~~~~
  714 |                     AlphaKsi, BetaKsi, KsiAlpha, KsiBeta,
      |                     ~~~~~~~~~~~~~~~~~~~~~~~~~~~~~~~~~~~~~
  715 |                     post_gamma, log_lambda, prior_alpha,
      |                     ~~~~~~~~~~~~~~~~~~~~~~~~~~~~~~~~~~~~
  716 |                     U_p, U_hat,
      |                     ~~~~~~~~~~~
  717 |                     datalen, dim1, dim2, data1, data2,
      |                     ~~~~~~~~~~~~~~~~~~~~~~~~~~~~~~~~~~
  718 |                     Ns, ncentroids, implicitnoisevar);
      |                     ~~~~~~~~~~~~~~~~~~~~~~~~~~~~~~~~~
netresponse.c:713:3: warning: ‘KsiBeta’ may be used uninitialized in this function [-Wmaybe-uninitialized]
netresponse.c:713:3: warning: ‘KsiAlpha’ may be used uninitialized in this function [-Wmaybe-uninitialized]
netresponse.c:713:3: warning: ‘BetaKsi’ may be used uninitialized in this function [-Wmaybe-uninitialized]
netresponse.c:713:3: warning: ‘AlphaKsi’ may be used uninitialized in this function [-Wmaybe-uninitialized]
netresponse.c:713:3: warning: ‘Mutilde’ may be used uninitialized in this function [-Wmaybe-uninitialized]
netresponse.c:713:3: warning: ‘Mubar’ may be used uninitialized in this function [-Wmaybe-uninitialized]
netresponse.c:713:3: warning: ‘S2mu’ may be used uninitialized in this function [-Wmaybe-uninitialized]
netresponse.c:713:3: warning: ‘Mumu’ may be used uninitialized in this function [-Wmaybe-uninitialized]
gcc -shared -L/home/biocbuild/bbs-3.17-bioc/R/lib -L/usr/local/lib -o netresponse.so netresponse.o -L/home/biocbuild/bbs-3.17-bioc/R/lib -lR
installing to /home/biocbuild/bbs-3.17-bioc/R/site-library/00LOCK-netresponse/00new/netresponse/libs
** R
** data
** inst
** byte-compile and prepare package for lazy loading
** help
*** installing help indices
** building package indices
** installing vignettes
** testing if installed package can be loaded from temporary location
** checking absolute paths in shared objects and dynamic libraries
** testing if installed package can be loaded from final location
** testing if installed package keeps a record of temporary installation path
* DONE (netresponse)