| Back to Multiple platform build/check report for BioC 3.17: simplified long |
|
This page was generated on 2023-10-16 11:35:34 -0400 (Mon, 16 Oct 2023).
| Hostname | OS | Arch (*) | R version | Installed pkgs |
|---|---|---|---|---|
| nebbiolo1 | Linux (Ubuntu 22.04.2 LTS) | x86_64 | 4.3.1 (2023-06-16) -- "Beagle Scouts" | 4626 |
| palomino3 | Windows Server 2022 Datacenter | x64 | 4.3.1 (2023-06-16 ucrt) -- "Beagle Scouts" | 4379 |
| merida1 | macOS 12.6.4 Monterey | x86_64 | 4.3.1 (2023-06-16) -- "Beagle Scouts" | 4395 |
| Click on any hostname to see more info about the system (e.g. compilers) (*) as reported by 'uname -p', except on Windows and Mac OS X | ||||
| Package 1357/2230 | Hostname | OS / Arch | INSTALL | BUILD | CHECK | BUILD BIN | ||||||||
| nanotatoR 1.16.0 (landing page) Surajit Bhattacharya
| nebbiolo1 | Linux (Ubuntu 22.04.2 LTS) / x86_64 | OK | OK | OK | |||||||||
| palomino3 | Windows Server 2022 Datacenter / x64 | OK | OK | OK | OK | |||||||||
| merida1 | macOS 12.6.4 Monterey / x86_64 | OK | OK | OK | OK | |||||||||
| kjohnson2 | macOS 12.6.1 Monterey / arm64 | see weekly results here | ||||||||||||
|
To the developers/maintainers of the nanotatoR package: - Allow up to 24 hours (and sometimes 48 hours) for your latest push to git@git.bioconductor.org:packages/nanotatoR.git to reflect on this report. See Troubleshooting Build Report for more information. - Use the following Renviron settings to reproduce errors and warnings. - If 'R CMD check' started to fail recently on the Linux builder(s) over a missing dependency, add the missing dependency to 'Suggests:' in your DESCRIPTION file. See Renviron.bioc for more information. |
| Package: nanotatoR |
| Version: 1.16.0 |
| Command: /home/biocbuild/bbs-3.17-bioc/R/bin/R CMD check --install=check:nanotatoR.install-out.txt --library=/home/biocbuild/bbs-3.17-bioc/R/site-library --timings nanotatoR_1.16.0.tar.gz |
| StartedAt: 2023-10-15 23:13:42 -0400 (Sun, 15 Oct 2023) |
| EndedAt: 2023-10-15 23:16:11 -0400 (Sun, 15 Oct 2023) |
| EllapsedTime: 149.3 seconds |
| RetCode: 0 |
| Status: OK |
| CheckDir: nanotatoR.Rcheck |
| Warnings: 0 |
##############################################################################
##############################################################################
###
### Running command:
###
### /home/biocbuild/bbs-3.17-bioc/R/bin/R CMD check --install=check:nanotatoR.install-out.txt --library=/home/biocbuild/bbs-3.17-bioc/R/site-library --timings nanotatoR_1.16.0.tar.gz
###
##############################################################################
##############################################################################
* using log directory ‘/home/biocbuild/bbs-3.17-bioc/meat/nanotatoR.Rcheck’
* using R version 4.3.1 (2023-06-16)
* using platform: x86_64-pc-linux-gnu (64-bit)
* R was compiled by
gcc (Ubuntu 11.3.0-1ubuntu1~22.04.1) 11.3.0
GNU Fortran (Ubuntu 11.3.0-1ubuntu1~22.04.1) 11.3.0
* running under: Ubuntu 22.04.3 LTS
* using session charset: UTF-8
* checking for file ‘nanotatoR/DESCRIPTION’ ... OK
* this is package ‘nanotatoR’ version ‘1.16.0’
* package encoding: UTF-8
* checking package namespace information ... OK
* checking package dependencies ... OK
* checking if this is a source package ... OK
* checking if there is a namespace ... OK
* checking for hidden files and directories ... NOTE
Found the following hidden files and directories:
.travis.yml
These were most likely included in error. See section ‘Package
structure’ in the ‘Writing R Extensions’ manual.
* checking for portable file names ... OK
* checking for sufficient/correct file permissions ... OK
* checking whether package ‘nanotatoR’ can be installed ... OK
* checking installed package size ... OK
* checking package directory ... OK
* checking ‘build’ directory ... OK
* checking DESCRIPTION meta-information ... OK
* checking top-level files ... OK
* checking for left-over files ... OK
* checking index information ... OK
* checking package subdirectories ... OK
* checking R files for non-ASCII characters ... OK
* checking R files for syntax errors ... OK
* checking whether the package can be loaded ... OK
* checking whether the package can be loaded with stated dependencies ... OK
* checking whether the package can be unloaded cleanly ... OK
* checking whether the namespace can be loaded with stated dependencies ... OK
* checking whether the namespace can be unloaded cleanly ... OK
* checking loading without being on the library search path ... OK
* checking dependencies in R code ... NOTE
Namespace in Imports field not imported from: ‘GenomicRanges’
All declared Imports should be used.
* checking S3 generic/method consistency ... OK
* checking replacement functions ... OK
* checking foreign function calls ... OK
* checking R code for possible problems ... OK
* checking Rd files ... OK
* checking Rd metadata ... OK
* checking Rd cross-references ... OK
* checking for missing documentation entries ... OK
* checking for code/documentation mismatches ... OK
* checking Rd \usage sections ... OK
* checking Rd contents ... OK
* checking for unstated dependencies in examples ... OK
* checking files in ‘vignettes’ ... OK
* checking examples ... OK
* checking for unstated dependencies in ‘tests’ ... OK
* checking tests ...
Running ‘testthat.R’
OK
* checking for unstated dependencies in vignettes ... OK
* checking package vignettes in ‘inst/doc’ ... OK
* checking running R code from vignettes ...
‘nanotatoR.Rmd’ using ‘UTF-8’... OK
NONE
* checking re-building of vignette outputs ... OK
* checking PDF version of manual ... OK
* DONE
Status: 2 NOTEs
See
‘/home/biocbuild/bbs-3.17-bioc/meat/nanotatoR.Rcheck/00check.log’
for details.
nanotatoR.Rcheck/00install.out
############################################################################## ############################################################################## ### ### Running command: ### ### /home/biocbuild/bbs-3.17-bioc/R/bin/R CMD INSTALL nanotatoR ### ############################################################################## ############################################################################## * installing to library ‘/home/biocbuild/bbs-3.17-bioc/R/site-library’ * installing *source* package ‘nanotatoR’ ... ** using staged installation ** R ** inst ** byte-compile and prepare package for lazy loading ** help *** installing help indices ** building package indices ** installing vignettes ** testing if installed package can be loaded from temporary location ** testing if installed package can be loaded from final location ** testing if installed package keeps a record of temporary installation path * DONE (nanotatoR)
nanotatoR.Rcheck/tests/testthat.Rout
R version 4.3.1 (2023-06-16) -- "Beagle Scouts"
Copyright (C) 2023 The R Foundation for Statistical Computing
Platform: x86_64-pc-linux-gnu (64-bit)
R is free software and comes with ABSOLUTELY NO WARRANTY.
You are welcome to redistribute it under certain conditions.
Type 'license()' or 'licence()' for distribution details.
R is a collaborative project with many contributors.
Type 'contributors()' for more information and
'citation()' on how to cite R or R packages in publications.
Type 'demo()' for some demos, 'help()' for on-line help, or
'help.start()' for an HTML browser interface to help.
Type 'q()' to quit R.
> library(testthat)
> library(nanotatoR)
>
> test_check("nanotatoR")
[ FAIL 0 | WARN 0 | SKIP 0 | PASS 0 ]
>
> proc.time()
user system elapsed
4.823 0.283 5.095
nanotatoR.Rcheck/nanotatoR-Ex.timings
| name | user | system | elapsed | |
| BNDBfrequency | 0.052 | 0.008 | 0.061 | |
| DGVfrequency | 0.018 | 0.003 | 0.022 | |
| Decipherfrequency | 0.016 | 0.012 | 0.027 | |
| FamilyInfoPrep | 0.012 | 0.004 | 0.015 | |
| OverlapRNAseq | 0.147 | 0.008 | 0.156 | |
| OverlapRNAseq_solo | 0.092 | 0.016 | 0.106 | |
| RNAseqcombine | 0 | 0 | 0 | |
| RNAseqcombine_solo | 0.089 | 0.015 | 0.103 | |
| SVexpression_duo_trio | 0.001 | 0.000 | 0.000 | |
| SVexpression_solo | 0.165 | 0.068 | 0.233 | |
| buildrunBNBedFiles | 0.005 | 0.000 | 0.005 | |
| clinvar_gene | 0.013 | 0.003 | 0.018 | |
| extract_clinvar_mod | 0.014 | 0.003 | 0.019 | |
| gene_extraction | 0.584 | 0.109 | 1.334 | |
| gene_list_generation | 0.974 | 0.232 | 2.168 | |
| gtr_gene | 0.002 | 0.000 | 0.003 | |
| internalFrequencyTrio_Duo | 0.091 | 0.004 | 0.095 | |
| internalFrequency_solo | 0.156 | 0.000 | 0.155 | |
| makeInternalBNDatabase | 0.001 | 0.000 | 0.001 | |
| mergingSMAP_SE | 0.019 | 0.000 | 0.019 | |
| mergingSMAP_SVMerge | 0.007 | 0.000 | 0.008 | |
| merging_SE_SVMerge | 0.039 | 0.000 | 0.040 | |
| nanotatoR | 0.001 | 0.000 | 0.002 | |
| nanotatoR_Duo_SVmerge | 0.001 | 0.000 | 0.001 | |
| nanotatoR_SVmerge_Trio | 0.000 | 0.001 | 0.000 | |
| nanotatoR_main_Duo_SE | 0.000 | 0.001 | 0.001 | |
| nanotatoR_main_Solo_SE | 0.431 | 0.077 | 0.508 | |
| nanotatoR_main_Solo_SVmerge | 0.096 | 0.012 | 0.109 | |
| nanotatoR_main_Trio_SE | 0.058 | 0.008 | 0.065 | |
| nonOverlapGenes | 0.014 | 0.004 | 0.017 | |
| nonOverlapRNAseq | 0.124 | 0.004 | 0.128 | |
| nonOverlapRNAseq_solo | 0.104 | 0.000 | 0.105 | |
| nonOverlappingDNGenes | 0.021 | 0.000 | 0.022 | |
| nonOverlappingUPGenes | 0.021 | 0.000 | 0.021 | |
| omim_gene | 0.014 | 0.000 | 0.442 | |
| overlapGenes | 0.012 | 0.000 | 0.012 | |
| overlapnearestgeneSearch | 0.024 | 0.000 | 0.025 | |
| overlappingGenes | 0.02 | 0.00 | 0.02 | |
| phenoextractHPO_mod | 0.001 | 0.003 | 0.005 | |
| readBNBedFiles | 0.002 | 0.001 | 0.003 | |
| readSMap | 0.008 | 0.008 | 0.016 | |
| readSMap_DLE | 0.011 | 0.000 | 0.010 | |
| reading_GTR | 0.002 | 0.000 | 0.002 | |
| reading_mim2gene | 0.002 | 0.000 | 0.002 | |
| run_bionano_filter_SE_Trio | 0.204 | 0.016 | 0.220 | |
| run_bionano_filter_SE_duo | 0.001 | 0.000 | 0.000 | |
| run_bionano_filter_SE_solo | 0.347 | 0.019 | 0.367 | |
| run_bionano_filter_SVMerge_Trio | 0 | 0 | 0 | |
| run_bionano_filter_SVMerge_duo | 0 | 0 | 0 | |
| run_bionano_filter_SVMerge_solo | 0.250 | 0.008 | 0.258 | |