| Back to Multiple platform build/check report for BioC 3.17: simplified long |
|
This page was generated on 2023-10-16 11:36:23 -0400 (Mon, 16 Oct 2023).
| Hostname | OS | Arch (*) | R version | Installed pkgs |
|---|---|---|---|---|
| nebbiolo1 | Linux (Ubuntu 22.04.2 LTS) | x86_64 | 4.3.1 (2023-06-16) -- "Beagle Scouts" | 4626 |
| palomino3 | Windows Server 2022 Datacenter | x64 | 4.3.1 (2023-06-16 ucrt) -- "Beagle Scouts" | 4379 |
| merida1 | macOS 12.6.4 Monterey | x86_64 | 4.3.1 (2023-06-16) -- "Beagle Scouts" | 4395 |
| Click on any hostname to see more info about the system (e.g. compilers) (*) as reported by 'uname -p', except on Windows and Mac OS X | ||||
| Package 1329/2230 | Hostname | OS / Arch | INSTALL | BUILD | CHECK | BUILD BIN | ||||||||
| multicrispr 1.10.1 (landing page) Aditya Bhagwat
| nebbiolo1 | Linux (Ubuntu 22.04.2 LTS) / x86_64 | OK | OK | OK | |||||||||
| palomino3 | Windows Server 2022 Datacenter / x64 | OK | OK | OK | OK | |||||||||
| merida1 | macOS 12.6.4 Monterey / x86_64 | OK | OK | OK | OK | |||||||||
| kjohnson2 | macOS 12.6.1 Monterey / arm64 | see weekly results here | ||||||||||||
|
To the developers/maintainers of the multicrispr package: - Allow up to 24 hours (and sometimes 48 hours) for your latest push to git@git.bioconductor.org:packages/multicrispr.git to reflect on this report. See Troubleshooting Build Report for more information. - Use the following Renviron settings to reproduce errors and warnings. - If 'R CMD check' started to fail recently on the Linux builder(s) over a missing dependency, add the missing dependency to 'Suggests:' in your DESCRIPTION file. See Renviron.bioc for more information. |
| Package: multicrispr |
| Version: 1.10.1 |
| Command: F:\biocbuild\bbs-3.17-bioc\R\bin\R.exe CMD check --no-multiarch --install=check:multicrispr.install-out.txt --library=F:\biocbuild\bbs-3.17-bioc\R\library --no-vignettes --timings multicrispr_1.10.1.tar.gz |
| StartedAt: 2023-10-16 04:32:37 -0400 (Mon, 16 Oct 2023) |
| EndedAt: 2023-10-16 04:38:52 -0400 (Mon, 16 Oct 2023) |
| EllapsedTime: 375.0 seconds |
| RetCode: 0 |
| Status: OK |
| CheckDir: multicrispr.Rcheck |
| Warnings: 0 |
##############################################################################
##############################################################################
###
### Running command:
###
### F:\biocbuild\bbs-3.17-bioc\R\bin\R.exe CMD check --no-multiarch --install=check:multicrispr.install-out.txt --library=F:\biocbuild\bbs-3.17-bioc\R\library --no-vignettes --timings multicrispr_1.10.1.tar.gz
###
##############################################################################
##############################################################################
* using log directory 'F:/biocbuild/bbs-3.17-bioc/meat/multicrispr.Rcheck'
* using R version 4.3.1 (2023-06-16 ucrt)
* using platform: x86_64-w64-mingw32 (64-bit)
* R was compiled by
gcc.exe (GCC) 12.2.0
GNU Fortran (GCC) 12.2.0
* running under: Windows Server 2022 x64 (build 20348)
* using session charset: UTF-8
* using option '--no-vignettes'
* checking for file 'multicrispr/DESCRIPTION' ... OK
* this is package 'multicrispr' version '1.10.1'
* package encoding: UTF-8
* checking package namespace information ... OK
* checking package dependencies ... OK
* checking if this is a source package ... OK
* checking if there is a namespace ... OK
* checking for hidden files and directories ... OK
* checking for portable file names ... OK
* checking whether package 'multicrispr' can be installed ... OK
* checking installed package size ... OK
* checking package directory ... OK
* checking 'build' directory ... OK
* checking DESCRIPTION meta-information ... OK
* checking top-level files ... OK
* checking for left-over files ... OK
* checking index information ... OK
* checking package subdirectories ... OK
* checking R files for non-ASCII characters ... OK
* checking R files for syntax errors ... OK
* checking whether the package can be loaded ... OK
* checking whether the package can be loaded with stated dependencies ... OK
* checking whether the package can be unloaded cleanly ... OK
* checking whether the namespace can be loaded with stated dependencies ... OK
* checking whether the namespace can be unloaded cleanly ... OK
* checking dependencies in R code ... OK
* checking S3 generic/method consistency ... OK
* checking replacement functions ... OK
* checking foreign function calls ... OK
* checking R code for possible problems ... OK
* checking Rd files ... OK
* checking Rd metadata ... OK
* checking Rd cross-references ... OK
* checking for missing documentation entries ... OK
* checking for code/documentation mismatches ... OK
* checking Rd \usage sections ... OK
* checking Rd contents ... OK
* checking for unstated dependencies in examples ... OK
* checking files in 'vignettes' ... OK
* checking examples ... OK
Examples with CPU (user + system) or elapsed time > 5s
user system elapsed
find_primespacers 15.20 1.79 17.02
score_ontargets 15.39 1.55 17.11
add_genome_matches 11.32 2.36 21.97
up_flank 11.17 0.18 11.48
find_spacers 9.78 0.96 10.90
plot_intervals 8.39 0.75 9.14
extend_for_pe 7.26 0.98 8.36
add_target_matches 6.97 0.85 10.35
index_genome 1.32 0.07 17.74
* checking for unstated dependencies in 'tests' ... OK
* checking tests ...
Running 'testthat.R'
OK
* checking for unstated dependencies in vignettes ... OK
* checking package vignettes in 'inst/doc' ... OK
* checking running R code from vignettes ... SKIPPED
* checking re-building of vignette outputs ... SKIPPED
* checking PDF version of manual ... OK
* DONE
Status: OK
multicrispr.Rcheck/00install.out
############################################################################## ############################################################################## ### ### Running command: ### ### F:\biocbuild\bbs-3.17-bioc\R\bin\R.exe CMD INSTALL multicrispr ### ############################################################################## ############################################################################## * installing to library 'F:/biocbuild/bbs-3.17-bioc/R/library' * installing *source* package 'multicrispr' ... ** using staged installation ** R ** inst ** byte-compile and prepare package for lazy loading ** help *** installing help indices ** building package indices ** installing vignettes ** testing if installed package can be loaded from temporary location ** testing if installed package can be loaded from final location ** testing if installed package keeps a record of temporary installation path * DONE (multicrispr)
multicrispr.Rcheck/tests/testthat.Rout
R version 4.3.1 (2023-06-16 ucrt) -- "Beagle Scouts"
Copyright (C) 2023 The R Foundation for Statistical Computing
Platform: x86_64-w64-mingw32/x64 (64-bit)
R is free software and comes with ABSOLUTELY NO WARRANTY.
You are welcome to redistribute it under certain conditions.
Type 'license()' or 'licence()' for distribution details.
R is a collaborative project with many contributors.
Type 'contributors()' for more information and
'citation()' on how to cite R or R packages in publications.
Type 'demo()' for some demos, 'help()' for on-line help, or
'help.start()' for an HTML browser interface to help.
Type 'q()' to quit R.
> library(testthat)
> library(multicrispr)
>
> test_check("multicrispr")
[ FAIL 0 | WARN 0 | SKIP 0 | PASS 13 ]
>
> proc.time()
user system elapsed
12.89 1.70 14.60
multicrispr.Rcheck/multicrispr-Ex.timings
| name | user | system | elapsed | |
| add_genome_matches | 11.32 | 2.36 | 21.97 | |
| add_inverse_strand | 1.70 | 0.19 | 2.06 | |
| add_seq | 2.28 | 0.29 | 2.76 | |
| add_target_matches | 6.97 | 0.85 | 10.35 | |
| bed_to_granges | 0.62 | 0.12 | 0.86 | |
| char_to_granges | 0.78 | 0.00 | 0.78 | |
| double_flank | 2.27 | 0.08 | 2.35 | |
| extend_for_pe | 7.26 | 0.98 | 8.36 | |
| extend_pe_to_gg | 0.41 | 0.04 | 0.44 | |
| extract_matchranges | 2.64 | 0.25 | 3.03 | |
| extract_subranges | 0.48 | 0.00 | 0.48 | |
| find_gg | 0.94 | 0.06 | 1.00 | |
| find_primespacers | 15.20 | 1.79 | 17.02 | |
| find_spacers | 9.78 | 0.96 | 10.90 | |
| genes_to_granges | 3.50 | 0.15 | 3.96 | |
| gr2dt | 0.22 | 0.00 | 0.21 | |
| has_been_indexed | 0 | 0 | 0 | |
| index_genome | 1.32 | 0.07 | 17.74 | |
| index_targets | 1.67 | 0.29 | 2.72 | |
| plot_intervals | 8.39 | 0.75 | 9.14 | |
| plot_karyogram | 1.23 | 0.13 | 1.58 | |
| score_ontargets | 15.39 | 1.55 | 17.11 | |
| up_flank | 11.17 | 0.18 | 11.48 | |
| write_ranges | 0.14 | 0.00 | 0.16 | |