| Back to Multiple platform build/check report for BioC 3.17: simplified long |
|
This page was generated on 2023-10-16 11:35:30 -0400 (Mon, 16 Oct 2023).
| Hostname | OS | Arch (*) | R version | Installed pkgs |
|---|---|---|---|---|
| nebbiolo1 | Linux (Ubuntu 22.04.2 LTS) | x86_64 | 4.3.1 (2023-06-16) -- "Beagle Scouts" | 4626 |
| palomino3 | Windows Server 2022 Datacenter | x64 | 4.3.1 (2023-06-16 ucrt) -- "Beagle Scouts" | 4379 |
| merida1 | macOS 12.6.4 Monterey | x86_64 | 4.3.1 (2023-06-16) -- "Beagle Scouts" | 4395 |
| Click on any hostname to see more info about the system (e.g. compilers) (*) as reported by 'uname -p', except on Windows and Mac OS X | ||||
| Package 1176/2230 | Hostname | OS / Arch | INSTALL | BUILD | CHECK | BUILD BIN | ||||||||
| metagenomeSeq 1.42.0 (landing page) Joseph N. Paulson
| nebbiolo1 | Linux (Ubuntu 22.04.2 LTS) / x86_64 | OK | OK | ERROR | |||||||||
| palomino3 | Windows Server 2022 Datacenter / x64 | OK | OK | ERROR | OK | |||||||||
| merida1 | macOS 12.6.4 Monterey / x86_64 | OK | OK | ERROR | OK | |||||||||
| kjohnson2 | macOS 12.6.1 Monterey / arm64 | see weekly results here | ||||||||||||
|
To the developers/maintainers of the metagenomeSeq package: - Allow up to 24 hours (and sometimes 48 hours) for your latest push to git@git.bioconductor.org:packages/metagenomeSeq.git to reflect on this report. See Troubleshooting Build Report for more information. - Use the following Renviron settings to reproduce errors and warnings. - If 'R CMD check' started to fail recently on the Linux builder(s) over a missing dependency, add the missing dependency to 'Suggests:' in your DESCRIPTION file. See Renviron.bioc for more information. |
| Package: metagenomeSeq |
| Version: 1.42.0 |
| Command: /home/biocbuild/bbs-3.17-bioc/R/bin/R CMD check --install=check:metagenomeSeq.install-out.txt --library=/home/biocbuild/bbs-3.17-bioc/R/site-library --timings metagenomeSeq_1.42.0.tar.gz |
| StartedAt: 2023-10-15 22:38:34 -0400 (Sun, 15 Oct 2023) |
| EndedAt: 2023-10-15 22:42:53 -0400 (Sun, 15 Oct 2023) |
| EllapsedTime: 259.6 seconds |
| RetCode: 1 |
| Status: ERROR |
| CheckDir: metagenomeSeq.Rcheck |
| Warnings: NA |
##############################################################################
##############################################################################
###
### Running command:
###
### /home/biocbuild/bbs-3.17-bioc/R/bin/R CMD check --install=check:metagenomeSeq.install-out.txt --library=/home/biocbuild/bbs-3.17-bioc/R/site-library --timings metagenomeSeq_1.42.0.tar.gz
###
##############################################################################
##############################################################################
* using log directory ‘/home/biocbuild/bbs-3.17-bioc/meat/metagenomeSeq.Rcheck’
* using R version 4.3.1 (2023-06-16)
* using platform: x86_64-pc-linux-gnu (64-bit)
* R was compiled by
gcc (Ubuntu 11.3.0-1ubuntu1~22.04.1) 11.3.0
GNU Fortran (Ubuntu 11.3.0-1ubuntu1~22.04.1) 11.3.0
* running under: Ubuntu 22.04.3 LTS
* using session charset: UTF-8
* checking for file ‘metagenomeSeq/DESCRIPTION’ ... OK
* this is package ‘metagenomeSeq’ version ‘1.42.0’
* checking package namespace information ... OK
* checking package dependencies ... OK
* checking if this is a source package ... OK
* checking if there is a namespace ... OK
* checking for hidden files and directories ... OK
* checking for portable file names ... OK
* checking for sufficient/correct file permissions ... OK
* checking whether package ‘metagenomeSeq’ can be installed ... OK
* checking installed package size ... OK
* checking package directory ... OK
* checking ‘build’ directory ... OK
* checking DESCRIPTION meta-information ... OK
* checking top-level files ... OK
* checking for left-over files ... OK
* checking index information ... OK
* checking package subdirectories ... OK
* checking R files for non-ASCII characters ... OK
* checking R files for syntax errors ... OK
* checking whether the package can be loaded ... OK
* checking whether the package can be loaded with stated dependencies ... OK
* checking whether the package can be unloaded cleanly ... OK
* checking whether the namespace can be loaded with stated dependencies ... OK
* checking whether the namespace can be unloaded cleanly ... OK
* checking loading without being on the library search path ... OK
* checking dependencies in R code ... OK
* checking S3 generic/method consistency ... OK
* checking replacement functions ... OK
* checking foreign function calls ... OK
* checking R code for possible problems ... OK
* checking Rd files ... OK
* checking Rd metadata ... OK
* checking Rd cross-references ... OK
* checking for missing documentation entries ... OK
* checking for code/documentation mismatches ... OK
* checking Rd \usage sections ... OK
* checking Rd contents ... OK
* checking for unstated dependencies in examples ... OK
* checking contents of ‘data’ directory ... OK
* checking data for non-ASCII characters ... OK
* checking data for ASCII and uncompressed saves ... OK
* checking files in ‘vignettes’ ... OK
* checking examples ... OK
Examples with CPU (user + system) or elapsed time > 5s
user system elapsed
wrenchNorm 13.283 0.228 13.510
MRfulltable 0.907 0.057 5.634
* checking for unstated dependencies in ‘tests’ ... OK
* checking tests ...
Running ‘testthat.R’
ERROR
Running the tests in ‘tests/testthat.R’ failed.
Last 13 lines of output:
Loaded glmnet 4.1-8
Loading required package: RColorBrewer
[ FAIL 2 | WARN 6 | SKIP 0 | PASS 13 ]
══ Failed tests ════════════════════════════════════════════════════════════════
── Failure ('test-norm.R:28:3'): `cumNormStat` returns the correct value ───────
cumNormStat(lungData) not equal to 0.7014946.
names for target but not for current
── Failure ('test-norm.R:34:3'): `cumNormStatFast` returns the correct value ───
cumNormStatFast(lungData) not equal to 0.7014946.
names for target but not for current
[ FAIL 2 | WARN 6 | SKIP 0 | PASS 13 ]
Error: Test failures
Execution halted
* checking for unstated dependencies in vignettes ... OK
* checking package vignettes in ‘inst/doc’ ... OK
* checking running R code from vignettes ...
‘fitTimeSeries.Rnw’... OK
‘metagenomeSeq.Rnw’... OK
NONE
* checking re-building of vignette outputs ... OK
* checking PDF version of manual ... OK
* DONE
Status: 1 ERROR
See
‘/home/biocbuild/bbs-3.17-bioc/meat/metagenomeSeq.Rcheck/00check.log’
for details.
metagenomeSeq.Rcheck/00install.out
############################################################################## ############################################################################## ### ### Running command: ### ### /home/biocbuild/bbs-3.17-bioc/R/bin/R CMD INSTALL metagenomeSeq ### ############################################################################## ############################################################################## * installing to library ‘/home/biocbuild/bbs-3.17-bioc/R/site-library’ * installing *source* package ‘metagenomeSeq’ ... ** using staged installation ** R ** data ** inst ** byte-compile and prepare package for lazy loading in method for ‘MRihw’ with signature ‘"fitFeatureModelResults"’: no definition for class “fitFeatureModelResults” in method for ‘MRihw’ with signature ‘"fitZigResults"’: no definition for class “fitZigResults” ** help *** installing help indices ** building package indices ** installing vignettes ** testing if installed package can be loaded from temporary location ** testing if installed package can be loaded from final location ** testing if installed package keeps a record of temporary installation path * DONE (metagenomeSeq)
metagenomeSeq.Rcheck/tests/testthat.Rout.fail
R version 4.3.1 (2023-06-16) -- "Beagle Scouts"
Copyright (C) 2023 The R Foundation for Statistical Computing
Platform: x86_64-pc-linux-gnu (64-bit)
R is free software and comes with ABSOLUTELY NO WARRANTY.
You are welcome to redistribute it under certain conditions.
Type 'license()' or 'licence()' for distribution details.
R is a collaborative project with many contributors.
Type 'contributors()' for more information and
'citation()' on how to cite R or R packages in publications.
Type 'demo()' for some demos, 'help()' for on-line help, or
'help.start()' for an HTML browser interface to help.
Type 'q()' to quit R.
> library("testthat")
> packageVersion("metagenomeSeq")
[1] '1.42.0'
> # As suggested for opt-out option on testing by users,
> # recommended by CRAN: http://adv-r.had.co.nz/Testing.html
> # Previously, best practice was to put all test files in inst/tests
> # and ensure that R CMD check ran them by putting the following code in tests/test-all.R:
> # >library(testthat)
> # >library(yourpackage)
> # >test_package("yourpackage")
> # Now, recommended practice is to put your tests in tests/testthat,
> # and ensure R CMD check runs them by putting the following code in tests/test-all.R:
> # >library(testthat)
> # >test_check("yourpackage")
> # The advantage of this new structure is that the user has control over whether or not tests are installed using the –install-tests parameter to
> # R CMD install, or INSTALL_opts = c(“–install-tests”) argument to install.packages(). I’m not sure why you wouldn’t want to install the tests,
> # but now you have the flexibility as requested by CRAN maintainers.
> test_check("metagenomeSeq")
Loading required package: metagenomeSeq
Loading required package: Biobase
Loading required package: BiocGenerics
Attaching package: 'BiocGenerics'
The following objects are masked from 'package:stats':
IQR, mad, sd, var, xtabs
The following objects are masked from 'package:base':
Filter, Find, Map, Position, Reduce, anyDuplicated, aperm, append,
as.data.frame, basename, cbind, colnames, dirname, do.call,
duplicated, eval, evalq, get, grep, grepl, intersect, is.unsorted,
lapply, mapply, match, mget, order, paste, pmax, pmax.int, pmin,
pmin.int, rank, rbind, rownames, sapply, setdiff, sort, table,
tapply, union, unique, unsplit, which.max, which.min
Welcome to Bioconductor
Vignettes contain introductory material; view with
'browseVignettes()'. To cite Bioconductor, see
'citation("Biobase")', and for packages 'citation("pkgname")'.
Loading required package: limma
Attaching package: 'limma'
The following object is masked from 'package:BiocGenerics':
plotMA
Loading required package: glmnet
Loading required package: Matrix
Loaded glmnet 4.1-8
Loading required package: RColorBrewer
[ FAIL 2 | WARN 6 | SKIP 0 | PASS 13 ]
══ Failed tests ════════════════════════════════════════════════════════════════
── Failure ('test-norm.R:28:3'): `cumNormStat` returns the correct value ───────
cumNormStat(lungData) not equal to 0.7014946.
names for target but not for current
── Failure ('test-norm.R:34:3'): `cumNormStatFast` returns the correct value ───
cumNormStatFast(lungData) not equal to 0.7014946.
names for target but not for current
[ FAIL 2 | WARN 6 | SKIP 0 | PASS 13 ]
Error: Test failures
Execution halted
metagenomeSeq.Rcheck/metagenomeSeq-Ex.timings
| name | user | system | elapsed | |
| MRcoefs | 1.091 | 0.108 | 1.198 | |
| MRcounts | 0.458 | 0.017 | 0.473 | |
| MRexperiment-class | 0 | 0 | 0 | |
| MRfulltable | 0.907 | 0.057 | 5.634 | |
| MRtable | 1.013 | 0.291 | 1.305 | |
| aggregateBySample | 0.138 | 0.021 | 0.159 | |
| aggregateByTaxonomy | 0.157 | 0.020 | 0.177 | |
| biom2MRexperiment | 0.229 | 0.000 | 0.228 | |
| calcNormFactors | 0.456 | 0.031 | 0.488 | |
| correctIndices | 0.103 | 0.015 | 0.119 | |
| correlationTest | 0.213 | 0.024 | 0.237 | |
| cumNorm | 0.635 | 0.044 | 0.679 | |
| cumNormMat | 0.452 | 0.020 | 0.471 | |
| cumNormStat | 0.460 | 0.012 | 0.471 | |
| cumNormStatFast | 0.312 | 0.020 | 0.332 | |
| expSummary | 0.102 | 0.007 | 0.111 | |
| exportMat | 1.197 | 2.961 | 4.157 | |
| exportStats | 0.591 | 0.007 | 0.598 | |
| extractMR | 0.684 | 1.328 | 2.011 | |
| filterData | 0.145 | 0.009 | 0.152 | |
| fitDO | 0.362 | 0.002 | 2.851 | |
| fitFeatureModel | 1.007 | 0.012 | 1.019 | |
| fitLogNormal | 1.799 | 0.027 | 1.827 | |
| fitMultipleTimeSeries | 1.623 | 0.004 | 1.627 | |
| fitPA | 0.637 | 0.015 | 2.992 | |
| fitSSTimeSeries | 0.382 | 0.064 | 0.445 | |
| fitTimeSeries | 0.389 | 0.008 | 0.398 | |
| fitZig | 1.823 | 0.032 | 1.855 | |
| libSize-set | 0.300 | 0.016 | 0.316 | |
| libSize | 0.311 | 0.000 | 0.310 | |
| loadBiom | 0.036 | 0.000 | 0.036 | |
| loadMeta | 0.017 | 0.000 | 0.018 | |
| loadMetaQ | 0 | 0 | 0 | |
| loadPhenoData | 0.007 | 0.000 | 0.008 | |
| makeLabels | 0.000 | 0.000 | 0.001 | |
| mergeMRexperiments | 1.258 | 0.147 | 1.405 | |
| newMRexperiment | 0.026 | 0.000 | 0.026 | |
| normFactors-set | 0.309 | 0.008 | 0.315 | |
| normFactors | 0.274 | 0.004 | 0.278 | |
| plotBubble | 0.255 | 0.017 | 2.621 | |
| plotClassTimeSeries | 0.978 | 0.000 | 0.978 | |
| plotCorr | 0.416 | 0.016 | 0.432 | |
| plotFeature | 0.138 | 0.008 | 0.147 | |
| plotGenus | 0.112 | 0.016 | 0.127 | |
| plotMRheatmap | 1.819 | 0.056 | 1.875 | |
| plotOTU | 0.128 | 0.004 | 0.133 | |
| plotOrd | 0.197 | 0.004 | 0.201 | |
| plotRare | 0.107 | 0.016 | 0.123 | |
| plotTimeSeries | 0.932 | 0.016 | 0.947 | |
| posteriorProbs | 1.576 | 0.057 | 1.632 | |
| returnAppropriateObj | 0.277 | 0.013 | 0.291 | |
| ssFit | 0 | 0 | 0 | |
| ssIntervalCandidate | 0 | 0 | 0 | |
| ssPerm | 0 | 0 | 0 | |
| ssPermAnalysis | 0 | 0 | 0 | |
| trapz | 0.000 | 0.000 | 0.001 | |
| ts2MRexperiment | 1.530 | 0.034 | 1.563 | |
| uniqueFeatures | 0.104 | 0.014 | 0.117 | |
| wrenchNorm | 13.283 | 0.228 | 13.510 | |
| zigControl | 0 | 0 | 0 | |