| Back to Multiple platform build/check report for BioC 3.17: simplified long | 
  | 
This page was generated on 2023-10-16 11:37:12 -0400 (Mon, 16 Oct 2023).
| Hostname | OS | Arch (*) | R version | Installed pkgs | 
|---|---|---|---|---|
| nebbiolo1 | Linux (Ubuntu 22.04.2 LTS) | x86_64 | 4.3.1 (2023-06-16) -- "Beagle Scouts" | 4626 | 
| palomino3 | Windows Server 2022 Datacenter | x64 | 4.3.1 (2023-06-16 ucrt) -- "Beagle Scouts" | 4379 | 
| merida1 | macOS 12.6.4 Monterey | x86_64 | 4.3.1 (2023-06-16) -- "Beagle Scouts" | 4395 | 
| Click on any hostname to see more info about the system (e.g. compilers) (*) as reported by 'uname -p', except on Windows and Mac OS X | ||||
| Package 1137/2230 | Hostname | OS / Arch | INSTALL | BUILD | CHECK | BUILD BIN | ||||||||
| mbkmeans 1.16.0  (landing page) Davide Risso 
  | nebbiolo1 | Linux (Ubuntu 22.04.2 LTS) / x86_64 | OK | OK | OK | |||||||||
| palomino3 | Windows Server 2022 Datacenter / x64 | OK | OK | OK | OK | |||||||||
| merida1 | macOS 12.6.4 Monterey / x86_64 | OK | OK | OK | OK | |||||||||
| kjohnson2 | macOS 12.6.1 Monterey / arm64 | see weekly results here | ||||||||||||
| 
To the developers/maintainers of the mbkmeans package: - Allow up to 24 hours (and sometimes 48 hours) for your latest push to git@git.bioconductor.org:packages/mbkmeans.git to reflect on this report. See Troubleshooting Build Report for more information. - Use the following Renviron settings to reproduce errors and warnings. - If 'R CMD check' started to fail recently on the Linux builder(s) over a missing dependency, add the missing dependency to 'Suggests:' in your DESCRIPTION file. See Renviron.bioc for more information.  | 
| Package: mbkmeans | 
| Version: 1.16.0 | 
| Command: /Library/Frameworks/R.framework/Resources/bin/R CMD INSTALL mbkmeans | 
| StartedAt: 2023-10-15 15:31:58 -0400 (Sun, 15 Oct 2023) | 
| EndedAt: 2023-10-15 15:34:20 -0400 (Sun, 15 Oct 2023) | 
| EllapsedTime: 142.1 seconds | 
| RetCode: 0 | 
| Status: OK | 
##############################################################################
##############################################################################
###
### Running command:
###
###   /Library/Frameworks/R.framework/Resources/bin/R CMD INSTALL mbkmeans
###
##############################################################################
##############################################################################
* installing to library ‘/Library/Frameworks/R.framework/Versions/4.3-x86_64/Resources/library’
* installing *source* package ‘mbkmeans’ ...
** using staged installation
** libs
using C++ compiler: ‘Apple clang version 14.0.0 (clang-1400.0.29.202)’
using C++11
using SDK: ‘MacOSX11.3.sdk’
clang++ -arch x86_64 -std=gnu++11 -I"/Library/Frameworks/R.framework/Resources/include" -DNDEBUG  -I'/Library/Frameworks/R.framework/Versions/4.3-x86_64/Resources/library/Rcpp/include' -I'/Library/Frameworks/R.framework/Versions/4.3-x86_64/Resources/library/RcppArmadillo/include' -I'/Library/Frameworks/R.framework/Versions/4.3-x86_64/Resources/library/Rhdf5lib/include' -I'/Library/Frameworks/R.framework/Versions/4.3-x86_64/Resources/library/beachmat/include' -I'/Library/Frameworks/R.framework/Versions/4.3-x86_64/Resources/library/ClusterR/include' -I/opt/R/x86_64/include    -fPIC  -falign-functions=64 -Wall -g -O2  -c RcppExports.cpp -o RcppExports.o
clang++ -arch x86_64 -std=gnu++11 -I"/Library/Frameworks/R.framework/Resources/include" -DNDEBUG  -I'/Library/Frameworks/R.framework/Versions/4.3-x86_64/Resources/library/Rcpp/include' -I'/Library/Frameworks/R.framework/Versions/4.3-x86_64/Resources/library/RcppArmadillo/include' -I'/Library/Frameworks/R.framework/Versions/4.3-x86_64/Resources/library/Rhdf5lib/include' -I'/Library/Frameworks/R.framework/Versions/4.3-x86_64/Resources/library/beachmat/include' -I'/Library/Frameworks/R.framework/Versions/4.3-x86_64/Resources/library/ClusterR/include' -I/opt/R/x86_64/include    -fPIC  -falign-functions=64 -Wall -g -O2  -c mini_batch.cpp -o mini_batch.o
In file included from mini_batch.cpp:2:
In file included from /Library/Frameworks/R.framework/Versions/4.3-x86_64/Resources/library/RcppArmadillo/include/RcppArmadillo.h:29:
In file included from /Library/Frameworks/R.framework/Versions/4.3-x86_64/Resources/library/RcppArmadillo/include/RcppArmadillo/interface/RcppArmadilloForward.h:57:
In file included from /Library/Frameworks/R.framework/Versions/4.3-x86_64/Resources/library/RcppArmadillo/include/armadillo:26:
/Library/Frameworks/R.framework/Versions/4.3-x86_64/Resources/library/RcppArmadillo/include/armadillo_bits/config.hpp:321:11: warning: INFO: support for ARMA_DONT_PRINT_ERRORS option has been removed [-W#pragma-messages]
  #pragma message ("INFO: support for ARMA_DONT_PRINT_ERRORS option has been removed")
          ^
/Library/Frameworks/R.framework/Versions/4.3-x86_64/Resources/library/RcppArmadillo/include/armadillo_bits/config.hpp:326:13: warning: INFO: suggest to use ARMA_WARN_LEVEL option instead [-W#pragma-messages]
    #pragma message ("INFO: suggest to use ARMA_WARN_LEVEL option instead")
            ^
/Library/Frameworks/R.framework/Versions/4.3-x86_64/Resources/library/RcppArmadillo/include/armadillo_bits/config.hpp:329:11: warning: INFO: see the documentation for details [-W#pragma-messages]
  #pragma message ("INFO: see the documentation for details")
          ^
In file included from mini_batch.cpp:3:
/Library/Frameworks/R.framework/Versions/4.3-x86_64/Resources/library/ClusterR/include/ClusterRHeader.h:862:14: warning: variable 'status' set but not used [-Wunused-but-set-variable]
        bool status;
             ^
/Library/Frameworks/R.framework/Versions/4.3-x86_64/Resources/library/ClusterR/include/ClusterRHeader.h:1530:14: warning: variable 'status' set but not used [-Wunused-but-set-variable]
        bool status;
             ^
5 warnings generated.
clang++ -arch x86_64 -std=gnu++11 -dynamiclib -Wl,-headerpad_max_install_names -undefined dynamic_lookup -single_module -multiply_defined suppress -L/Library/Frameworks/R.framework/Resources/lib -L/opt/R/x86_64/lib -o mbkmeans.so RcppExports.o mini_batch.o -F/Library/Frameworks/R.framework/.. -framework R -Wl,-framework -Wl,CoreFoundation
installing to /Library/Frameworks/R.framework/Versions/4.3-x86_64/Resources/library/00LOCK-mbkmeans/00new/mbkmeans/libs
** R
** inst
** byte-compile and prepare package for lazy loading
** help
*** installing help indices
** building package indices
** installing vignettes
** testing if installed package can be loaded from temporary location
** checking absolute paths in shared objects and dynamic libraries
** testing if installed package can be loaded from final location
** testing if installed package keeps a record of temporary installation path
* DONE (mbkmeans)