| Back to Multiple platform build/check report for BioC 3.17: simplified long | 
  | 
This page was generated on 2023-10-16 11:35:22 -0400 (Mon, 16 Oct 2023).
| Hostname | OS | Arch (*) | R version | Installed pkgs | 
|---|---|---|---|---|
| nebbiolo1 | Linux (Ubuntu 22.04.2 LTS) | x86_64 | 4.3.1 (2023-06-16) -- "Beagle Scouts" | 4626 | 
| palomino3 | Windows Server 2022 Datacenter | x64 | 4.3.1 (2023-06-16 ucrt) -- "Beagle Scouts" | 4379 | 
| merida1 | macOS 12.6.4 Monterey | x86_64 | 4.3.1 (2023-06-16) -- "Beagle Scouts" | 4395 | 
| Click on any hostname to see more info about the system (e.g. compilers) (*) as reported by 'uname -p', except on Windows and Mac OS X | ||||
| Package 721/2230 | Hostname | OS / Arch | INSTALL | BUILD | CHECK | BUILD BIN | ||||||||
| flowMatch 1.36.0  (landing page) Ariful Azad 
  | nebbiolo1 | Linux (Ubuntu 22.04.2 LTS) / x86_64 | OK | OK | OK | |||||||||
| palomino3 | Windows Server 2022 Datacenter / x64 | OK | OK | OK | OK | |||||||||
| merida1 | macOS 12.6.4 Monterey / x86_64 | OK | OK | OK | OK | |||||||||
| kjohnson2 | macOS 12.6.1 Monterey / arm64 | see weekly results here | ||||||||||||
| 
To the developers/maintainers of the flowMatch package: - Allow up to 24 hours (and sometimes 48 hours) for your latest push to git@git.bioconductor.org:packages/flowMatch.git to reflect on this report. See Troubleshooting Build Report for more information. - Use the following Renviron settings to reproduce errors and warnings. - If 'R CMD check' started to fail recently on the Linux builder(s) over a missing dependency, add the missing dependency to 'Suggests:' in your DESCRIPTION file. See Renviron.bioc for more information.  | 
| Package: flowMatch | 
| Version: 1.36.0 | 
| Command: /home/biocbuild/bbs-3.17-bioc/R/bin/R CMD check --install=check:flowMatch.install-out.txt --library=/home/biocbuild/bbs-3.17-bioc/R/site-library --timings flowMatch_1.36.0.tar.gz | 
| StartedAt: 2023-10-15 21:23:40 -0400 (Sun, 15 Oct 2023) | 
| EndedAt: 2023-10-15 21:25:51 -0400 (Sun, 15 Oct 2023) | 
| EllapsedTime: 130.8 seconds | 
| RetCode: 0 | 
| Status: OK | 
| CheckDir: flowMatch.Rcheck | 
| Warnings: 0 | 
##############################################################################
##############################################################################
###
### Running command:
###
###   /home/biocbuild/bbs-3.17-bioc/R/bin/R CMD check --install=check:flowMatch.install-out.txt --library=/home/biocbuild/bbs-3.17-bioc/R/site-library --timings flowMatch_1.36.0.tar.gz
###
##############################################################################
##############################################################################
* using log directory ‘/home/biocbuild/bbs-3.17-bioc/meat/flowMatch.Rcheck’
* using R version 4.3.1 (2023-06-16)
* using platform: x86_64-pc-linux-gnu (64-bit)
* R was compiled by
    gcc (Ubuntu 11.3.0-1ubuntu1~22.04.1) 11.3.0
    GNU Fortran (Ubuntu 11.3.0-1ubuntu1~22.04.1) 11.3.0
* running under: Ubuntu 22.04.3 LTS
* using session charset: UTF-8
* checking for file ‘flowMatch/DESCRIPTION’ ... OK
* checking extension type ... Package
* this is package ‘flowMatch’ version ‘1.36.0’
* checking package namespace information ... OK
* checking package dependencies ... OK
* checking if this is a source package ... OK
* checking if there is a namespace ... OK
* checking for hidden files and directories ... OK
* checking for portable file names ... OK
* checking for sufficient/correct file permissions ... OK
* checking whether package ‘flowMatch’ can be installed ... OK
* used C++ compiler: ‘g++ (Ubuntu 11.4.0-1ubuntu1~22.04) 11.4.0’
* checking installed package size ... OK
* checking package directory ... OK
* checking ‘build’ directory ... OK
* checking DESCRIPTION meta-information ... OK
* checking top-level files ... OK
* checking for left-over files ... OK
* checking index information ... OK
* checking package subdirectories ... OK
* checking R files for non-ASCII characters ... OK
* checking R files for syntax errors ... OK
* checking whether the package can be loaded ... OK
* checking whether the package can be loaded with stated dependencies ... OK
* checking whether the package can be unloaded cleanly ... OK
* checking whether the namespace can be loaded with stated dependencies ... OK
* checking whether the namespace can be unloaded cleanly ... OK
* checking loading without being on the library search path ... OK
* checking dependencies in R code ... OK
* checking S3 generic/method consistency ... OK
* checking replacement functions ... OK
* checking foreign function calls ... OK
* checking R code for possible problems ... NOTE
ClusteredSample: no visible global function definition for ‘cov’
ellipse: no visible global function definition for ‘qchisq’
ellipse: no visible global function definition for ‘lines’
limitcalc: no visible global function definition for ‘qchisq’
plot.cluster.contours: no visible global function definition for ‘par’
plot.cluster.contours: no visible global function definition for
  ‘plot.new’
plot.cluster.contours: no visible global function definition for
  ‘mtext’
template.tree,Template: no visible global function definition for
  ‘as.dendrogram’
Undefined global functions or variables:
  as.dendrogram cov lines mtext par plot.new qchisq
Consider adding
  importFrom("graphics", "lines", "mtext", "par", "plot.new")
  importFrom("stats", "as.dendrogram", "cov", "qchisq")
to your NAMESPACE file.
* checking Rd files ... OK
* checking Rd metadata ... OK
* checking Rd cross-references ... OK
* checking for missing documentation entries ... OK
* checking for code/documentation mismatches ... OK
* checking Rd \usage sections ... OK
* checking Rd contents ... OK
* checking for unstated dependencies in examples ... OK
* checking line endings in C/C++/Fortran sources/headers ... OK
* checking line endings in Makefiles ... OK
* checking compilation flags in Makevars ... OK
* checking for GNU extensions in Makefiles ... OK
* checking for portable use of $(BLAS_LIBS) and $(LAPACK_LIBS) ... OK
* checking use of PKG_*FLAGS in Makefiles ... OK
* checking compiled code ... NOTE
Note: information on .o files is not available
* checking files in ‘vignettes’ ... OK
* checking examples ... OK
Examples with CPU (user + system) or elapsed time > 5s
                   user system elapsed
create.template   8.348  0.052   8.400
Template-class    8.038  0.092   8.130
flowMatch-package 7.319  0.011   7.331
MetaCluster-class 6.696  0.244   6.941
template.tree     6.482  0.015   6.497
* checking for unstated dependencies in vignettes ... OK
* checking package vignettes in ‘inst/doc’ ... OK
* checking running R code from vignettes ...
  ‘flowMatch.Rnw’... OK
 OK
* checking re-building of vignette outputs ... OK
* checking PDF version of manual ... OK
* DONE
Status: 2 NOTEs
See
  ‘/home/biocbuild/bbs-3.17-bioc/meat/flowMatch.Rcheck/00check.log’
for details.
flowMatch.Rcheck/00install.out
##############################################################################
##############################################################################
###
### Running command:
###
###   /home/biocbuild/bbs-3.17-bioc/R/bin/R CMD INSTALL flowMatch
###
##############################################################################
##############################################################################
* installing to library ‘/home/biocbuild/bbs-3.17-bioc/R/site-library’
* installing *source* package ‘flowMatch’ ...
** using staged installation
** libs
using C++ compiler: ‘g++ (Ubuntu 11.4.0-1ubuntu1~22.04) 11.4.0’
g++ -std=gnu++17 -I"/home/biocbuild/bbs-3.17-bioc/R/include" -DNDEBUG  -I'/home/biocbuild/bbs-3.17-bioc/R/site-library/Rcpp/include' -I/usr/local/include    -fpic  -g -O2  -Wall -c BipartiteGraph.cpp -o BipartiteGraph.o
g++ -std=gnu++17 -I"/home/biocbuild/bbs-3.17-bioc/R/include" -DNDEBUG  -I'/home/biocbuild/bbs-3.17-bioc/R/site-library/Rcpp/include' -I/usr/local/include    -fpic  -g -O2  -Wall -c MinWghtEdgCoverBipartite.cpp -o MinWghtEdgCoverBipartite.o
MinWghtEdgCoverBipartite.cpp: In function ‘void update_height(mclust&, std::vector<std::vector<templatePair> >, std::vector<std::vector<BipartiteGraph> >, double)’:
MinWghtEdgCoverBipartite.cpp:271:23: warning: comparison of integer expressions of different signedness: ‘int’ and ‘std::vector<double>::size_type’ {aka ‘long unsigned int’} [-Wsign-compare]
  271 |         for(int i=0; i<tree.height.size(); i++)
      |                      ~^~~~~~~~~~~~~~~~~~~
MinWghtEdgCoverBipartite.cpp: In function ‘void computeDegConsistencyNew(std::vector<std::vector<templatePair> >&, std::vector<std::vector<BipartiteGraph> >&, double, double)’:
MinWghtEdgCoverBipartite.cpp:487:45: warning: variable ‘delta_cx_cy’ set but not used [-Wunused-but-set-variable]
  487 |                                         int delta_cx_cy  = 0;
      |                                             ^~~~~~~~~~~
g++ -std=gnu++17 -I"/home/biocbuild/bbs-3.17-bioc/R/include" -DNDEBUG  -I'/home/biocbuild/bbs-3.17-bioc/R/site-library/Rcpp/include' -I/usr/local/include    -fpic  -g -O2  -Wall -c flowMatch.cpp -o flowMatch.o
flowMatch.cpp: In function ‘Rcpp::List computeMEC(Rcpp::NumericMatrix, double)’:
flowMatch.cpp:43:23: warning: comparison of integer expressions of different signedness: ‘int’ and ‘std::vector<std::vector<int> >::size_type’ {aka ‘long unsigned int’} [-Wsign-compare]
   43 |         for(int i=0; i<mec.sCoverVecVec.size(); i++)
      |                      ~^~~~~~~~~~~~~~~~~~~~~~~~
flowMatch.cpp:45:31: warning: comparison of integer expressions of different signedness: ‘int’ and ‘std::vector<int>::size_type’ {aka ‘long unsigned int’} [-Wsign-compare]
   45 |                 for(int j=0; j<mec.sCoverVecVec[i].size(); j++)
      |                              ~^~~~~~~~~~~~~~~~~~~~~~~~~~~
flowMatch.cpp:53:23: warning: comparison of integer expressions of different signedness: ‘int’ and ‘std::vector<std::vector<int> >::size_type’ {aka ‘long unsigned int’} [-Wsign-compare]
   53 |         for(int i=0; i<mec.tCoverVecVec.size(); i++)
      |                      ~^~~~~~~~~~~~~~~~~~~~~~~~
flowMatch.cpp:55:31: warning: comparison of integer expressions of different signedness: ‘int’ and ‘std::vector<int>::size_type’ {aka ‘long unsigned int’} [-Wsign-compare]
   55 |                 for(int j=0; j<mec.tCoverVecVec[i].size(); j++)
      |                              ~^~~~~~~~~~~~~~~~~~~~~~~~~~~
g++ -std=gnu++17 -shared -L/home/biocbuild/bbs-3.17-bioc/R/lib -L/usr/local/lib -o flowMatch.so BipartiteGraph.o MinWghtEdgCoverBipartite.o flowMatch.o -L/home/biocbuild/bbs-3.17-bioc/R/lib -lR
installing to /home/biocbuild/bbs-3.17-bioc/R/site-library/00LOCK-flowMatch/00new/flowMatch/libs
** R
** byte-compile and prepare package for lazy loading
** help
*** installing help indices
** building package indices
** installing vignettes
** testing if installed package can be loaded from temporary location
** checking absolute paths in shared objects and dynamic libraries
** testing if installed package can be loaded from final location
** testing if installed package keeps a record of temporary installation path
* DONE (flowMatch)
flowMatch.Rcheck/flowMatch-Ex.timings
| name | user | system | elapsed | |
| Cluster-class | 0.499 | 0.021 | 0.522 | |
| ClusterMatch-class | 4.011 | 0.024 | 4.035 | |
| ClusteredSample-class | 1.040 | 0.128 | 1.167 | |
| MetaCluster-class | 6.696 | 0.244 | 6.941 | |
| Template-class | 8.038 | 0.092 | 8.130 | |
| create.template | 8.348 | 0.052 | 8.400 | |
| dist.cluster | 0.468 | 0.008 | 0.477 | |
| dist.matrix | 0.830 | 0.007 | 0.836 | |
| dist.sample | 0.950 | 0.004 | 0.954 | |
| dist.template | 3.295 | 0.000 | 3.295 | |
| flowMatch-package | 7.319 | 0.011 | 7.331 | |
| mahalanobis.dist | 0.458 | 0.008 | 0.466 | |
| match.clusters | 4.042 | 0.004 | 4.047 | |
| symmetric.KL | 0.641 | 0.004 | 0.645 | |
| template.tree | 6.482 | 0.015 | 6.497 | |