| Back to Multiple platform build/check report for BioC 3.17: simplified long | 
  | 
This page was generated on 2023-03-16 11:06:04 -0400 (Thu, 16 Mar 2023).
| Hostname | OS | Arch (*) | R version | Installed pkgs | 
|---|---|---|---|---|
| nebbiolo1 | Linux (Ubuntu 22.04.1 LTS) | x86_64 | R Under development (unstable) (2023-01-10 r83596) -- "Unsuffered Consequences" | 4540 | 
| palomino3 | Windows Server 2022 Datacenter | x64 | R Under development (unstable) (2023-01-10 r83596 ucrt) -- "Unsuffered Consequences" | 4302 | 
| merida1 | macOS 10.14.6 Mojave | x86_64 | R Under development (unstable) (2023-01-10 r83596) -- "Unsuffered Consequences" | 4330 | 
| Click on any hostname to see more info about the system (e.g. compilers) (*) as reported by 'uname -p', except on Windows and Mac OS X | ||||
| 
To the developers/maintainers of the fcoex package: - Please allow up to 24 hours (and sometimes 48 hours) for your latest push to git@git.bioconductor.org:packages/fcoex.git to reflect on this report. See How and When does the builder pull? When will my changes propagate? for more information. - Make sure to use the following settings in order to reproduce any error or warning you see on this page.  | 
| Package 674/2189 | Hostname | OS / Arch | INSTALL | BUILD | CHECK | BUILD BIN | ||||||||
| fcoex 1.13.0  (landing page) Tiago Lubiana 
  | nebbiolo1 | Linux (Ubuntu 22.04.1 LTS) / x86_64 | OK | OK | WARNINGS | |||||||||
| palomino3 | Windows Server 2022 Datacenter / x64 | OK | OK | WARNINGS | OK | |||||||||
| merida1 | macOS 10.14.6 Mojave / x86_64 | OK | OK | WARNINGS | OK | |||||||||
| Package: fcoex | 
| Version: 1.13.0 | 
| Command: rm -rf fcoex.buildbin-libdir && mkdir fcoex.buildbin-libdir && F:\biocbuild\bbs-3.17-bioc\R\bin\R.exe CMD INSTALL --build --library=fcoex.buildbin-libdir fcoex_1.13.0.tar.gz | 
| StartedAt: 2023-03-16 08:13:55 -0400 (Thu, 16 Mar 2023) | 
| EndedAt: 2023-03-16 08:15:03 -0400 (Thu, 16 Mar 2023) | 
| EllapsedTime: 68.3 seconds | 
| RetCode: 0 | 
| Status: OK | 
| PackageFile: fcoex_1.13.0.zip | 
| PackageFileSize: 2.379 MiB | 
############################################################################## ############################################################################## ### ### Running command: ### ### rm -rf fcoex.buildbin-libdir && mkdir fcoex.buildbin-libdir && F:\biocbuild\bbs-3.17-bioc\R\bin\R.exe CMD INSTALL --build --library=fcoex.buildbin-libdir fcoex_1.13.0.tar.gz ### ############################################################################## ############################################################################## * installing *source* package 'fcoex' ... ** using staged installation ** R ** data *** moving datasets to lazyload DB Warning: replacing previous import 'Matrix::head' by 'utils::head' when loading 'fcoex' in method for 'mod_ora' with signature '"fcoex"': no definition for class "fcoex" ** inst ** byte-compile and prepare package for lazy loading Warning: replacing previous import 'Matrix::head' by 'utils::head' when loading 'fcoex' in method for 'mod_ora' with signature '"fcoex"': no definition for class "fcoex" ** help *** installing help indices ** building package indices ** installing vignettes ** testing if installed package can be loaded from temporary location Warning: replacing previous import 'Matrix::head' by 'utils::head' when loading 'fcoex' ** testing if installed package can be loaded from final location Warning: replacing previous import 'Matrix::head' by 'utils::head' when loading 'fcoex' ** testing if installed package keeps a record of temporary installation path * MD5 sums packaged installation of 'fcoex' as fcoex_1.13.0.zip * DONE (fcoex)