| Back to Multiple platform build/check report for BioC 3.17: simplified long |
|
This page was generated on 2023-10-16 11:36:58 -0400 (Mon, 16 Oct 2023).
| Hostname | OS | Arch (*) | R version | Installed pkgs |
|---|---|---|---|---|
| nebbiolo1 | Linux (Ubuntu 22.04.2 LTS) | x86_64 | 4.3.1 (2023-06-16) -- "Beagle Scouts" | 4626 |
| palomino3 | Windows Server 2022 Datacenter | x64 | 4.3.1 (2023-06-16 ucrt) -- "Beagle Scouts" | 4379 |
| merida1 | macOS 12.6.4 Monterey | x86_64 | 4.3.1 (2023-06-16) -- "Beagle Scouts" | 4395 |
| Click on any hostname to see more info about the system (e.g. compilers) (*) as reported by 'uname -p', except on Windows and Mac OS X | ||||
| Package 511/2230 | Hostname | OS / Arch | INSTALL | BUILD | CHECK | BUILD BIN | ||||||||
| decoupleR 2.6.0 (landing page) Pau Badia-i-Mompel
| nebbiolo1 | Linux (Ubuntu 22.04.2 LTS) / x86_64 | OK | OK | OK | |||||||||
| palomino3 | Windows Server 2022 Datacenter / x64 | OK | OK | OK | OK | |||||||||
| merida1 | macOS 12.6.4 Monterey / x86_64 | OK | OK | TIMEOUT | OK | |||||||||
| kjohnson2 | macOS 12.6.1 Monterey / arm64 | see weekly results here | ||||||||||||
|
To the developers/maintainers of the decoupleR package: - Allow up to 24 hours (and sometimes 48 hours) for your latest push to git@git.bioconductor.org:packages/decoupleR.git to reflect on this report. See Troubleshooting Build Report for more information. - Use the following Renviron settings to reproduce errors and warnings. - If 'R CMD check' started to fail recently on the Linux builder(s) over a missing dependency, add the missing dependency to 'Suggests:' in your DESCRIPTION file. See Renviron.bioc for more information. |
| Package: decoupleR |
| Version: 2.6.0 |
| Command: /Library/Frameworks/R.framework/Resources/bin/R CMD check --install=check:decoupleR.install-out.txt --library=/Library/Frameworks/R.framework/Resources/library --no-vignettes --timings decoupleR_2.6.0.tar.gz |
| StartedAt: 2023-10-16 00:41:44 -0400 (Mon, 16 Oct 2023) |
| EndedAt: 2023-10-16 01:21:44 -0400 (Mon, 16 Oct 2023) |
| EllapsedTime: 2400.4 seconds |
| RetCode: None |
| Status: TIMEOUT |
| CheckDir: decoupleR.Rcheck |
| Warnings: NA |
##############################################################################
##############################################################################
###
### Running command:
###
### /Library/Frameworks/R.framework/Resources/bin/R CMD check --install=check:decoupleR.install-out.txt --library=/Library/Frameworks/R.framework/Resources/library --no-vignettes --timings decoupleR_2.6.0.tar.gz
###
##############################################################################
##############################################################################
* using log directory ‘/Users/biocbuild/bbs-3.17-bioc/meat/decoupleR.Rcheck’
* using R version 4.3.1 (2023-06-16)
* using platform: x86_64-apple-darwin20 (64-bit)
* R was compiled by
Apple clang version 14.0.3 (clang-1403.0.22.14.1)
GNU Fortran (GCC) 12.2.0
* running under: macOS Monterey 12.6.4
* using session charset: UTF-8
* using option ‘--no-vignettes’
* checking for file ‘decoupleR/DESCRIPTION’ ... OK
* checking extension type ... Package
* this is package ‘decoupleR’ version ‘2.6.0’
* package encoding: UTF-8
* checking package namespace information ... OK
* checking package dependencies ... OK
* checking if this is a source package ... OK
* checking if there is a namespace ... OK
* checking for hidden files and directories ... OK
* checking for portable file names ... OK
* checking for sufficient/correct file permissions ... OK
* checking whether package ‘decoupleR’ can be installed ... OK
* checking installed package size ... OK
* checking package directory ... OK
* checking ‘build’ directory ... OK
* checking DESCRIPTION meta-information ... OK
* checking top-level files ... OK
* checking for left-over files ... OK
* checking index information ... OK
* checking package subdirectories ... OK
* checking R files for non-ASCII characters ... OK
* checking R files for syntax errors ... OK
* checking whether the package can be loaded ... OK
* checking whether the package can be loaded with stated dependencies ... OK
* checking whether the package can be unloaded cleanly ... OK
* checking whether the namespace can be loaded with stated dependencies ... OK
* checking whether the namespace can be unloaded cleanly ... OK
* checking dependencies in R code ... NOTE
[2023-10-16 00:42:49] [TRACE] [OmnipathR] Reading JSON from `/Users/biocbuild/Library/Caches/OmnipathR/cache.json` (encoding: UTF-8).
[2023-10-16 00:42:49] [TRACE] [OmnipathR] JSON validation successful: TRUE
[2023-10-16 00:42:49] [INFO] [OmnipathR] Initialized cache: `/Users/biocbuild/Library/Caches/OmnipathR`.
[2023-10-16 00:42:49] [TRACE] [OmnipathR] Running on a build server, wiping cache.
[2023-10-16 00:42:49] [TRACE] [OmnipathR] Cache is at `/Users/biocbuild/Library/Caches/OmnipathR`.
[2023-10-16 00:42:49] [TRACE] [OmnipathR] Contains 6 files.
[2023-10-16 00:42:49] [TRACE] [OmnipathR] Cache is locked: FALSE.
[2023-10-16 00:42:49] [TRACE] [OmnipathR] Reading JSON from `/Users/biocbuild/Library/Caches/OmnipathR/cache.json` (encoding: UTF-8).
[2023-10-16 00:42:49] [TRACE] [OmnipathR] JSON validation successful: TRUE
[2023-10-16 00:42:50] [SUCCESS] [OmnipathR] Removing all cache contents from `/Users/biocbuild/Library/Caches/OmnipathR`.
[2023-10-16 00:42:50] [TRACE] [OmnipathR] Pandoc version: `2.7.3`.
[2023-10-16 00:42:50] [TRACE] [OmnipathR] Reading JSON from `/Library/Frameworks/R.framework/Versions/4.3-x86_64/Resources/library/OmnipathR/db/db_def.json` (encoding: UTF-8).
[2023-10-16 00:42:50] [TRACE] [OmnipathR] JSON validation successful: TRUE
[2023-10-16 00:42:50] [TRACE] [OmnipathR] Reading JSON from `/Library/Frameworks/R.framework/Versions/4.3-x86_64/Resources/library/OmnipathR/internal/magic_bytes.json` (encoding: UTF-8).
[2023-10-16 00:42:50] [TRACE] [OmnipathR] JSON validation successful: TRUE
[2023-10-16 00:42:50] [TRACE] [OmnipathR] Reading JSON from `/Library/Frameworks/R.framework/Versions/4.3-x86_64/Resources/library/OmnipathR/internal/urls.json` (encoding: UTF-8).
[2023-10-16 00:42:50] [TRACE] [OmnipathR] JSON validation successful: TRUE
[2023-10-16 00:42:50] [TRACE] [OmnipathR] Reading JSON from `/Library/Frameworks/R.framework/Versions/4.3-x86_64/Resources/library/OmnipathR/internal/id_types.json` (encoding: UTF-8).
[2023-10-16 00:42:50] [TRACE] [OmnipathR] JSON validation successful: TRUE
[2023-10-16 00:42:50] [TRACE] [OmnipathR] Cache locked: FALSE
* checking S3 generic/method consistency ... OK
* checking replacement functions ... OK
* checking foreign function calls ... OK
* checking R code for possible problems ... OK
* checking Rd files ... OK
* checking Rd metadata ... OK
* checking Rd cross-references ... OK
* checking for missing documentation entries ... OK
* checking for code/documentation mismatches ... OK
* checking Rd \usage sections ... OK
* checking Rd contents ... OK
* checking for unstated dependencies in examples ... OK
* checking files in ‘vignettes’ ... OK
* checking examples ... OK
Examples with CPU (user + system) or elapsed time > 5s
user system elapsed
get_dorothea 940.002 8.620 1284.355
get_collectri 227.001 2.096 297.368
run_fgsea 27.282 0.611 36.488
run_aucell 14.375 0.372 19.306
get_progeny 10.360 0.898 16.087
run_consensus 5.378 0.132 7.287
* checking for unstated dependencies in ‘tests’ ... OK
* checking tests ...
Running ‘testthat.R’
decoupleR.Rcheck/00install.out
############################################################################## ############################################################################## ### ### Running command: ### ### /Library/Frameworks/R.framework/Resources/bin/R CMD INSTALL decoupleR ### ############################################################################## ############################################################################## * installing to library ‘/Library/Frameworks/R.framework/Versions/4.3-x86_64/Resources/library’ * installing *source* package ‘decoupleR’ ... ** using staged installation ** R ** inst ** byte-compile and prepare package for lazy loading ** help *** installing help indices *** copying figures ** building package indices ** installing vignettes ** testing if installed package can be loaded from temporary location ** testing if installed package can be loaded from final location ** testing if installed package keeps a record of temporary installation path * DONE (decoupleR)
decoupleR.Rcheck/tests/testthat.Rout
R version 4.3.1 (2023-06-16) -- "Beagle Scouts"
Copyright (C) 2023 The R Foundation for Statistical Computing
Platform: x86_64-apple-darwin20 (64-bit)
R is free software and comes with ABSOLUTELY NO WARRANTY.
You are welcome to redistribute it under certain conditions.
Type 'license()' or 'licence()' for distribution details.
R is a collaborative project with many contributors.
Type 'contributors()' for more information and
'citation()' on how to cite R or R packages in publications.
Type 'demo()' for some demos, 'help()' for on-line help, or
'help.start()' for an HTML browser interface to help.
Type 'q()' to quit R.
> library(testthat)
> library(decoupleR)
>
> test_check("decoupleR")
|
| | 0%
|
|======================================================================| 100%
|
| | 0%
|
|======================================================================| 100%
|
| | 0%
|
|======================================================================| 100%
|
| | 0%
|
|======================================================================| 100%
|
| | 0%
|
|======================================================================| 100%
|
| | 0%
|
|======================================================================| 100%
|
| | 0%
|
|======================================================================| 100%
|
| | 0%
|
|======================================================================| 100%
|
| | 0%
|
|======================================================================| 100%
|
| | 0%
|
|======================================================================| 100%
|
| | 0%
|
|======================================================================| 100%
|
| | 0%
|
|======================================================================| 100%
|
| | 0%
|
|=================================== | 50%
|
|======================================================================| 100%
|
| | 0%
|
|=================================== | 50%
|
|======================================================================| 100%
|
| | 0%
|
|=================================== | 50%
|
|======================================================================| 100%
|
| | 0%
|
|=================================== | 50%
|
|======================================================================| 100%
|
| | 0%
|
|=================================== | 50%
|
|======================================================================| 100%
|
| | 0%
|
|=================================== | 50%
|
|======================================================================| 100%
|
| | 0%
|
|=================================== | 50%
|
|======================================================================| 100%
|
| | 0%
|
|=================================== | 50%
|
|======================================================================| 100%
|
| | 0%
|
|=================================== | 50%
|
|======================================================================| 100%
|
| | 0%
|
|=================================== | 50%
|
|======================================================================| 100%
|
| | 0%
|
|=================================== | 50%
|
|======================================================================| 100%
|
| | 0%
|
|=================================== | 50%
|
|======================================================================| 100%
[2023-10-16 01:14:29] [TRACE] [OmnipathR] Reading JSON from `/Users/biocbuild/Library/Caches/OmnipathR/cache.json` (encoding: UTF-8).
[2023-10-16 01:14:29] [TRACE] [OmnipathR] JSON validation successful: TRUE
[2023-10-16 01:14:29] [INFO] [OmnipathR] Initialized cache: `/Users/biocbuild/Library/Caches/OmnipathR`.
[2023-10-16 01:14:29] [TRACE] [OmnipathR] Running on a build server, wiping cache.
[2023-10-16 01:14:29] [TRACE] [OmnipathR] Cache is at `/Users/biocbuild/Library/Caches/OmnipathR`.
[2023-10-16 01:14:29] [TRACE] [OmnipathR] Contains 5 files.
[2023-10-16 01:14:29] [TRACE] [OmnipathR] Cache is locked: FALSE.
[2023-10-16 01:14:29] [TRACE] [OmnipathR] Reading JSON from `/Users/biocbuild/Library/Caches/OmnipathR/cache.json` (encoding: UTF-8).
[2023-10-16 01:14:29] [TRACE] [OmnipathR] JSON validation successful: TRUE
[2023-10-16 01:14:29] [SUCCESS] [OmnipathR] Removing all cache contents from `/Users/biocbuild/Library/Caches/OmnipathR`.
[2023-10-16 01:14:29] [TRACE] [OmnipathR] Pandoc version: `2.7.3`.
[2023-10-16 01:14:29] [TRACE] [OmnipathR] Reading JSON from `/Library/Frameworks/R.framework/Versions/4.3-x86_64/Resources/library/OmnipathR/db/db_def.json` (encoding: UTF-8).
[2023-10-16 01:14:29] [TRACE] [OmnipathR] JSON validation successful: TRUE
[2023-10-16 01:14:29] [TRACE] [OmnipathR] Reading JSON from `/Library/Frameworks/R.framework/Versions/4.3-x86_64/Resources/library/OmnipathR/internal/magic_bytes.json` (encoding: UTF-8).
[2023-10-16 01:14:29] [TRACE] [OmnipathR] JSON validation successful: TRUE
[2023-10-16 01:14:29] [TRACE] [OmnipathR] Reading JSON from `/Library/Frameworks/R.framework/Versions/4.3-x86_64/Resources/library/OmnipathR/internal/urls.json` (encoding: UTF-8).
[2023-10-16 01:14:29] [TRACE] [OmnipathR] JSON validation successful: TRUE
[2023-10-16 01:14:30] [TRACE] [OmnipathR] Reading JSON from `/Library/Frameworks/R.framework/Versions/4.3-x86_64/Resources/library/OmnipathR/internal/id_types.json` (encoding: UTF-8).
[2023-10-16 01:14:30] [TRACE] [OmnipathR] JSON validation successful: TRUE
[2023-10-16 01:14:30] [TRACE] [OmnipathR] Cache locked: FALSE
[2023-10-16 01:14:30] [TRACE] [OmnipathR] Reading JSON from `https://omnipathdb.org/resources` (encoding: UTF-8).
[2023-10-16 01:14:30] [TRACE] [OmnipathR] JSON validation successful: TRUE
[2023-10-16 01:14:31] [TRACE] [OmnipathR] Reading JSON from `https://omnipathdb.org/resources` (encoding: UTF-8).
[2023-10-16 01:14:31] [TRACE] [OmnipathR] JSON validation successful: TRUE
[2023-10-16 01:14:32] [TRACE] [OmnipathR] Reading JSON from `https://omnipathdb.org/resources` (encoding: UTF-8).
[2023-10-16 01:14:32] [TRACE] [OmnipathR] JSON validation successful: TRUE
[2023-10-16 01:14:32] [INFO] [OmnipathR] Cache record does not exist: `https://omnipathdb.org/annotations?resources=TFcensus&license=academic`
[2023-10-16 01:14:32] [INFO] [OmnipathR] Retrieving URL: `https://omnipathdb.org/annotations?resources=TFcensus&license=academic`
[2023-10-16 01:14:32] [TRACE] [OmnipathR] Attempt 1/3: `https://omnipathdb.org/annotations?resources=TFcensus&license=academic`
[2023-10-16 01:14:32] [TRACE] [OmnipathR] Reading JSON from `/Users/biocbuild/Library/Caches/OmnipathR/cache.json` (encoding: UTF-8).
[2023-10-16 01:14:32] [TRACE] [OmnipathR] JSON validation successful: TRUE
[2023-10-16 01:14:32] [TRACE] [OmnipathR] Reading JSON from `/Users/biocbuild/Library/Caches/OmnipathR/cache.json` (encoding: UTF-8).
[2023-10-16 01:14:32] [TRACE] [OmnipathR] JSON validation successful: TRUE
[2023-10-16 01:14:32] [INFO] [OmnipathR] Cache item `6f000d9b5edd9832b1c28754d1c3d9449c1c7490` version 1: status changed from `unknown` to `started`.
[2023-10-16 01:14:32] [TRACE] [OmnipathR] Exporting object to RDS: `/Users/biocbuild/Library/Caches/OmnipathR/6f000d9b5edd9832b1c28754d1c3d9449c1c7490-1.rds`.
[2023-10-16 01:14:33] [TRACE] [OmnipathR] Exported RDS to `/Users/biocbuild/Library/Caches/OmnipathR/6f000d9b5edd9832b1c28754d1c3d9449c1c7490-1.rds`.
[2023-10-16 01:14:33] [INFO] [OmnipathR] Download ready [key=6f000d9b5edd9832b1c28754d1c3d9449c1c7490, version=1]
[2023-10-16 01:14:33] [TRACE] [OmnipathR] Reading JSON from `/Users/biocbuild/Library/Caches/OmnipathR/cache.json` (encoding: UTF-8).
[2023-10-16 01:14:33] [TRACE] [OmnipathR] JSON validation successful: TRUE
[2023-10-16 01:14:33] [INFO] [OmnipathR] Cache item `6f000d9b5edd9832b1c28754d1c3d9449c1c7490` version 1: status changed from `started` to `ready`.
[2023-10-16 01:14:33] [SUCCESS] [OmnipathR] Downloaded 3099 annotation records.
[2023-10-16 01:14:33] [TRACE] [OmnipathR] Reading JSON from `https://omnipathdb.org/resources` (encoding: UTF-8).
[2023-10-16 01:14:33] [TRACE] [OmnipathR] JSON validation successful: TRUE
[2023-10-16 01:14:34] [TRACE] [OmnipathR] Reading JSON from `https://omnipathdb.org/resources` (encoding: UTF-8).
[2023-10-16 01:14:34] [TRACE] [OmnipathR] JSON validation successful: TRUE
[2023-10-16 01:14:34] [INFO] [OmnipathR] Cache record does not exist: `https://omnipathdb.org/annotations?resources=PROGENy&license=academic`
[2023-10-16 01:14:34] [INFO] [OmnipathR] Retrieving URL: `https://omnipathdb.org/annotations?resources=PROGENy&license=academic`
[2023-10-16 01:14:34] [TRACE] [OmnipathR] Attempt 1/3: `https://omnipathdb.org/annotations?resources=PROGENy&license=academic`
[2023-10-16 01:14:38] [TRACE] [OmnipathR] Reading JSON from `/Users/biocbuild/Library/Caches/OmnipathR/cache.json` (encoding: UTF-8).
[2023-10-16 01:14:38] [TRACE] [OmnipathR] JSON validation successful: TRUE
[2023-10-16 01:14:38] [TRACE] [OmnipathR] Reading JSON from `/Users/biocbuild/Library/Caches/OmnipathR/cache.json` (encoding: UTF-8).
[2023-10-16 01:14:38] [TRACE] [OmnipathR] JSON validation successful: TRUE
[2023-10-16 01:14:38] [INFO] [OmnipathR] Cache item `3492392585ba05414edfae46801492076437d7e7` version 1: status changed from `unknown` to `started`.
[2023-10-16 01:14:38] [TRACE] [OmnipathR] Exporting object to RDS: `/Users/biocbuild/Library/Caches/OmnipathR/3492392585ba05414edfae46801492076437d7e7-1.rds`.
[2023-10-16 01:14:45] [TRACE] [OmnipathR] Exported RDS to `/Users/biocbuild/Library/Caches/OmnipathR/3492392585ba05414edfae46801492076437d7e7-1.rds`.
[2023-10-16 01:14:45] [INFO] [OmnipathR] Download ready [key=3492392585ba05414edfae46801492076437d7e7, version=1]
[2023-10-16 01:14:45] [TRACE] [OmnipathR] Reading JSON from `/Users/biocbuild/Library/Caches/OmnipathR/cache.json` (encoding: UTF-8).
[2023-10-16 01:14:45] [TRACE] [OmnipathR] JSON validation successful: TRUE
[2023-10-16 01:14:45] [INFO] [OmnipathR] Cache item `3492392585ba05414edfae46801492076437d7e7` version 1: status changed from `started` to `ready`.
[2023-10-16 01:14:45] [SUCCESS] [OmnipathR] Downloaded 700239 annotation records.
[2023-10-16 01:14:53] [TRACE] [OmnipathR] Reading JSON from `https://omnipathdb.org/resources` (encoding: UTF-8).
[2023-10-16 01:14:53] [TRACE] [OmnipathR] JSON validation successful: TRUE
[2023-10-16 01:14:54] [TRACE] [OmnipathR] Reading JSON from `https://omnipathdb.org/resources` (encoding: UTF-8).
[2023-10-16 01:14:54] [TRACE] [OmnipathR] JSON validation successful: TRUE
[2023-10-16 01:14:58] [TRACE] [OmnipathR] Loaded data from RDS `/Users/biocbuild/Library/Caches/OmnipathR/3492392585ba05414edfae46801492076437d7e7-1.rds`.
[2023-10-16 01:14:58] [INFO] [OmnipathR] Loaded from cache: `https://omnipathdb.org/annotations?resources=PROGENy&license=academic`
[2023-10-16 01:14:58] [SUCCESS] [OmnipathR] Loaded 700239 annotation records from cache.
[2023-10-16 01:15:04] [INFO] [OmnipathR] Cache record does not exist: `https://omnipathdb.org/interactions?genesymbols=yes&datasets=dorothea&organisms=9606&dorothea_levels=A,B,C,D&fields=evidences,sources,references,curation_effort,dorothea_level&license=academic`
[2023-10-16 01:15:04] [INFO] [OmnipathR] Retrieving URL: `https://omnipathdb.org/interactions?genesymbols=yes&datasets=dorothea&organisms=9606&dorothea_levels=A,B,C,D&fields=evidences,sources,references,curation_effort,dorothea_level&license=academic`
[2023-10-16 01:15:04] [TRACE] [OmnipathR] Attempt 1/3: `https://omnipathdb.org/interactions?genesymbols=yes&datasets=dorothea&organisms=9606&dorothea_levels=A,B,C,D&fields=evidences,sources,references,curation_effort,dorothea_level&license=academic`
[2023-10-16 01:15:15] [TRACE] [OmnipathR] Reading JSON from `/Users/biocbuild/Library/Caches/OmnipathR/cache.json` (encoding: UTF-8).
[2023-10-16 01:15:15] [TRACE] [OmnipathR] JSON validation successful: TRUE
[2023-10-16 01:15:16] [TRACE] [OmnipathR] Reading JSON from `/Users/biocbuild/Library/Caches/OmnipathR/cache.json` (encoding: UTF-8).
[2023-10-16 01:15:16] [TRACE] [OmnipathR] JSON validation successful: TRUE
[2023-10-16 01:15:16] [INFO] [OmnipathR] Cache item `2acacccd183a8fe4538b649c1e593e2140fcddf6` version 1: status changed from `unknown` to `started`.
[2023-10-16 01:15:16] [TRACE] [OmnipathR] Exporting object to RDS: `/Users/biocbuild/Library/Caches/OmnipathR/2acacccd183a8fe4538b649c1e593e2140fcddf6-1.rds`.
[2023-10-16 01:15:22] [TRACE] [OmnipathR] Exported RDS to `/Users/biocbuild/Library/Caches/OmnipathR/2acacccd183a8fe4538b649c1e593e2140fcddf6-1.rds`.
[2023-10-16 01:15:22] [INFO] [OmnipathR] Download ready [key=2acacccd183a8fe4538b649c1e593e2140fcddf6, version=1]
[2023-10-16 01:15:22] [TRACE] [OmnipathR] Reading JSON from `/Users/biocbuild/Library/Caches/OmnipathR/cache.json` (encoding: UTF-8).
[2023-10-16 01:15:22] [TRACE] [OmnipathR] JSON validation successful: TRUE
[2023-10-16 01:15:22] [INFO] [OmnipathR] Cache item `2acacccd183a8fe4538b649c1e593e2140fcddf6` version 1: status changed from `started` to `ready`.
[2023-10-16 01:15:22] [TRACE] [OmnipathR] Converting JSON column `evidences` to list.
[2023-10-16 01:16:24] [TRACE] [OmnipathR] Restricting interaction records to datasets: dorothea; and resources: any
[2023-10-16 01:17:23] [TRACE] [OmnipathR] Filtering evidence columns: positive, negative, directed, undirected; to datasets: dorothea; and resources: any
decoupleR.Rcheck/decoupleR-Ex.timings
| name | user | system | elapsed | |
| check_corr | 0.208 | 0.034 | 0.303 | |
| convert_f_defaults | 0.127 | 0.026 | 0.199 | |
| decouple | 0.002 | 0.001 | 0.003 | |
| dot-fit_preprocessing | 0.090 | 0.010 | 0.125 | |
| extract_sets | 0.059 | 0.003 | 0.077 | |
| filt_minsize | 0.097 | 0.003 | 0.127 | |
| get_collectri | 227.001 | 2.096 | 297.368 | |
| get_dorothea | 940.002 | 8.620 | 1284.355 | |
| get_profile_of | 0.000 | 0.002 | 0.002 | |
| get_progeny | 10.360 | 0.898 | 16.087 | |
| get_resource | 0.612 | 0.087 | 2.080 | |
| get_toy_data | 0.005 | 0.001 | 0.006 | |
| intersect_regulons | 0.047 | 0.002 | 0.059 | |
| pipe | 0.000 | 0.001 | 0.001 | |
| pivot_wider_profile | 0.000 | 0.002 | 0.001 | |
| randomize_matrix | 0.000 | 0.001 | 0.001 | |
| rename_net | 0.075 | 0.001 | 0.100 | |
| run_aucell | 14.375 | 0.372 | 19.306 | |
| run_consensus | 5.378 | 0.132 | 7.287 | |
| run_fgsea | 27.282 | 0.611 | 36.488 | |
| run_gsva | 2.168 | 0.125 | 2.912 | |
| run_mdt | 0.545 | 0.032 | 0.683 | |
| run_mlm | 0.244 | 0.004 | 0.305 | |
| run_ora | 1.167 | 0.012 | 1.439 | |
| run_udt | 0.650 | 0.008 | 0.812 | |
| run_ulm | 0.488 | 0.009 | 0.617 | |
| run_viper | 1.642 | 0.153 | 2.357 | |
| run_wmean | 2.093 | 0.035 | 2.791 | |
| run_wsum | 2.105 | 0.037 | 2.774 | |
| show_methods | 0.108 | 0.009 | 0.152 | |
| show_resources | 0.123 | 0.008 | 0.720 | |
| tidyeval | 0.001 | 0.001 | 0.000 | |