| Back to Multiple platform build/check report for BioC 3.17: simplified long |
|
This page was generated on 2023-10-16 11:36:04 -0400 (Mon, 16 Oct 2023).
| Hostname | OS | Arch (*) | R version | Installed pkgs |
|---|---|---|---|---|
| nebbiolo1 | Linux (Ubuntu 22.04.2 LTS) | x86_64 | 4.3.1 (2023-06-16) -- "Beagle Scouts" | 4626 |
| palomino3 | Windows Server 2022 Datacenter | x64 | 4.3.1 (2023-06-16 ucrt) -- "Beagle Scouts" | 4379 |
| merida1 | macOS 12.6.4 Monterey | x86_64 | 4.3.1 (2023-06-16) -- "Beagle Scouts" | 4395 |
| Click on any hostname to see more info about the system (e.g. compilers) (*) as reported by 'uname -p', except on Windows and Mac OS X | ||||
| Package 507/2230 | Hostname | OS / Arch | INSTALL | BUILD | CHECK | BUILD BIN | ||||||||
| decompTumor2Sig 2.16.0 (landing page) Rosario M. Piro
| nebbiolo1 | Linux (Ubuntu 22.04.2 LTS) / x86_64 | OK | OK | OK | |||||||||
| palomino3 | Windows Server 2022 Datacenter / x64 | OK | OK | OK | OK | |||||||||
| merida1 | macOS 12.6.4 Monterey / x86_64 | OK | OK | OK | OK | |||||||||
| kjohnson2 | macOS 12.6.1 Monterey / arm64 | see weekly results here | ||||||||||||
|
To the developers/maintainers of the decompTumor2Sig package: - Allow up to 24 hours (and sometimes 48 hours) for your latest push to git@git.bioconductor.org:packages/decompTumor2Sig.git to reflect on this report. See Troubleshooting Build Report for more information. - Use the following Renviron settings to reproduce errors and warnings. - If 'R CMD check' started to fail recently on the Linux builder(s) over a missing dependency, add the missing dependency to 'Suggests:' in your DESCRIPTION file. See Renviron.bioc for more information. |
| Package: decompTumor2Sig |
| Version: 2.16.0 |
| Command: F:\biocbuild\bbs-3.17-bioc\R\bin\R.exe CMD check --no-multiarch --install=check:decompTumor2Sig.install-out.txt --library=F:\biocbuild\bbs-3.17-bioc\R\library --no-vignettes --timings decompTumor2Sig_2.16.0.tar.gz |
| StartedAt: 2023-10-16 01:17:40 -0400 (Mon, 16 Oct 2023) |
| EndedAt: 2023-10-16 01:23:52 -0400 (Mon, 16 Oct 2023) |
| EllapsedTime: 371.2 seconds |
| RetCode: 0 |
| Status: OK |
| CheckDir: decompTumor2Sig.Rcheck |
| Warnings: 0 |
##############################################################################
##############################################################################
###
### Running command:
###
### F:\biocbuild\bbs-3.17-bioc\R\bin\R.exe CMD check --no-multiarch --install=check:decompTumor2Sig.install-out.txt --library=F:\biocbuild\bbs-3.17-bioc\R\library --no-vignettes --timings decompTumor2Sig_2.16.0.tar.gz
###
##############################################################################
##############################################################################
* using log directory 'F:/biocbuild/bbs-3.17-bioc/meat/decompTumor2Sig.Rcheck'
* using R version 4.3.1 (2023-06-16 ucrt)
* using platform: x86_64-w64-mingw32 (64-bit)
* R was compiled by
gcc.exe (GCC) 12.2.0
GNU Fortran (GCC) 12.2.0
* running under: Windows Server 2022 x64 (build 20348)
* using session charset: UTF-8
* using option '--no-vignettes'
* checking for file 'decompTumor2Sig/DESCRIPTION' ... OK
* checking extension type ... Package
* this is package 'decompTumor2Sig' version '2.16.0'
* package encoding: UTF-8
* checking package namespace information ... OK
* checking package dependencies ... OK
* checking if this is a source package ... OK
* checking if there is a namespace ... OK
* checking for hidden files and directories ... OK
* checking for portable file names ... OK
* checking whether package 'decompTumor2Sig' can be installed ... OK
* checking installed package size ... OK
* checking package directory ... OK
* checking 'build' directory ... OK
* checking DESCRIPTION meta-information ... OK
* checking top-level files ... NOTE
File
inst/LICENSE
will install at top-level and is not mentioned in the DESCRIPTION file.
* checking for left-over files ... OK
* checking index information ... OK
* checking package subdirectories ... OK
* checking R files for non-ASCII characters ... OK
* checking R files for syntax errors ... OK
* checking whether the package can be loaded ... OK
* checking whether the package can be loaded with stated dependencies ... OK
* checking whether the package can be unloaded cleanly ... OK
* checking whether the namespace can be loaded with stated dependencies ... OK
* checking whether the namespace can be unloaded cleanly ... OK
* checking startup messages can be suppressed ... OK
* checking dependencies in R code ... OK
* checking S3 generic/method consistency ... OK
* checking replacement functions ... OK
* checking foreign function calls ... OK
* checking R code for possible problems ... OK
* checking Rd files ... OK
* checking Rd metadata ... OK
* checking Rd cross-references ... OK
* checking for missing documentation entries ... OK
* checking for code/documentation mismatches ... OK
* checking Rd \usage sections ... OK
* checking Rd contents ... OK
* checking for unstated dependencies in examples ... OK
* checking files in 'vignettes' ... OK
* checking examples ... OK
Examples with CPU (user + system) or elapsed time > 5s
user system elapsed
plotExplainedVariance 60.93 0.72 61.66
convertGenomesFromVRanges 6.16 0.55 6.78
* checking for unstated dependencies in vignettes ... OK
* checking package vignettes in 'inst/doc' ... OK
* checking running R code from vignettes ... SKIPPED
* checking re-building of vignette outputs ... SKIPPED
* checking PDF version of manual ... OK
* DONE
Status: 1 NOTE
See
'F:/biocbuild/bbs-3.17-bioc/meat/decompTumor2Sig.Rcheck/00check.log'
for details.
decompTumor2Sig.Rcheck/00install.out
############################################################################## ############################################################################## ### ### Running command: ### ### F:\biocbuild\bbs-3.17-bioc\R\bin\R.exe CMD INSTALL decompTumor2Sig ### ############################################################################## ############################################################################## * installing to library 'F:/biocbuild/bbs-3.17-bioc/R/library' * installing *source* package 'decompTumor2Sig' ... ** using staged installation ** R ** inst ** byte-compile and prepare package for lazy loading ** help *** installing help indices ** building package indices ** installing vignettes ** testing if installed package can be loaded from temporary location ** testing if installed package can be loaded from final location ** testing if installed package keeps a record of temporary installation path * DONE (decompTumor2Sig)
decompTumor2Sig.Rcheck/decompTumor2Sig-Ex.timings
| name | user | system | elapsed | |
| adjustSignaturesForRegionSet | 2.58 | 0.24 | 3.70 | |
| composeGenomesFromExposures | 0.15 | 0.01 | 0.58 | |
| computeExplainedVariance | 0.22 | 0.03 | 0.64 | |
| convertAlexandrov2Shiraishi | 0.04 | 0.00 | 0.46 | |
| convertGenomesFromVRanges | 6.16 | 0.55 | 6.78 | |
| decomposeTumorGenomes | 2.89 | 0.49 | 3.78 | |
| determineSignatureDistances | 0.07 | 0.00 | 0.49 | |
| downgradeShiraishiSignatures | 0 | 0 | 0 | |
| evaluateDecompositionQuality | 0.14 | 0.01 | 0.55 | |
| getGenomesFromMutFeatData | 0.43 | 0.00 | 0.53 | |
| getSignaturesFromEstParam | 0.11 | 0.00 | 0.25 | |
| isAlexandrovSet | 0.03 | 0.00 | 0.42 | |
| isExposureSet | 2.70 | 0.44 | 3.80 | |
| isShiraishiSet | 0.05 | 0.00 | 0.43 | |
| isSignatureSet | 0.01 | 0.00 | 0.43 | |
| mapSignatureSets | 0.11 | 0.02 | 0.50 | |
| plotDecomposedContribution | 0.36 | 0.00 | 0.78 | |
| plotExplainedVariance | 60.93 | 0.72 | 61.66 | |
| plotMutationDistribution | 2.65 | 0.06 | 3.11 | |
| readAlexandrovSignatures | 0.03 | 0.00 | 0.42 | |
| readGenomesFromMPF | 2.48 | 0.49 | 3.00 | |
| readGenomesFromVCF | 2.53 | 0.46 | 3.03 | |
| readShiraishiSignatures | 0.00 | 0.00 | 0.02 | |
| sameSignatureFormat | 0.03 | 0.00 | 0.44 | |