| Back to Multiple platform build/check report for BioC 3.17: simplified long |
|
This page was generated on 2023-10-16 11:36:58 -0400 (Mon, 16 Oct 2023).
| Hostname | OS | Arch (*) | R version | Installed pkgs |
|---|---|---|---|---|
| nebbiolo1 | Linux (Ubuntu 22.04.2 LTS) | x86_64 | 4.3.1 (2023-06-16) -- "Beagle Scouts" | 4626 |
| palomino3 | Windows Server 2022 Datacenter | x64 | 4.3.1 (2023-06-16 ucrt) -- "Beagle Scouts" | 4379 |
| merida1 | macOS 12.6.4 Monterey | x86_64 | 4.3.1 (2023-06-16) -- "Beagle Scouts" | 4395 |
| Click on any hostname to see more info about the system (e.g. compilers) (*) as reported by 'uname -p', except on Windows and Mac OS X | ||||
| Package 475/2230 | Hostname | OS / Arch | INSTALL | BUILD | CHECK | BUILD BIN | ||||||||
| cyanoFilter 1.8.0 (landing page) Oluwafemi Olusoji
| nebbiolo1 | Linux (Ubuntu 22.04.2 LTS) / x86_64 | OK | OK | OK | |||||||||
| palomino3 | Windows Server 2022 Datacenter / x64 | OK | OK | OK | OK | |||||||||
| merida1 | macOS 12.6.4 Monterey / x86_64 | OK | OK | OK | OK | |||||||||
| kjohnson2 | macOS 12.6.1 Monterey / arm64 | see weekly results here | ||||||||||||
|
To the developers/maintainers of the cyanoFilter package: - Allow up to 24 hours (and sometimes 48 hours) for your latest push to git@git.bioconductor.org:packages/cyanoFilter.git to reflect on this report. See Troubleshooting Build Report for more information. - Use the following Renviron settings to reproduce errors and warnings. - If 'R CMD check' started to fail recently on the Linux builder(s) over a missing dependency, add the missing dependency to 'Suggests:' in your DESCRIPTION file. See Renviron.bioc for more information. |
| Package: cyanoFilter |
| Version: 1.8.0 |
| Command: /Library/Frameworks/R.framework/Resources/bin/R CMD check --install=check:cyanoFilter.install-out.txt --library=/Library/Frameworks/R.framework/Resources/library --no-vignettes --timings cyanoFilter_1.8.0.tar.gz |
| StartedAt: 2023-10-16 00:31:05 -0400 (Mon, 16 Oct 2023) |
| EndedAt: 2023-10-16 00:35:18 -0400 (Mon, 16 Oct 2023) |
| EllapsedTime: 253.0 seconds |
| RetCode: 0 |
| Status: OK |
| CheckDir: cyanoFilter.Rcheck |
| Warnings: 0 |
##############################################################################
##############################################################################
###
### Running command:
###
### /Library/Frameworks/R.framework/Resources/bin/R CMD check --install=check:cyanoFilter.install-out.txt --library=/Library/Frameworks/R.framework/Resources/library --no-vignettes --timings cyanoFilter_1.8.0.tar.gz
###
##############################################################################
##############################################################################
* using log directory ‘/Users/biocbuild/bbs-3.17-bioc/meat/cyanoFilter.Rcheck’
* using R version 4.3.1 (2023-06-16)
* using platform: x86_64-apple-darwin20 (64-bit)
* R was compiled by
Apple clang version 14.0.3 (clang-1403.0.22.14.1)
GNU Fortran (GCC) 12.2.0
* running under: macOS Monterey 12.6.4
* using session charset: UTF-8
* using option ‘--no-vignettes’
* checking for file ‘cyanoFilter/DESCRIPTION’ ... OK
* checking extension type ... Package
* this is package ‘cyanoFilter’ version ‘1.8.0’
* package encoding: UTF-8
* checking package namespace information ... OK
* checking package dependencies ... OK
* checking if this is a source package ... OK
* checking if there is a namespace ... OK
* checking for hidden files and directories ... OK
* checking for portable file names ... OK
* checking for sufficient/correct file permissions ... OK
* checking whether package ‘cyanoFilter’ can be installed ... OK
* checking installed package size ... OK
* checking package directory ... OK
* checking ‘build’ directory ... OK
* checking DESCRIPTION meta-information ... OK
* checking top-level files ... OK
* checking for left-over files ... OK
* checking index information ... OK
* checking package subdirectories ... OK
* checking R files for non-ASCII characters ... OK
* checking R files for syntax errors ... OK
* checking whether the package can be loaded ... OK
* checking whether the package can be loaded with stated dependencies ... OK
* checking whether the package can be unloaded cleanly ... OK
* checking whether the namespace can be loaded with stated dependencies ... OK
* checking whether the namespace can be unloaded cleanly ... OK
* checking dependencies in R code ... OK
* checking S3 generic/method consistency ... OK
* checking replacement functions ... OK
* checking foreign function calls ... OK
* checking R code for possible problems ... OK
* checking Rd files ... OK
* checking Rd metadata ... OK
* checking Rd cross-references ... OK
* checking for missing documentation entries ... OK
* checking for code/documentation mismatches ... OK
* checking Rd \usage sections ... OK
* checking Rd contents ... OK
* checking for unstated dependencies in examples ... OK
* checking files in ‘vignettes’ ... OK
* checking examples ... OK
Examples with CPU (user + system) or elapsed time > 5s
user system elapsed
gateFunc 20.281 1.840 22.529
MarginEvents 5.892 0.336 8.216
ggpairsDens 5.789 0.215 8.487
pairsPlot 3.401 0.284 5.207
* checking for unstated dependencies in vignettes ... OK
* checking package vignettes in ‘inst/doc’ ... OK
* checking running R code from vignettes ... SKIPPED
* checking re-building of vignette outputs ... SKIPPED
* checking PDF version of manual ... OK
* DONE
Status: OK
cyanoFilter.Rcheck/00install.out
############################################################################## ############################################################################## ### ### Running command: ### ### /Library/Frameworks/R.framework/Resources/bin/R CMD INSTALL cyanoFilter ### ############################################################################## ############################################################################## * installing to library ‘/Library/Frameworks/R.framework/Versions/4.3-x86_64/Resources/library’ * installing *source* package ‘cyanoFilter’ ... ** using staged installation ** R ** inst ** byte-compile and prepare package for lazy loading ** help *** installing help indices ** building package indices ** installing vignettes ** testing if installed package can be loaded from temporary location ** testing if installed package can be loaded from final location ** testing if installed package keeps a record of temporary installation path * DONE (cyanoFilter)
cyanoFilter.Rcheck/cyanoFilter-Ex.timings
| name | user | system | elapsed | |
| MarginEvents | 5.892 | 0.336 | 8.216 | |
| PhytoFilter | 1.807 | 0.153 | 2.601 | |
| PhytopFilter | 1.416 | 0.099 | 1.968 | |
| accTest | 1.184 | 0.059 | 1.638 | |
| accuracy | 1.078 | 0.089 | 1.517 | |
| cellmargin | 0.719 | 0.092 | 1.067 | |
| clusterExtract | 1.898 | 0.080 | 2.614 | |
| clusterExtractp | 1.925 | 0.079 | 2.634 | |
| debrisNc | 0.764 | 0.112 | 1.172 | |
| fullFlowframe-MarginEvents-method | 0.672 | 0.041 | 0.942 | |
| fullFlowframe-PhytopFilter-method | 1.413 | 0.074 | 1.952 | |
| fullFlowframe | 0.671 | 0.037 | 0.921 | |
| gateFunc | 20.281 | 1.840 | 22.529 | |
| ggpairsDens | 5.789 | 0.215 | 8.487 | |
| ggplotDens | 1.140 | 0.049 | 1.755 | |
| ggplotDens2 | 1.896 | 0.074 | 3.044 | |
| goodfcs | 0.090 | 0.012 | 0.204 | |
| is.DebrisFilter | 0.000 | 0.000 | 0.001 | |
| is.MarginEvents | 0.000 | 0.001 | 0.001 | |
| is.PhytopFilter | 0.001 | 0.000 | 0.001 | |
| is.flowFrame | 0.001 | 0.000 | 0.000 | |
| is.flowSet | 0.000 | 0.001 | 0.001 | |
| lnTrans | 0.484 | 0.026 | 0.692 | |
| newFlowframe | 0.515 | 0.205 | 0.984 | |
| nona | 0.234 | 0.013 | 0.346 | |
| noneg | 0.387 | 0.021 | 0.565 | |
| oneDgate | 0.520 | 0.193 | 0.970 | |
| pairsPlot | 3.401 | 0.284 | 5.207 | |
| pigmentGate | 0.617 | 0.124 | 1.043 | |
| reducedFlowframe-MarginEvents-method | 0.679 | 0.044 | 1.029 | |
| reducedFlowframe | 0.672 | 0.037 | 0.986 | |
| retain | 0.049 | 0.006 | 0.067 | |
| rowNumbers | 0.491 | 0.141 | 0.859 | |
| summaries-DebrisFilter-method | 0.659 | 0.042 | 0.935 | |
| summaries-MarginEvents-method | 0.690 | 0.042 | 1.054 | |
| summaries-PhytopFilter-method | 1.412 | 0.061 | 2.110 | |
| summaries | 0.695 | 0.047 | 1.019 | |