| Back to Multiple platform build/check report for BioC 3.17: simplified long |
|
This page was generated on 2023-10-16 11:35:16 -0400 (Mon, 16 Oct 2023).
| Hostname | OS | Arch (*) | R version | Installed pkgs |
|---|---|---|---|---|
| nebbiolo1 | Linux (Ubuntu 22.04.2 LTS) | x86_64 | 4.3.1 (2023-06-16) -- "Beagle Scouts" | 4626 |
| palomino3 | Windows Server 2022 Datacenter | x64 | 4.3.1 (2023-06-16 ucrt) -- "Beagle Scouts" | 4379 |
| merida1 | macOS 12.6.4 Monterey | x86_64 | 4.3.1 (2023-06-16) -- "Beagle Scouts" | 4395 |
| Click on any hostname to see more info about the system (e.g. compilers) (*) as reported by 'uname -p', except on Windows and Mac OS X | ||||
| Package 375/2230 | Hostname | OS / Arch | INSTALL | BUILD | CHECK | BUILD BIN | ||||||||
| cn.mops 1.46.0 (landing page) Gundula Povysil
| nebbiolo1 | Linux (Ubuntu 22.04.2 LTS) / x86_64 | OK | OK | OK | |||||||||
| palomino3 | Windows Server 2022 Datacenter / x64 | OK | OK | OK | OK | |||||||||
| merida1 | macOS 12.6.4 Monterey / x86_64 | OK | OK | OK | OK | |||||||||
| kjohnson2 | macOS 12.6.1 Monterey / arm64 | see weekly results here | ||||||||||||
|
To the developers/maintainers of the cn.mops package: - Allow up to 24 hours (and sometimes 48 hours) for your latest push to git@git.bioconductor.org:packages/cn.mops.git to reflect on this report. See Troubleshooting Build Report for more information. - Use the following Renviron settings to reproduce errors and warnings. - If 'R CMD check' started to fail recently on the Linux builder(s) over a missing dependency, add the missing dependency to 'Suggests:' in your DESCRIPTION file. See Renviron.bioc for more information. |
| Package: cn.mops |
| Version: 1.46.0 |
| Command: /home/biocbuild/bbs-3.17-bioc/R/bin/R CMD check --install=check:cn.mops.install-out.txt --library=/home/biocbuild/bbs-3.17-bioc/R/site-library --timings cn.mops_1.46.0.tar.gz |
| StartedAt: 2023-10-15 20:12:18 -0400 (Sun, 15 Oct 2023) |
| EndedAt: 2023-10-15 20:16:00 -0400 (Sun, 15 Oct 2023) |
| EllapsedTime: 222.5 seconds |
| RetCode: 0 |
| Status: OK |
| CheckDir: cn.mops.Rcheck |
| Warnings: 0 |
##############################################################################
##############################################################################
###
### Running command:
###
### /home/biocbuild/bbs-3.17-bioc/R/bin/R CMD check --install=check:cn.mops.install-out.txt --library=/home/biocbuild/bbs-3.17-bioc/R/site-library --timings cn.mops_1.46.0.tar.gz
###
##############################################################################
##############################################################################
* using log directory ‘/home/biocbuild/bbs-3.17-bioc/meat/cn.mops.Rcheck’
* using R version 4.3.1 (2023-06-16)
* using platform: x86_64-pc-linux-gnu (64-bit)
* R was compiled by
gcc (Ubuntu 11.3.0-1ubuntu1~22.04.1) 11.3.0
GNU Fortran (Ubuntu 11.3.0-1ubuntu1~22.04.1) 11.3.0
* running under: Ubuntu 22.04.3 LTS
* using session charset: UTF-8
* checking for file ‘cn.mops/DESCRIPTION’ ... OK
* checking extension type ... Package
* this is package ‘cn.mops’ version ‘1.46.0’
* checking package namespace information ... OK
* checking package dependencies ... OK
* checking if this is a source package ... OK
* checking if there is a namespace ... OK
* checking for hidden files and directories ... OK
* checking for portable file names ... OK
* checking for sufficient/correct file permissions ... OK
* checking whether package ‘cn.mops’ can be installed ... OK
* used C compiler: ‘gcc (Ubuntu 11.4.0-1ubuntu1~22.04) 11.4.0’
* used C++ compiler: ‘g++ (Ubuntu 11.4.0-1ubuntu1~22.04) 11.4.0’
* checking installed package size ... OK
* checking package directory ... OK
* checking ‘build’ directory ... OK
* checking DESCRIPTION meta-information ... OK
* checking top-level files ... OK
* checking for left-over files ... OK
* checking index information ... OK
* checking package subdirectories ... OK
* checking R files for non-ASCII characters ... OK
* checking R files for syntax errors ... OK
* checking whether the package can be loaded ... OK
* checking whether the package can be loaded with stated dependencies ... OK
* checking whether the package can be unloaded cleanly ... OK
* checking whether the namespace can be loaded with stated dependencies ... OK
* checking whether the namespace can be unloaded cleanly ... OK
* checking loading without being on the library search path ... OK
* checking startup messages can be suppressed ... OK
* checking dependencies in R code ... OK
* checking S3 generic/method consistency ... OK
* checking replacement functions ... OK
* checking foreign function calls ... OK
* checking R code for possible problems ... OK
* checking Rd files ... OK
* checking Rd metadata ... OK
* checking Rd cross-references ... OK
* checking for missing documentation entries ... OK
* checking for code/documentation mismatches ... OK
* checking Rd \usage sections ... OK
* checking Rd contents ... OK
* checking for unstated dependencies in examples ... OK
* checking contents of ‘data’ directory ... OK
* checking data for non-ASCII characters ... OK
* checking data for ASCII and uncompressed saves ... OK
* checking line endings in C/C++/Fortran sources/headers ... OK
* checking compiled code ... NOTE
Note: information on .o files is not available
* checking files in ‘vignettes’ ... OK
* checking examples ... OK
Examples with CPU (user + system) or elapsed time > 5s
user system elapsed
referencecn.mops 6.711 0.030 15.689
cn.mops 5.494 0.180 17.813
calcFractionalCopyNumbers-CNVDetectionResult-method 5.363 0.228 5.591
calcFractionalCopyNumbers 5.025 0.052 5.077
haplocn.mops 1.002 0.009 10.299
* checking for unstated dependencies in vignettes ... OK
* checking package vignettes in ‘inst/doc’ ... OK
* checking running R code from vignettes ...
‘cn.mops.Rnw’... OK
OK
* checking re-building of vignette outputs ... OK
* checking PDF version of manual ... OK
* DONE
Status: 1 NOTE
See
‘/home/biocbuild/bbs-3.17-bioc/meat/cn.mops.Rcheck/00check.log’
for details.
cn.mops.Rcheck/00install.out
##############################################################################
##############################################################################
###
### Running command:
###
### /home/biocbuild/bbs-3.17-bioc/R/bin/R CMD INSTALL cn.mops
###
##############################################################################
##############################################################################
* installing to library ‘/home/biocbuild/bbs-3.17-bioc/R/site-library’
* installing *source* package ‘cn.mops’ ...
** using staged installation
** libs
using C compiler: ‘gcc (Ubuntu 11.4.0-1ubuntu1~22.04) 11.4.0’
using C++ compiler: ‘g++ (Ubuntu 11.4.0-1ubuntu1~22.04) 11.4.0’
gcc -I"/home/biocbuild/bbs-3.17-bioc/R/include" -DNDEBUG -I/usr/local/include -fpic -g -O2 -Wall -c R_init_cnmops.c -o R_init_cnmops.o
g++ -std=gnu++17 -I"/home/biocbuild/bbs-3.17-bioc/R/include" -DNDEBUG -I/usr/local/include -fpic -g -O2 -Wall -c cnmops.cpp -o cnmops.o
g++ -std=gnu++17 -I"/home/biocbuild/bbs-3.17-bioc/R/include" -DNDEBUG -I/usr/local/include -fpic -g -O2 -Wall -c segment.cpp -o segment.o
segment.cpp: In function ‘SEXPREC* segment(SEXP, SEXP, SEXP, SEXP, SEXP, SEXP)’:
segment.cpp:59:27: warning: variable ‘globalSd’ set but not used [-Wunused-but-set-variable]
59 | double globalMean,globalSd,diff,M2,globalVariance;
| ^~~~~~~~
segment.cpp:60:16: warning: variable ‘oldStatistic’ set but not used [-Wunused-but-set-variable]
60 | double oldStatistic, meanLeft,meanRight,varLeft,varRight;
| ^~~~~~~~~~~~
segment.cpp:61:38: warning: variable ‘maxStatistic’ set but not used [-Wunused-but-set-variable]
61 | double newStatistic,meanDiff,maxStatistic,DOF,a,b,eps1;
| ^~~~~~~~~~~~
segment.cpp:62:47: warning: variable ‘maxIdx’ set but not used [-Wunused-but-set-variable]
62 | double newPValue, maxPValue,oldPValue,maxIdx;
| ^~~~~~
In file included from segment.cpp:10:
/home/biocbuild/bbs-3.17-bioc/R/include/Rmath.h:210:25: warning: unused variable ‘Rf_beta’ [-Wunused-variable]
210 | #define beta Rf_beta
| ^~~~~~~
segment.cpp:64:16: note: in expansion of macro ‘beta’
64 | double beta,nn;
| ^~~~
g++ -std=gnu++17 -shared -L/home/biocbuild/bbs-3.17-bioc/R/lib -L/usr/local/lib -o cn.mops.so R_init_cnmops.o cnmops.o segment.o -L/home/biocbuild/bbs-3.17-bioc/R/lib -lR
installing to /home/biocbuild/bbs-3.17-bioc/R/site-library/00LOCK-cn.mops/00new/cn.mops/libs
** R
** data
** inst
** byte-compile and prepare package for lazy loading
** help
*** installing help indices
** building package indices
** installing vignettes
** testing if installed package can be loaded from temporary location
** checking absolute paths in shared objects and dynamic libraries
** testing if installed package can be loaded from final location
** testing if installed package keeps a record of temporary installation path
* DONE (cn.mops)
cn.mops.Rcheck/cn.mops-Ex.timings
| name | user | system | elapsed | |
| CNVDetectionResult | 0.002 | 0.000 | 0.002 | |
| calcFractionalCopyNumbers-CNVDetectionResult-method | 5.363 | 0.228 | 5.591 | |
| calcFractionalCopyNumbers | 5.025 | 0.052 | 5.077 | |
| calcIntegerCopyNumbers-CNVDetectionResult-method | 0.400 | 0.008 | 0.408 | |
| calcIntegerCopyNumbers | 0.394 | 0.000 | 0.394 | |
| cn.mops | 5.494 | 0.180 | 17.813 | |
| cnvr-CNVDetectionResult-method | 0.216 | 0.020 | 0.237 | |
| cnvr | 0.195 | 0.004 | 0.198 | |
| cnvs-CNVDetectionResult-method | 0.208 | 0.004 | 0.212 | |
| cnvs | 0.191 | 0.007 | 0.198 | |
| exomecn.mops | 2.260 | 0.008 | 2.268 | |
| getReadCountsFromBAM | 0.418 | 0.008 | 4.858 | |
| getSegmentReadCountsFromBAM | 0.295 | 0.001 | 4.776 | |
| gr-CNVDetectionResult-method | 0.255 | 0.004 | 0.258 | |
| gr | 0.206 | 0.008 | 0.215 | |
| haplocn.mops | 1.002 | 0.009 | 10.299 | |
| individualCall-CNVDetectionResult-method | 0.215 | 0.000 | 0.215 | |
| individualCall | 0.214 | 0.004 | 0.218 | |
| iniCall-CNVDetectionResult-method | 0.201 | 0.007 | 0.209 | |
| iniCall | 0.214 | 0.000 | 0.215 | |
| integerCopyNumber-CNVDetectionResult-method | 0.207 | 0.008 | 0.214 | |
| integerCopyNumber | 0.212 | 0.004 | 0.216 | |
| localAssessments-CNVDetectionResult-method | 0.534 | 0.024 | 0.558 | |
| localAssessments | 0.198 | 0.003 | 0.202 | |
| makeRobustCNVR | 0.370 | 0.004 | 0.374 | |
| normalizeChromosomes | 0.143 | 0.004 | 0.147 | |
| normalizeGenome | 0.155 | 0.004 | 0.159 | |
| normalizedData-CNVDetectionResult-method | 0.199 | 0.004 | 0.203 | |
| normalizedData | 0.211 | 0.004 | 0.215 | |
| params-CNVDetectionResult-method | 0.194 | 0.012 | 0.206 | |
| params | 0.198 | 0.012 | 0.211 | |
| posteriorProbs-CNVDetectionResult-method | 0.199 | 0.004 | 0.203 | |
| posteriorProbs | 0.199 | 0.000 | 0.199 | |
| referencecn.mops | 6.711 | 0.030 | 15.689 | |
| sampleNames-CNVDetectionResult-method | 0.203 | 0.004 | 0.207 | |
| sampleNames | 0.206 | 0.012 | 0.217 | |
| segment | 0.019 | 0.000 | 0.019 | |
| segmentation-CNVDetectionResult-method | 0.198 | 0.003 | 0.203 | |
| segmentation | 0.210 | 0.000 | 0.211 | |
| segplot-CNVDetectionResult-method | 0.849 | 0.004 | 0.852 | |
| segplot | 0.834 | 0.004 | 0.838 | |
| singlecn.mops | 0.589 | 0.000 | 0.589 | |