| Back to Multiple platform build/check report for BioC 3.17: simplified long | 
  | 
This page was generated on 2023-10-16 11:36:54 -0400 (Mon, 16 Oct 2023).
| Hostname | OS | Arch (*) | R version | Installed pkgs | 
|---|---|---|---|---|
| nebbiolo1 | Linux (Ubuntu 22.04.2 LTS) | x86_64 | 4.3.1 (2023-06-16) -- "Beagle Scouts" | 4626 | 
| palomino3 | Windows Server 2022 Datacenter | x64 | 4.3.1 (2023-06-16 ucrt) -- "Beagle Scouts" | 4379 | 
| merida1 | macOS 12.6.4 Monterey | x86_64 | 4.3.1 (2023-06-16) -- "Beagle Scouts" | 4395 | 
| Click on any hostname to see more info about the system (e.g. compilers) (*) as reported by 'uname -p', except on Windows and Mac OS X | ||||
| Package 290/2230 | Hostname | OS / Arch | INSTALL | BUILD | CHECK | BUILD BIN | ||||||||
| cellHTS2 2.64.0  (landing page) Joseph Barry 
  | nebbiolo1 | Linux (Ubuntu 22.04.2 LTS) / x86_64 | OK | OK | WARNINGS | |||||||||
| palomino3 | Windows Server 2022 Datacenter / x64 | OK | OK | OK | OK | |||||||||
| merida1 | macOS 12.6.4 Monterey / x86_64 | OK | OK | OK | OK | |||||||||
| kjohnson2 | macOS 12.6.1 Monterey / arm64 | see weekly results here | ||||||||||||
| 
To the developers/maintainers of the cellHTS2 package: - Allow up to 24 hours (and sometimes 48 hours) for your latest push to git@git.bioconductor.org:packages/cellHTS2.git to reflect on this report. See Troubleshooting Build Report for more information. - Use the following Renviron settings to reproduce errors and warnings. - If 'R CMD check' started to fail recently on the Linux builder(s) over a missing dependency, add the missing dependency to 'Suggests:' in your DESCRIPTION file. See Renviron.bioc for more information.  | 
| Package: cellHTS2 | 
| Version: 2.64.0 | 
| Command: /Library/Frameworks/R.framework/Resources/bin/R CMD check --install=check:cellHTS2.install-out.txt --library=/Library/Frameworks/R.framework/Resources/library --no-vignettes --timings cellHTS2_2.64.0.tar.gz | 
| StartedAt: 2023-10-15 23:32:28 -0400 (Sun, 15 Oct 2023) | 
| EndedAt: 2023-10-15 23:43:15 -0400 (Sun, 15 Oct 2023) | 
| EllapsedTime: 647.4 seconds | 
| RetCode: 0 | 
| Status: OK | 
| CheckDir: cellHTS2.Rcheck | 
| Warnings: 0 | 
##############################################################################
##############################################################################
###
### Running command:
###
###   /Library/Frameworks/R.framework/Resources/bin/R CMD check --install=check:cellHTS2.install-out.txt --library=/Library/Frameworks/R.framework/Resources/library --no-vignettes --timings cellHTS2_2.64.0.tar.gz
###
##############################################################################
##############################################################################
* using log directory ‘/Users/biocbuild/bbs-3.17-bioc/meat/cellHTS2.Rcheck’
* using R version 4.3.1 (2023-06-16)
* using platform: x86_64-apple-darwin20 (64-bit)
* R was compiled by
    Apple clang version 14.0.3 (clang-1403.0.22.14.1)
    GNU Fortran (GCC) 12.2.0
* running under: macOS Monterey 12.6.4
* using session charset: UTF-8
* using option ‘--no-vignettes’
* checking for file ‘cellHTS2/DESCRIPTION’ ... OK
* this is package ‘cellHTS2’ version ‘2.64.0’
* checking package namespace information ... OK
* checking package dependencies ... NOTE
Depends: includes the non-default packages:
  'RColorBrewer', 'Biobase', 'genefilter', 'splots', 'vsn', 'hwriter',
  'locfit', 'grid'
Adding so many packages to the search path is excessive and importing
selectively is preferable.
* checking if this is a source package ... OK
* checking if there is a namespace ... OK
* checking for hidden files and directories ... OK
* checking for portable file names ... OK
* checking for sufficient/correct file permissions ... OK
* checking whether package ‘cellHTS2’ can be installed ... OK
* checking installed package size ... OK
* checking package directory ... OK
* checking ‘build’ directory ... OK
* checking DESCRIPTION meta-information ... OK
* checking top-level files ... OK
* checking for left-over files ... OK
* checking index information ... OK
* checking package subdirectories ... OK
* checking R files for non-ASCII characters ... OK
* checking R files for syntax errors ... OK
* checking whether the package can be loaded ... OK
* checking whether the package can be loaded with stated dependencies ... OK
* checking whether the package can be unloaded cleanly ... OK
* checking whether the namespace can be loaded with stated dependencies ... OK
* checking whether the namespace can be unloaded cleanly ... OK
* checking startup messages can be suppressed ... OK
* checking dependencies in R code ... NOTE
Package in Depends field not imported from: ‘genefilter’
  These packages need to be imported from (in the NAMESPACE file)
  for when this namespace is loaded but not attached.
Unexported object imported by a ':::' call: ‘Biobase:::.showAnnotatedDataFrame’
  See the note in ?`:::` about the use of this operator.
* checking S3 generic/method consistency ... OK
* checking replacement functions ... OK
* checking foreign function calls ... OK
* checking R code for possible problems ... NOTE
plotPlate: no visible global function definition for ‘dev.cur’
plotPlate: no visible global function definition for ‘plot.new’
Undefined global functions or variables:
  dev.cur plot.new
Consider adding
  importFrom("grDevices", "dev.cur")
  importFrom("graphics", "plot.new")
to your NAMESPACE file.
* checking Rd files ... OK
* checking Rd metadata ... OK
* checking Rd cross-references ... NOTE
Unknown packages ‘cellHTS’, ‘prada’ in Rd xrefs
* checking for missing documentation entries ... OK
* checking for code/documentation mismatches ... OK
* checking Rd \usage sections ... OK
* checking Rd contents ... OK
* checking for unstated dependencies in examples ... OK
* checking contents of ‘data’ directory ... OK
* checking data for non-ASCII characters ... OK
* checking data for ASCII and uncompressed saves ... OK
* checking sizes of PDF files under ‘inst/doc’ ... OK
* checking files in ‘vignettes’ ... OK
* checking examples ... OK
Examples with CPU (user + system) or elapsed time > 5s
       user system elapsed
Bscore 5.98  0.328    8.85
* checking for unstated dependencies in ‘tests’ ... OK
* checking tests ...
  Running ‘test.R’
 OK
* checking for unstated dependencies in vignettes ... OK
* checking package vignettes in ‘inst/doc’ ... OK
* checking running R code from vignettes ... SKIPPED
* checking re-building of vignette outputs ... SKIPPED
* checking PDF version of manual ... OK
* DONE
Status: 4 NOTEs
See
  ‘/Users/biocbuild/bbs-3.17-bioc/meat/cellHTS2.Rcheck/00check.log’
for details.
cellHTS2.Rcheck/00install.out
############################################################################## ############################################################################## ### ### Running command: ### ### /Library/Frameworks/R.framework/Resources/bin/R CMD INSTALL cellHTS2 ### ############################################################################## ############################################################################## * installing to library ‘/Library/Frameworks/R.framework/Versions/4.3-x86_64/Resources/library’ * installing *source* package ‘cellHTS2’ ... ** using staged installation ** R ** data ** inst ** byte-compile and prepare package for lazy loading ** help *** installing help indices ** building package indices ** installing vignettes ** testing if installed package can be loaded from temporary location ** testing if installed package can be loaded from final location ** testing if installed package keeps a record of temporary installation path * DONE (cellHTS2)
cellHTS2.Rcheck/tests/test.Rout
R version 4.3.1 (2023-06-16) -- "Beagle Scouts"
Copyright (C) 2023 The R Foundation for Statistical Computing
Platform: x86_64-apple-darwin20 (64-bit)
R is free software and comes with ABSOLUTELY NO WARRANTY.
You are welcome to redistribute it under certain conditions.
Type 'license()' or 'licence()' for distribution details.
R is a collaborative project with many contributors.
Type 'contributors()' for more information and
'citation()' on how to cite R or R packages in publications.
Type 'demo()' for some demos, 'help()' for on-line help, or
'help.start()' for an HTML browser interface to help.
Type 'q()' to quit R.
> ## cat tests/test.R | R --vanilla
> ## cellHTS2 crash test on various conditions
> library(cellHTS2)
Loading required package: RColorBrewer
Loading required package: Biobase
Loading required package: BiocGenerics
Attaching package: 'BiocGenerics'
The following objects are masked from 'package:stats':
    IQR, mad, sd, var, xtabs
The following objects are masked from 'package:base':
    Filter, Find, Map, Position, Reduce, anyDuplicated, aperm, append,
    as.data.frame, basename, cbind, colnames, dirname, do.call,
    duplicated, eval, evalq, get, grep, grepl, intersect, is.unsorted,
    lapply, mapply, match, mget, order, paste, pmax, pmax.int, pmin,
    pmin.int, rank, rbind, rownames, sapply, setdiff, sort, table,
    tapply, union, unique, unsplit, which.max, which.min
Welcome to Bioconductor
    Vignettes contain introductory material; view with
    'browseVignettes()'. To cite Bioconductor, see
    'citation("Biobase")', and for packages 'citation("pkgname")'.
Loading required package: genefilter
Loading required package: splots
Loading required package: vsn
Loading required package: hwriter
Loading required package: locfit
locfit 1.5-9.8 	 2023-06-11
Loading required package: grid
> path <- system.file("testscreen", package="cellHTS2")
> 
> testPlatelist=function(platelist, normalize=TRUE)
+ {
+     x <- readPlateList(platelist, name="test", path=path)
+     x <- configure(x, descripFile="description.txt", confFile="plateconf.txt",
+                    logFile="screenlog.txt", path=path)
+     
+     if (normalize)
+     {
+         ## normalize results
+         xn <- normalizePlates(x, scale="multiplicative", log=FALSE, method="median",
+                               varianceAdjust="none")
+         
+         ## score and summarize replicates
+         xsc <- scoreReplicates(xn, sign="-", method="zscore")
+         xsc <- summarizeReplicates(xsc, summary="mean")
+     }
+     
+     ## write reports
+     outdir <- file.path(tempdir(),platelist,'raw')
+     mainScriptFile <-  system.file("scripts/dummy.R", package="cellHTS2")
+     writeReport(raw=x, force=TRUE, plotPlateArgs = TRUE,imageScreenArgs = list(zrange=c( -4, 8), ar=1),
+                 map=TRUE, outdir=outdir, mainScriptFile=mainScriptFile)
+     if (interactive()) browseURL(file.path(outdir,'index.html'))
+     if (normalize)
+     {
+         outdir <- file.path(tempdir(),platelist,'norm')
+         writeReport(raw=x, normalized=xn, scored=xsc, force=TRUE, plotPlateArgs = TRUE,
+                     imageScreenArgs = list(zrange=c( -4, 8), ar=1), map=TRUE, outdir=outdir,
+                     mainScriptFile=mainScriptFile)
+         if (interactive()) browseURL(file.path(outdir,'index.html'))
+     }
+ }
> 
> ######
> ## 2 plates, 2 replicates, 1 channel
> testPlatelist('platelist221.txt')
cellHTS2 is busy creating HTML pages for 'test'. 
Found raw data.
State:
configured=TRUE, annotated=FALSE
0% done (step 1 of 6)
33% done (step 2 of 6)
38% done (step 3 of 6)
42% done (step 3 of 6)
52% done (step 4 of 6)
88% done (step 5 of 6)
100% done (step 5 of 6)
100% done (step 5 of 6)
100% done (step 6 of 6)
Report was successfully generated in folder /tmp/RtmpuNaZQK/platelist221.txt/raw/index.html
cellHTS2 is busy creating HTML pages for 'test'. 
Found raw, normalized and scored data.
State:
configured=TRUE, annotated=FALSE
0% done (step 1 of 8)
17% done (step 2 of 8)
19% done (step 3 of 8)
22% done (step 3 of 8)
27% done (step 4 of 8)
46% done (step 5 of 8)
92% done (step 6 of 8)
94% done (step 7 of 8)
100% done (step 8 of 8)
Report was successfully generated in folder /tmp/RtmpuNaZQK/platelist221.txt/norm/index.html
Warning messages:
1: The plotPlateArgs argument is deprecated. Please use the settings infrastructure as explained in '?setSettings'. 
2: The imageScreenArgs argument is deprecated. Please use the settings infrastructure as explained in '?setSettings'. 
3: The plotPlateArgs argument is deprecated. Please use the settings infrastructure as explained in '?setSettings'. 
4: The imageScreenArgs argument is deprecated. Please use the settings infrastructure as explained in '?setSettings'. 
5: In sprintf("Left: raw, right: normalized", r) :
  one argument not used by format 'Left: raw, right: normalized'
6: In sprintf("Left: raw, right: normalized", r) :
  one argument not used by format 'Left: raw, right: normalized'
> 
> ######
> ## 2 plates, 1 replicate, 2 channels
> testPlatelist('platelist212.txt', normalize=FALSE)
cellHTS2 is busy creating HTML pages for 'test'. 
Found raw data.
State:
configured=TRUE, annotated=FALSE
0% done (step 1 of 6)
33% done (step 2 of 6)
38% done (step 3 of 6)
42% done (step 3 of 6)
52% done (step 4 of 6)
88% done (step 5 of 6)
100% done (step 5 of 6)
100% done (step 5 of 6)
100% done (step 6 of 6)
Report was successfully generated in folder /tmp/RtmpuNaZQK/platelist212.txt/raw/index.html
Warning messages:
1: The plotPlateArgs argument is deprecated. Please use the settings infrastructure as explained in '?setSettings'. 
2: The imageScreenArgs argument is deprecated. Please use the settings infrastructure as explained in '?setSettings'. 
> 
> ######
> ## 2 plates, 1 replicate, 3 channels
> testPlatelist('platelist213.txt', normalize=FALSE)
cellHTS2 is busy creating HTML pages for 'test'. 
Found raw data.
State:
configured=TRUE, annotated=FALSE
0% done (step 1 of 6)
26% done (step 2 of 6)
31% done (step 3 of 6)
37% done (step 3 of 6)
48% done (step 4 of 6)
91% done (step 5 of 6)
100% done (step 5 of 6)
100% done (step 5 of 6)
100% done (step 6 of 6)
Report was successfully generated in folder /tmp/RtmpuNaZQK/platelist213.txt/raw/index.html
Warning messages:
1: The plotPlateArgs argument is deprecated. Please use the settings infrastructure as explained in '?setSettings'. 
2: The imageScreenArgs argument is deprecated. Please use the settings infrastructure as explained in '?setSettings'. 
> 
> ######
> ## 2 plates, 2 replicates, 2 channels
> testPlatelist('platelist222.txt', normalize=FALSE)
cellHTS2 is busy creating HTML pages for 'test'. 
Found raw data.
State:
configured=TRUE, annotated=FALSE
0% done (step 1 of 6)
21% done (step 2 of 6)
27% done (step 3 of 6)
33% done (step 3 of 6)
46% done (step 4 of 6)
92% done (step 5 of 6)
100% done (step 5 of 6)
100% done (step 5 of 6)
100% done (step 6 of 6)
Report was successfully generated in folder /tmp/RtmpuNaZQK/platelist222.txt/raw/index.html
Warning messages:
1: The plotPlateArgs argument is deprecated. Please use the settings infrastructure as explained in '?setSettings'. 
2: The imageScreenArgs argument is deprecated. Please use the settings infrastructure as explained in '?setSettings'. 
> 
> ######
> ## 2 plates, 1 replicates, 1 channel
> testPlatelist('platelist211.txt')
cellHTS2 is busy creating HTML pages for 'test'. 
Found raw data.
State:
configured=TRUE, annotated=FALSE
0% done (step 1 of 6)
46% done (step 2 of 6)
49% done (step 3 of 6)
52% done (step 3 of 6)
59% done (step 4 of 6)
84% done (step 5 of 6)
100% done (step 5 of 6)
100% done (step 5 of 6)
100% done (step 6 of 6)
Report was successfully generated in folder /tmp/RtmpuNaZQK/platelist211.txt/raw/index.html
cellHTS2 is busy creating HTML pages for 'test'. 
Found raw, normalized and scored data.
State:
configured=TRUE, annotated=FALSE
0% done (step 1 of 8)
28% done (step 2 of 8)
30% done (step 3 of 8)
31% done (step 3 of 8)
36% done (step 4 of 8)
51% done (step 5 of 8)
88% done (step 6 of 8)
90% done (step 7 of 8)
100% done (step 8 of 8)
Report was successfully generated in folder /tmp/RtmpuNaZQK/platelist211.txt/norm/index.html
Warning messages:
1: The plotPlateArgs argument is deprecated. Please use the settings infrastructure as explained in '?setSettings'. 
2: The imageScreenArgs argument is deprecated. Please use the settings infrastructure as explained in '?setSettings'. 
3: The plotPlateArgs argument is deprecated. Please use the settings infrastructure as explained in '?setSettings'. 
4: The imageScreenArgs argument is deprecated. Please use the settings infrastructure as explained in '?setSettings'. 
5: In sprintf("Left: raw, right: normalized", r) :
  one argument not used by format 'Left: raw, right: normalized'
> 
> ######
> ## 2 plates, 3 replicates, 3 channels
> testPlatelist('platelist233.txt', normalize=FALSE)
cellHTS2 is busy creating HTML pages for 'test'. 
Found raw data.
State:
configured=TRUE, annotated=FALSE
0% done (step 1 of 6)
11% done (step 2 of 6)
18% done (step 3 of 6)
25% done (step 3 of 6)
40% done (step 4 of 6)
96% done (step 5 of 6)
100% done (step 5 of 6)
100% done (step 5 of 6)
100% done (step 6 of 6)
Report was successfully generated in folder /tmp/RtmpuNaZQK/platelist233.txt/raw/index.html
Warning messages:
1: The plotPlateArgs argument is deprecated. Please use the settings infrastructure as explained in '?setSettings'. 
2: The imageScreenArgs argument is deprecated. Please use the settings infrastructure as explained in '?setSettings'. 
> 
> proc.time()
   user  system elapsed 
 60.700   2.968  81.950 
cellHTS2.Rcheck/cellHTS2-Ex.timings
| name | user | system | elapsed | |
| Bscore | 5.980 | 0.328 | 8.850 | |
| ROC-class | 0.515 | 0.071 | 0.963 | |
| ROC | 1.904 | 0.057 | 2.752 | |
| annotate | 1.550 | 0.036 | 2.214 | |
| bdgpbiomart | 0.336 | 0.013 | 0.486 | |
| buildCellHTS2 | 0.569 | 0.010 | 0.799 | |
| cellHTS-class | 1.496 | 0.111 | 2.397 | |
| configurationAsScreenPlot | 2.512 | 0.051 | 3.709 | |
| configure | 1.347 | 0.023 | 1.852 | |
| convertOldCellHTS | 1.154 | 0.027 | 1.751 | |
| convertWellCoordinates | 0.000 | 0.001 | 0.003 | |
| data-KcViab | 0.234 | 0.008 | 0.357 | |
| data-KcViabSmall | 0.017 | 0.005 | 0.038 | |
| data-dualCh | 0.020 | 0.004 | 0.084 | |
| data-oldKcViabSmall | 0.016 | 0.004 | 0.025 | |
| getDynamicRange | 1.008 | 0.022 | 1.563 | |
| getEnVisionRawData | 0.053 | 0.006 | 0.071 | |
| getMeasureRepAgreement | 0.851 | 0.018 | 1.259 | |
| getTopTable | 2.200 | 0.036 | 3.347 | |
| getZfactor | 0.578 | 0.010 | 0.753 | |
| imageScreen | 1.809 | 0.027 | 2.775 | |
| normalizePlates | 2.352 | 0.025 | 3.184 | |
| oneRowPerId | 0.005 | 0.001 | 0.010 | |
| plotSpatialEffects | 3.347 | 0.024 | 4.289 | |
| readHTAnalystData | 1.385 | 0.011 | 1.799 | |
| readPlateList | 0.992 | 0.014 | 1.303 | |
| rsa | 1.445 | 0.012 | 1.882 | |
| scoreReplicates | 1.641 | 0.032 | 2.158 | |
| scores2calls | 1.867 | 0.074 | 2.505 | |
| setSettings | 0.008 | 0.024 | 0.041 | |
| spatialNormalization | 2.750 | 0.023 | 3.567 | |
| summarizeChannels | 3.137 | 0.021 | 4.095 | |
| summarizeReplicates | 1.557 | 0.009 | 1.998 | |
| templateDescriptionFile | 0.001 | 0.003 | 0.005 | |
| updateCellHTS | 0.182 | 0.007 | 0.235 | |
| write.tabdel | 0.120 | 0.006 | 0.193 | |
| writeReport | 0.016 | 0.005 | 0.028 | |
| writeTab | 0.025 | 0.005 | 0.046 | |