| Back to Multiple platform build/check report for BioC 3.17: simplified long |
|
This page was generated on 2023-10-16 11:36:49 -0400 (Mon, 16 Oct 2023).
| Hostname | OS | Arch (*) | R version | Installed pkgs |
|---|---|---|---|---|
| nebbiolo1 | Linux (Ubuntu 22.04.2 LTS) | x86_64 | 4.3.1 (2023-06-16) -- "Beagle Scouts" | 4626 |
| palomino3 | Windows Server 2022 Datacenter | x64 | 4.3.1 (2023-06-16 ucrt) -- "Beagle Scouts" | 4379 |
| merida1 | macOS 12.6.4 Monterey | x86_64 | 4.3.1 (2023-06-16) -- "Beagle Scouts" | 4395 |
| Click on any hostname to see more info about the system (e.g. compilers) (*) as reported by 'uname -p', except on Windows and Mac OS X | ||||
| Package 59/2230 | Hostname | OS / Arch | INSTALL | BUILD | CHECK | BUILD BIN | ||||||||
| amplican 1.22.1 (landing page) Eivind Valen
| nebbiolo1 | Linux (Ubuntu 22.04.2 LTS) / x86_64 | OK | OK | OK | |||||||||
| palomino3 | Windows Server 2022 Datacenter / x64 | OK | OK | OK | OK | |||||||||
| merida1 | macOS 12.6.4 Monterey / x86_64 | OK | OK | OK | OK | |||||||||
| kjohnson2 | macOS 12.6.1 Monterey / arm64 | see weekly results here | ||||||||||||
|
To the developers/maintainers of the amplican package: - Allow up to 24 hours (and sometimes 48 hours) for your latest push to git@git.bioconductor.org:packages/amplican.git to reflect on this report. See Troubleshooting Build Report for more information. - Use the following Renviron settings to reproduce errors and warnings. - If 'R CMD check' started to fail recently on the Linux builder(s) over a missing dependency, add the missing dependency to 'Suggests:' in your DESCRIPTION file. See Renviron.bioc for more information. |
| Package: amplican |
| Version: 1.22.1 |
| Command: /Library/Frameworks/R.framework/Resources/bin/R CMD check --install=check:amplican.install-out.txt --library=/Library/Frameworks/R.framework/Resources/library --no-vignettes --timings amplican_1.22.1.tar.gz |
| StartedAt: 2023-10-15 22:28:00 -0400 (Sun, 15 Oct 2023) |
| EndedAt: 2023-10-15 22:35:02 -0400 (Sun, 15 Oct 2023) |
| EllapsedTime: 421.7 seconds |
| RetCode: 0 |
| Status: OK |
| CheckDir: amplican.Rcheck |
| Warnings: 0 |
##############################################################################
##############################################################################
###
### Running command:
###
### /Library/Frameworks/R.framework/Resources/bin/R CMD check --install=check:amplican.install-out.txt --library=/Library/Frameworks/R.framework/Resources/library --no-vignettes --timings amplican_1.22.1.tar.gz
###
##############################################################################
##############################################################################
* using log directory ‘/Users/biocbuild/bbs-3.17-bioc/meat/amplican.Rcheck’
* using R version 4.3.1 (2023-06-16)
* using platform: x86_64-apple-darwin20 (64-bit)
* R was compiled by
Apple clang version 14.0.3 (clang-1403.0.22.14.1)
GNU Fortran (GCC) 12.2.0
* running under: macOS Monterey 12.6.4
* using session charset: UTF-8
* using option ‘--no-vignettes’
* checking for file ‘amplican/DESCRIPTION’ ... OK
* checking extension type ... Package
* this is package ‘amplican’ version ‘1.22.1’
* package encoding: UTF-8
* checking package namespace information ... OK
* checking package dependencies ... OK
* checking if this is a source package ... OK
* checking if there is a namespace ... OK
* checking for hidden files and directories ... OK
* checking for portable file names ... OK
* checking for sufficient/correct file permissions ... OK
* checking whether package ‘amplican’ can be installed ... OK
* used C++ compiler: ‘Apple clang version 14.0.0 (clang-1400.0.29.202)’
* used SDK: ‘MacOSX11.3.sdk’
* checking installed package size ... OK
* checking package directory ... OK
* checking ‘build’ directory ... OK
* checking DESCRIPTION meta-information ... OK
* checking top-level files ... OK
* checking for left-over files ... OK
* checking index information ... OK
* checking package subdirectories ... OK
* checking R files for non-ASCII characters ... OK
* checking R files for syntax errors ... OK
* checking whether the package can be loaded ... OK
* checking whether the package can be loaded with stated dependencies ... OK
* checking whether the package can be unloaded cleanly ... OK
* checking whether the namespace can be loaded with stated dependencies ... OK
* checking whether the namespace can be unloaded cleanly ... OK
* checking startup messages can be suppressed ... OK
* checking dependencies in R code ... OK
* checking S3 generic/method consistency ... OK
* checking replacement functions ... OK
* checking foreign function calls ... OK
* checking R code for possible problems ... OK
* checking Rd files ... OK
* checking Rd metadata ... OK
* checking Rd cross-references ... OK
* checking for missing documentation entries ... OK
* checking for code/documentation mismatches ... OK
* checking Rd \usage sections ... OK
* checking Rd contents ... OK
* checking for unstated dependencies in examples ... OK
* checking line endings in C/C++/Fortran sources/headers ... OK
* checking compiled code ... NOTE
Note: information on .o files is not available
* checking files in ‘vignettes’ ... OK
* checking examples ... OK
Examples with CPU (user + system) or elapsed time > 5s
user system elapsed
amplicanAlign 13.373 1.300 18.966
amplicanPipeline 11.351 0.721 17.127
extractEvents 6.345 0.108 8.922
* checking for unstated dependencies in ‘tests’ ... OK
* checking tests ...
Running ‘testthat.R’
OK
* checking for unstated dependencies in vignettes ... OK
* checking package vignettes in ‘inst/doc’ ... OK
* checking running R code from vignettes ... SKIPPED
* checking re-building of vignette outputs ... SKIPPED
* checking PDF version of manual ... OK
* DONE
Status: 1 NOTE
See
‘/Users/biocbuild/bbs-3.17-bioc/meat/amplican.Rcheck/00check.log’
for details.
amplican.Rcheck/00install.out
############################################################################## ############################################################################## ### ### Running command: ### ### /Library/Frameworks/R.framework/Resources/bin/R CMD INSTALL amplican ### ############################################################################## ############################################################################## * installing to library ‘/Library/Frameworks/R.framework/Versions/4.3-x86_64/Resources/library’ * installing *source* package ‘amplican’ ... ** using staged installation ** libs using C++ compiler: ‘Apple clang version 14.0.0 (clang-1400.0.29.202)’ using SDK: ‘MacOSX11.3.sdk’ clang++ -arch x86_64 -std=gnu++17 -I"/Library/Frameworks/R.framework/Resources/include" -DNDEBUG -I'/Library/Frameworks/R.framework/Versions/4.3-x86_64/Resources/library/Rcpp/include' -I/opt/R/x86_64/include -fPIC -falign-functions=64 -Wall -g -O2 -c RcppExports.cpp -o RcppExports.o clang++ -arch x86_64 -std=gnu++17 -I"/Library/Frameworks/R.framework/Resources/include" -DNDEBUG -I'/Library/Frameworks/R.framework/Versions/4.3-x86_64/Resources/library/Rcpp/include' -I/opt/R/x86_64/include -fPIC -falign-functions=64 -Wall -g -O2 -c bezier.cpp -o bezier.o clang++ -arch x86_64 -std=gnu++17 -dynamiclib -Wl,-headerpad_max_install_names -undefined dynamic_lookup -single_module -multiply_defined suppress -L/Library/Frameworks/R.framework/Resources/lib -L/opt/R/x86_64/lib -o amplican.so RcppExports.o bezier.o -F/Library/Frameworks/R.framework/.. -framework R -Wl,-framework -Wl,CoreFoundation installing to /Library/Frameworks/R.framework/Versions/4.3-x86_64/Resources/library/00LOCK-amplican/00new/amplican/libs ** R ** inst ** byte-compile and prepare package for lazy loading ** help *** installing help indices ** building package indices ** installing vignettes ** testing if installed package can be loaded from temporary location ** checking absolute paths in shared objects and dynamic libraries ** testing if installed package can be loaded from final location ** testing if installed package keeps a record of temporary installation path * DONE (amplican)
amplican.Rcheck/tests/testthat.Rout
R version 4.3.1 (2023-06-16) -- "Beagle Scouts"
Copyright (C) 2023 The R Foundation for Statistical Computing
Platform: x86_64-apple-darwin20 (64-bit)
R is free software and comes with ABSOLUTELY NO WARRANTY.
You are welcome to redistribute it under certain conditions.
Type 'license()' or 'licence()' for distribution details.
R is a collaborative project with many contributors.
Type 'contributors()' for more information and
'citation()' on how to cite R or R packages in publications.
Type 'demo()' for some demos, 'help()' for on-line help, or
'help.start()' for an HTML browser interface to help.
Type 'q()' to quit R.
> library(testthat)
> library(amplican)
Loading required package: BiocGenerics
Attaching package: 'BiocGenerics'
The following objects are masked from 'package:stats':
IQR, mad, sd, var, xtabs
The following objects are masked from 'package:base':
Filter, Find, Map, Position, Reduce, anyDuplicated, aperm, append,
as.data.frame, basename, cbind, colnames, dirname, do.call,
duplicated, eval, evalq, get, grep, grepl, intersect, is.unsorted,
lapply, mapply, match, mget, order, paste, pmax, pmax.int, pmin,
pmin.int, rank, rbind, rownames, sapply, setdiff, sort, table,
tapply, union, unique, unsplit, which.max, which.min
Loading required package: Biostrings
Loading required package: S4Vectors
Loading required package: stats4
Attaching package: 'S4Vectors'
The following object is masked from 'package:utils':
findMatches
The following objects are masked from 'package:base':
I, expand.grid, unname
Loading required package: IRanges
Loading required package: XVector
Loading required package: GenomeInfoDb
Attaching package: 'Biostrings'
The following object is masked from 'package:base':
strsplit
Loading required package: data.table
Attaching package: 'data.table'
The following object is masked from 'package:IRanges':
shift
The following objects are masked from 'package:S4Vectors':
first, second
Please consider supporting this software by citing:
Labun et al. 2019
Accurate analysis of genuine CRISPR editing events with ampliCan.
Genome Res. 2019 Mar 8
doi: 10.1101/gr.244293.118
>
> test_check("amplican")
[ FAIL 0 | WARN 1 | SKIP 0 | PASS 57 ]
[ FAIL 0 | WARN 1 | SKIP 0 | PASS 57 ]
>
> proc.time()
user system elapsed
47.433 2.702 64.315
amplican.Rcheck/amplican-Ex.timings
| name | user | system | elapsed | |
| AlignmentsExperimentSet-class | 2.330 | 0.083 | 3.069 | |
| amplicanAlign | 13.373 | 1.300 | 18.966 | |
| amplicanConsensus | 0.237 | 0.006 | 0.337 | |
| amplicanFilter | 0.045 | 0.019 | 0.149 | |
| amplicanMap | 0.679 | 0.076 | 0.978 | |
| amplicanNormalize | 0.063 | 0.010 | 0.098 | |
| amplicanOverlap | 0.036 | 0.006 | 0.054 | |
| amplicanPipeline | 11.351 | 0.721 | 17.127 | |
| amplicanReport | 0.029 | 0.055 | 0.143 | |
| amplicanSummarize | 0.032 | 0.006 | 0.050 | |
| amplican_print_reads | 0.592 | 0.012 | 0.847 | |
| assignedCount | 0.085 | 0.003 | 0.147 | |
| barcodeData-set | 0.043 | 0.002 | 0.064 | |
| barcodeData | 0.046 | 0.002 | 0.060 | |
| comb_along | 0.059 | 0.016 | 0.114 | |
| experimentData-set | 0.044 | 0.002 | 0.066 | |
| experimentData | 0.049 | 0.005 | 0.066 | |
| extractEvents | 6.345 | 0.108 | 8.922 | |
| findEOP | 0.007 | 0.004 | 0.012 | |
| findLQR | 0.007 | 0.002 | 0.008 | |
| findPD | 0.007 | 0.004 | 0.012 | |
| fwdReads-set | 0.042 | 0.001 | 0.053 | |
| fwdReads | 0.814 | 0.013 | 1.066 | |
| fwdReadsType-set | 0.043 | 0.002 | 0.063 | |
| fwdReadsType | 0.041 | 0.002 | 0.060 | |
| geom_bezier | 0.732 | 0.020 | 1.104 | |
| lookupAlignment | 0.616 | 0.012 | 0.845 | |
| metaplot_deletions | 0.440 | 0.010 | 0.604 | |
| metaplot_insertions | 0.676 | 0.012 | 0.956 | |
| metaplot_mismatches | 0.662 | 0.010 | 0.876 | |
| plot_cuts | 0.623 | 0.009 | 0.858 | |
| plot_deletions | 0.479 | 0.007 | 0.658 | |
| plot_height | 0.001 | 0.001 | 0.004 | |
| plot_heterogeneity | 0.648 | 0.006 | 0.887 | |
| plot_insertions | 0.940 | 0.008 | 1.232 | |
| plot_mismatches | 1.021 | 0.008 | 1.329 | |
| plot_variants | 1.520 | 0.013 | 2.057 | |
| readCounts-set | 0.108 | 0.002 | 0.142 | |
| readCounts | 0.043 | 0.002 | 0.056 | |
| rveReads-set | 0.045 | 0.002 | 0.058 | |
| rveReads | 0.821 | 0.009 | 1.110 | |
| rveReadsType-set | 0.044 | 0.001 | 0.054 | |
| rveReadsType | 0.042 | 0.002 | 0.055 | |
| unassignedCount | 0.041 | 0.001 | 0.052 | |
| unassignedData-set | 0.044 | 0.001 | 0.057 | |
| unassignedData | 0.047 | 0.003 | 0.062 | |
| writeAlignments | 0.083 | 0.003 | 0.105 | |